BEGIN:VCALENDAR
VERSION:2.0
PRODID:-//Angelus Theatre - ECPv6.15.13//NONSGML v1.0//EN
CALSCALE:GREGORIAN
METHOD:PUBLISH
X-ORIGINAL-URL:https://angelustheatre.com
X-WR-CALDESC:Events for Angelus Theatre
REFRESH-INTERVAL;VALUE=DURATION:PT1H
X-Robots-Tag:noindex
X-PUBLISHED-TTL:PT1H
BEGIN:VTIMEZONE
TZID:America/Denver
BEGIN:DAYLIGHT
TZOFFSETFROM:-0700
TZOFFSETTO:-0600
TZNAME:MDT
DTSTART:20230312T090000
END:DAYLIGHT
BEGIN:STANDARD
TZOFFSETFROM:-0600
TZOFFSETTO:-0700
TZNAME:MST
DTSTART:20231105T080000
END:STANDARD
BEGIN:DAYLIGHT
TZOFFSETFROM:-0700
TZOFFSETTO:-0600
TZNAME:MDT
DTSTART:20240310T090000
END:DAYLIGHT
BEGIN:STANDARD
TZOFFSETFROM:-0600
TZOFFSETTO:-0700
TZNAME:MST
DTSTART:20241103T080000
END:STANDARD
BEGIN:DAYLIGHT
TZOFFSETFROM:-0700
TZOFFSETTO:-0600
TZNAME:MDT
DTSTART:20250309T090000
END:DAYLIGHT
BEGIN:STANDARD
TZOFFSETFROM:-0600
TZOFFSETTO:-0700
TZNAME:MST
DTSTART:20251102T080000
END:STANDARD
END:VTIMEZONE
BEGIN:VEVENT
DTSTART;TZID=America/Denver:20240603T130000
DTEND;TZID=America/Denver:20240603T143000
DTSTAMP:20260422T091150
CREATED:20240223T032536Z
LAST-MODIFIED:20240223T032536Z
UID:10006745-1717419600-1717425000@angelustheatre.com
SUMMARY:Great Hall Youth Theatre
DESCRIPTION:Go to https://greathall.live/youth/ for more information about youth theatre classes.
URL:https://angelustheatre.com/event/great-hall-youth-theatre-9/2024-06-03/
LOCATION:Angelus Theatre\, 165 N Main\, Spanish Fork\, UT\, 84660\, United States
CATEGORIES:Classes
ORGANIZER;CN="Great Hall Theatrical":MAILTO:greathalltheatrical@gmail.com
GEO:40.1119867;-111.6552508
X-APPLE-STRUCTURED-LOCATION;VALUE=URI;X-ADDRESS=Angelus Theatre 165 N Main Spanish Fork UT 84660 United States;X-APPLE-RADIUS=500;X-TITLE=165 N Main:geo:-111.6552508,40.1119867
END:VEVENT
BEGIN:VEVENT
DTSTART;TZID=America/Denver:20240602T150000
DTEND;TZID=America/Denver:20240602T170000
DTSTAMP:20260422T091150
CREATED:20190402T041155Z
LAST-MODIFIED:20190402T041547Z
UID:10000357-1717340400-1717347600@angelustheatre.com
SUMMARY:Grace Lutheran Bible Study
DESCRIPTION:SPANISH FORK BIBLE STUDY – \nPastor Anthony Masinelli. \n3pm – 5pm every Sunday.  Join us for bible study at the Angelus Theater in Spanish Fork (165 N. Main St).  Current study is the book of Romans.
URL:https://angelustheatre.com/event/grace-lutheran-bible-study/2024-06-02/
LOCATION:Angelus Theatre\, 165 N Main\, Spanish Fork\, UT\, 84660\, United States
ATTACH;FMTTYPE=image/jpeg:https://angelustheatre.com/wp-content/uploads/2019/04/Grace-Lutheran.jpg
GEO:40.1119867;-111.6552508
X-APPLE-STRUCTURED-LOCATION;VALUE=URI;X-ADDRESS=Angelus Theatre 165 N Main Spanish Fork UT 84660 United States;X-APPLE-RADIUS=500;X-TITLE=165 N Main:geo:-111.6552508,40.1119867
END:VEVENT
BEGIN:VEVENT
DTSTART;TZID=America/Denver:20240602T100000
DTEND;TZID=America/Denver:20240602T120000
DTSTAMP:20260422T091150
CREATED:20170412T212402Z
LAST-MODIFIED:20210309T230031Z
UID:10000766-1717322400-1717329600@angelustheatre.com
SUMMARY:Utah Valley Church
DESCRIPTION:Utah Valley Church is a non-denominational Christian church. We meet each Sunday at the Angelus Theatre. Cocoa and coffee are served at 10:00 a.m. and the service begins at 10:30 a.m. Visit our website to find out more or call us at (385) 220-2624.
URL:https://angelustheatre.com/event/utah-valley-church-2/2024-06-02/
LOCATION:Angelus Theatre\, 165 N Main\, Spanish Fork\, UT\, 84660\, United States
ATTACH;FMTTYPE=image/png:https://angelustheatre.com/wp-content/uploads/2017/04/A-UVC.png
GEO:40.1119867;-111.6552508
X-APPLE-STRUCTURED-LOCATION;VALUE=URI;X-ADDRESS=Angelus Theatre 165 N Main Spanish Fork UT 84660 United States;X-APPLE-RADIUS=500;X-TITLE=165 N Main:geo:-111.6552508,40.1119867
END:VEVENT
BEGIN:VEVENT
DTSTART;TZID=America/Denver:20240601T180000
DTEND;TZID=America/Denver:20240601T210000
DTSTAMP:20260422T091150
CREATED:20240208T185225Z
LAST-MODIFIED:20240220T023729Z
UID:10006643-1717264800-1717275600@angelustheatre.com
SUMMARY:Backyard Children's Theatre Show
DESCRIPTION:TBA
URL:https://angelustheatre.com/event/backyard-childrens-theatre-show/2024-06-01/
LOCATION:Angelus Theatre\, 165 N Main\, Spanish Fork\, UT\, 84660\, United States
ATTACH;FMTTYPE=image/png:https://angelustheatre.com/wp-content/uploads/2020/01/Lynette-Angel-Alone.png
ORGANIZER;CN="Paradox Entertainment":MAILTO:angelustheatre@gmail.com
GEO:40.1119867;-111.6552508
X-APPLE-STRUCTURED-LOCATION;VALUE=URI;X-ADDRESS=Angelus Theatre 165 N Main Spanish Fork UT 84660 United States;X-APPLE-RADIUS=500;X-TITLE=165 N Main:geo:-111.6552508,40.1119867
END:VEVENT
BEGIN:VEVENT
DTSTART;TZID=America/Denver:20240601T090000
DTEND;TZID=America/Denver:20240601T160000
DTSTAMP:20260422T091150
CREATED:20240117T231509Z
LAST-MODIFIED:20240117T231509Z
UID:10006015-1717232400-1717257600@angelustheatre.com
SUMMARY:Great Hall Rehearsal | Lady of Sherwood
DESCRIPTION:
URL:https://angelustheatre.com/event/great-hall-rehearsal-lady-of-sherwood/2024-06-01/
LOCATION:Angelus Theatre\, 165 N Main\, Spanish Fork\, UT\, 84660\, United States
ORGANIZER;CN="Paradox Entertainment":MAILTO:angelustheatre@gmail.com
GEO:40.1119867;-111.6552508
X-APPLE-STRUCTURED-LOCATION;VALUE=URI;X-ADDRESS=Angelus Theatre 165 N Main Spanish Fork UT 84660 United States;X-APPLE-RADIUS=500;X-TITLE=165 N Main:geo:-111.6552508,40.1119867
END:VEVENT
BEGIN:VEVENT
DTSTART;TZID=America/Denver:20240531T180000
DTEND;TZID=America/Denver:20240531T220000
DTSTAMP:20260422T091150
CREATED:20240117T231509Z
LAST-MODIFIED:20240117T231509Z
UID:10006014-1717178400-1717192800@angelustheatre.com
SUMMARY:Great Hall Rehearsal | Lady of Sherwood
DESCRIPTION:
URL:https://angelustheatre.com/event/great-hall-rehearsal-lady-of-sherwood/2024-05-31/
LOCATION:Angelus Theatre\, 165 N Main\, Spanish Fork\, UT\, 84660\, United States
ORGANIZER;CN="Paradox Entertainment":MAILTO:angelustheatre@gmail.com
GEO:40.1119867;-111.6552508
X-APPLE-STRUCTURED-LOCATION;VALUE=URI;X-ADDRESS=Angelus Theatre 165 N Main Spanish Fork UT 84660 United States;X-APPLE-RADIUS=500;X-TITLE=165 N Main:geo:-111.6552508,40.1119867
END:VEVENT
BEGIN:VEVENT
DTSTART;TZID=America/Denver:20240531T160000
DTEND;TZID=America/Denver:20240531T180000
DTSTAMP:20260422T091150
CREATED:20240206T005155Z
LAST-MODIFIED:20240206T005353Z
UID:10006634-1717171200-1717178400@angelustheatre.com
SUMMARY:Great Hall Youth Theatre
DESCRIPTION:Go to https://greathall.live/youth/ for more information about youth theatre classes.
URL:https://angelustheatre.com/event/great-hall-youth-theatre-3-3/2024-05-31/
LOCATION:Angelus Theatre\, 165 N Main\, Spanish Fork\, UT\, 84660\, United States
CATEGORIES:Classes
ORGANIZER;CN="Great Hall Theatrical":MAILTO:greathalltheatrical@gmail.com
GEO:40.1119867;-111.6552508
X-APPLE-STRUCTURED-LOCATION;VALUE=URI;X-ADDRESS=Angelus Theatre 165 N Main Spanish Fork UT 84660 United States;X-APPLE-RADIUS=500;X-TITLE=165 N Main:geo:-111.6552508,40.1119867
END:VEVENT
BEGIN:VEVENT
DTSTART;TZID=America/Denver:20240531T140000
DTEND;TZID=America/Denver:20240531T153000
DTSTAMP:20260422T091150
CREATED:20240221T204728Z
LAST-MODIFIED:20240221T204728Z
UID:10006661-1717164000-1717169400@angelustheatre.com
SUMMARY:Great Hall Youth Theatre
DESCRIPTION:Go to https://greathall.live/youth/ for more information about youth theatre classes.
URL:https://angelustheatre.com/event/great-hall-youth-theatre-3/2024-05-31/
LOCATION:Angelus Theatre\, 165 N Main\, Spanish Fork\, UT\, 84660\, United States
CATEGORIES:Classes
ORGANIZER;CN="Great Hall Theatrical":MAILTO:greathalltheatrical@gmail.com
GEO:40.1119867;-111.6552508
X-APPLE-STRUCTURED-LOCATION;VALUE=URI;X-ADDRESS=Angelus Theatre 165 N Main Spanish Fork UT 84660 United States;X-APPLE-RADIUS=500;X-TITLE=165 N Main:geo:-111.6552508,40.1119867
END:VEVENT
BEGIN:VEVENT
DTSTART;TZID=America/Denver:20240530T180000
DTEND;TZID=America/Denver:20240530T220000
DTSTAMP:20260422T091150
CREATED:20240117T231509Z
LAST-MODIFIED:20240117T231509Z
UID:10006013-1717092000-1717106400@angelustheatre.com
SUMMARY:Great Hall Rehearsal | Lady of Sherwood
DESCRIPTION:
URL:https://angelustheatre.com/event/great-hall-rehearsal-lady-of-sherwood/2024-05-30/
LOCATION:Angelus Theatre\, 165 N Main\, Spanish Fork\, UT\, 84660\, United States
ORGANIZER;CN="Paradox Entertainment":MAILTO:angelustheatre@gmail.com
GEO:40.1119867;-111.6552508
X-APPLE-STRUCTURED-LOCATION;VALUE=URI;X-ADDRESS=Angelus Theatre 165 N Main Spanish Fork UT 84660 United States;X-APPLE-RADIUS=500;X-TITLE=165 N Main:geo:-111.6552508,40.1119867
END:VEVENT
BEGIN:VEVENT
DTSTART;TZID=America/Denver:20240530T160000
DTEND;TZID=America/Denver:20240530T173000
DTSTAMP:20260422T091150
CREATED:20240206T005641Z
LAST-MODIFIED:20240206T005642Z
UID:10006613-1717084800-1717090200@angelustheatre.com
SUMMARY:Great Hall Youth Theatre
DESCRIPTION:Go to https://greathall.live/youth/ for more information about youth theatre classes.
URL:https://angelustheatre.com/event/great-hall-youth-theatre-3-2-2/2024-05-30/
LOCATION:Angelus Theatre\, 165 N Main\, Spanish Fork\, UT\, 84660\, United States
CATEGORIES:Classes
ORGANIZER;CN="Great Hall Theatrical":MAILTO:greathalltheatrical@gmail.com
GEO:40.1119867;-111.6552508
X-APPLE-STRUCTURED-LOCATION;VALUE=URI;X-ADDRESS=Angelus Theatre 165 N Main Spanish Fork UT 84660 United States;X-APPLE-RADIUS=500;X-TITLE=165 N Main:geo:-111.6552508,40.1119867
END:VEVENT
BEGIN:VEVENT
DTSTART;TZID=America/Denver:20240529T180000
DTEND;TZID=America/Denver:20240529T220000
DTSTAMP:20260422T091150
CREATED:20240117T231509Z
LAST-MODIFIED:20240117T231509Z
UID:10006012-1717005600-1717020000@angelustheatre.com
SUMMARY:Great Hall Rehearsal | Lady of Sherwood
DESCRIPTION:
URL:https://angelustheatre.com/event/great-hall-rehearsal-lady-of-sherwood/2024-05-29/
LOCATION:Angelus Theatre\, 165 N Main\, Spanish Fork\, UT\, 84660\, United States
ORGANIZER;CN="Paradox Entertainment":MAILTO:angelustheatre@gmail.com
GEO:40.1119867;-111.6552508
X-APPLE-STRUCTURED-LOCATION;VALUE=URI;X-ADDRESS=Angelus Theatre 165 N Main Spanish Fork UT 84660 United States;X-APPLE-RADIUS=500;X-TITLE=165 N Main:geo:-111.6552508,40.1119867
END:VEVENT
BEGIN:VEVENT
DTSTART;TZID=America/Denver:20240529T160000
DTEND;TZID=America/Denver:20240529T180000
DTSTAMP:20260422T091150
CREATED:20240206T003424Z
LAST-MODIFIED:20240206T003424Z
UID:10006527-1716998400-1717005600@angelustheatre.com
SUMMARY:Great Hall Youth Theatre
DESCRIPTION:Go to https://greathall.live/youth/ for more information about youth theatre classes.
URL:https://angelustheatre.com/event/great-hall-youth-theatre-2/2024-05-29/
LOCATION:Angelus Theatre\, 165 N Main\, Spanish Fork\, UT\, 84660\, United States
CATEGORIES:Classes
ORGANIZER;CN="Great Hall Theatrical":MAILTO:greathalltheatrical@gmail.com
GEO:40.1119867;-111.6552508
X-APPLE-STRUCTURED-LOCATION;VALUE=URI;X-ADDRESS=Angelus Theatre 165 N Main Spanish Fork UT 84660 United States;X-APPLE-RADIUS=500;X-TITLE=165 N Main:geo:-111.6552508,40.1119867
END:VEVENT
BEGIN:VEVENT
DTSTART;TZID=America/Denver:20240528T180000
DTEND;TZID=America/Denver:20240528T220000
DTSTAMP:20260422T091150
CREATED:20240117T231509Z
LAST-MODIFIED:20240117T231509Z
UID:10006011-1716919200-1716933600@angelustheatre.com
SUMMARY:Great Hall Rehearsal | Lady of Sherwood
DESCRIPTION:
URL:https://angelustheatre.com/event/great-hall-rehearsal-lady-of-sherwood/2024-05-28/
LOCATION:Angelus Theatre\, 165 N Main\, Spanish Fork\, UT\, 84660\, United States
ORGANIZER;CN="Paradox Entertainment":MAILTO:angelustheatre@gmail.com
GEO:40.1119867;-111.6552508
X-APPLE-STRUCTURED-LOCATION;VALUE=URI;X-ADDRESS=Angelus Theatre 165 N Main Spanish Fork UT 84660 United States;X-APPLE-RADIUS=500;X-TITLE=165 N Main:geo:-111.6552508,40.1119867
END:VEVENT
BEGIN:VEVENT
DTSTART;TZID=America/Denver:20240528T160000
DTEND;TZID=America/Denver:20240528T173000
DTSTAMP:20260422T091150
CREATED:20240206T000240Z
LAST-MODIFIED:20240206T003837Z
UID:10006504-1716912000-1716917400@angelustheatre.com
SUMMARY:Great Hall Youth Theatre
DESCRIPTION:Go to https://greathall.live/youth/ for more information about youth theatre classes.
URL:https://angelustheatre.com/event/great-hall-youth-theatre/2024-05-28/
LOCATION:Angelus Theatre\, 165 N Main\, Spanish Fork\, UT\, 84660\, United States
CATEGORIES:Classes
ORGANIZER;CN="Great Hall Theatrical":MAILTO:greathalltheatrical@gmail.com
GEO:40.1119867;-111.6552508
X-APPLE-STRUCTURED-LOCATION;VALUE=URI;X-ADDRESS=Angelus Theatre 165 N Main Spanish Fork UT 84660 United States;X-APPLE-RADIUS=500;X-TITLE=165 N Main:geo:-111.6552508,40.1119867
END:VEVENT
BEGIN:VEVENT
DTSTART;TZID=America/Denver:20240527T180000
DTEND;TZID=America/Denver:20240527T220000
DTSTAMP:20260422T091150
CREATED:20240117T231509Z
LAST-MODIFIED:20240117T231509Z
UID:10006010-1716832800-1716847200@angelustheatre.com
SUMMARY:Great Hall Rehearsal | Lady of Sherwood
DESCRIPTION:
URL:https://angelustheatre.com/event/great-hall-rehearsal-lady-of-sherwood/2024-05-27/
LOCATION:Angelus Theatre\, 165 N Main\, Spanish Fork\, UT\, 84660\, United States
ORGANIZER;CN="Paradox Entertainment":MAILTO:angelustheatre@gmail.com
GEO:40.1119867;-111.6552508
X-APPLE-STRUCTURED-LOCATION;VALUE=URI;X-ADDRESS=Angelus Theatre 165 N Main Spanish Fork UT 84660 United States;X-APPLE-RADIUS=500;X-TITLE=165 N Main:geo:-111.6552508,40.1119867
END:VEVENT
BEGIN:VEVENT
DTSTART;TZID=America/Denver:20240527T160000
DTEND;TZID=America/Denver:20240527T180000
DTSTAMP:20260422T091150
CREATED:20240206T004519Z
LAST-MODIFIED:20240206T004519Z
UID:10006592-1716825600-1716832800@angelustheatre.com
SUMMARY:Great Hall Youth Theatre
DESCRIPTION:Go to https://greathall.live/youth/ for more information about youth theatre classes.
URL:https://angelustheatre.com/event/great-hall-youth-theatre-5/2024-05-27/
LOCATION:Angelus Theatre\, 165 N Main\, Spanish Fork\, UT\, 84660\, United States
CATEGORIES:Classes
ORGANIZER;CN="Great Hall Theatrical":MAILTO:greathalltheatrical@gmail.com
GEO:40.1119867;-111.6552508
X-APPLE-STRUCTURED-LOCATION;VALUE=URI;X-ADDRESS=Angelus Theatre 165 N Main Spanish Fork UT 84660 United States;X-APPLE-RADIUS=500;X-TITLE=165 N Main:geo:-111.6552508,40.1119867
END:VEVENT
BEGIN:VEVENT
DTSTART;TZID=America/Denver:20240527T140000
DTEND;TZID=America/Denver:20240527T153000
DTSTAMP:20260422T091150
CREATED:20240223T032403Z
LAST-MODIFIED:20240223T032403Z
UID:10006744-1716818400-1716823800@angelustheatre.com
SUMMARY:Great Hall Youth Theatre
DESCRIPTION:Go to https://greathall.live/youth/ for more information about youth theatre classes.
URL:https://angelustheatre.com/event/great-hall-youth-theatre-8/2024-05-27/
LOCATION:Angelus Theatre\, 165 N Main\, Spanish Fork\, UT\, 84660\, United States
CATEGORIES:Classes
ORGANIZER;CN="Great Hall Theatrical":MAILTO:greathalltheatrical@gmail.com
GEO:40.1119867;-111.6552508
X-APPLE-STRUCTURED-LOCATION;VALUE=URI;X-ADDRESS=Angelus Theatre 165 N Main Spanish Fork UT 84660 United States;X-APPLE-RADIUS=500;X-TITLE=165 N Main:geo:-111.6552508,40.1119867
END:VEVENT
BEGIN:VEVENT
DTSTART;TZID=America/Denver:20240526T150000
DTEND;TZID=America/Denver:20240526T170000
DTSTAMP:20260422T091150
CREATED:20190402T041155Z
LAST-MODIFIED:20190402T041547Z
UID:10000356-1716735600-1716742800@angelustheatre.com
SUMMARY:Grace Lutheran Bible Study
DESCRIPTION:SPANISH FORK BIBLE STUDY – \nPastor Anthony Masinelli. \n3pm – 5pm every Sunday.  Join us for bible study at the Angelus Theater in Spanish Fork (165 N. Main St).  Current study is the book of Romans.
URL:https://angelustheatre.com/event/grace-lutheran-bible-study/2024-05-26/
LOCATION:Angelus Theatre\, 165 N Main\, Spanish Fork\, UT\, 84660\, United States
ATTACH;FMTTYPE=image/jpeg:https://angelustheatre.com/wp-content/uploads/2019/04/Grace-Lutheran.jpg
GEO:40.1119867;-111.6552508
X-APPLE-STRUCTURED-LOCATION;VALUE=URI;X-ADDRESS=Angelus Theatre 165 N Main Spanish Fork UT 84660 United States;X-APPLE-RADIUS=500;X-TITLE=165 N Main:geo:-111.6552508,40.1119867
END:VEVENT
BEGIN:VEVENT
DTSTART;TZID=America/Denver:20240526T100000
DTEND;TZID=America/Denver:20240526T120000
DTSTAMP:20260422T091150
CREATED:20170412T212402Z
LAST-MODIFIED:20210309T230031Z
UID:10000765-1716717600-1716724800@angelustheatre.com
SUMMARY:Utah Valley Church
DESCRIPTION:Utah Valley Church is a non-denominational Christian church. We meet each Sunday at the Angelus Theatre. Cocoa and coffee are served at 10:00 a.m. and the service begins at 10:30 a.m. Visit our website to find out more or call us at (385) 220-2624.
URL:https://angelustheatre.com/event/utah-valley-church-2/2024-05-26/
LOCATION:Angelus Theatre\, 165 N Main\, Spanish Fork\, UT\, 84660\, United States
ATTACH;FMTTYPE=image/png:https://angelustheatre.com/wp-content/uploads/2017/04/A-UVC.png
GEO:40.1119867;-111.6552508
X-APPLE-STRUCTURED-LOCATION;VALUE=URI;X-ADDRESS=Angelus Theatre 165 N Main Spanish Fork UT 84660 United States;X-APPLE-RADIUS=500;X-TITLE=165 N Main:geo:-111.6552508,40.1119867
END:VEVENT
BEGIN:VEVENT
DTSTART;TZID=America/Denver:20240525T190000
DTEND;TZID=America/Denver:20240525T210000
DTSTAMP:20260422T091150
CREATED:20240411T201741Z
LAST-MODIFIED:20240419T185043Z
UID:10006934-1716663600-1716670800@angelustheatre.com
SUMMARY:EJ Comedy Show
DESCRIPTION:
URL:https://angelustheatre.com/event/ej-comedy-show/
LOCATION:Angelus Theatre\, 165 N Main\, Spanish Fork\, UT\, 84660\, United States
ATTACH;FMTTYPE=image/png:https://angelustheatre.com/wp-content/uploads/2024/04/IMG_1967.png
ORGANIZER;CN="Paradox Entertainment":MAILTO:angelustheatre@gmail.com
GEO:40.1119867;-111.6552508
X-APPLE-STRUCTURED-LOCATION;VALUE=URI;X-ADDRESS=Angelus Theatre 165 N Main Spanish Fork UT 84660 United States;X-APPLE-RADIUS=500;X-TITLE=165 N Main:geo:-111.6552508,40.1119867
END:VEVENT
BEGIN:VEVENT
DTSTART;TZID=America/Denver:20240525T090000
DTEND;TZID=America/Denver:20240525T160000
DTSTAMP:20260422T091150
CREATED:20240117T231509Z
LAST-MODIFIED:20240117T231509Z
UID:10006009-1716627600-1716652800@angelustheatre.com
SUMMARY:Great Hall Rehearsal | Lady of Sherwood
DESCRIPTION:
URL:https://angelustheatre.com/event/great-hall-rehearsal-lady-of-sherwood/2024-05-25/
LOCATION:Angelus Theatre\, 165 N Main\, Spanish Fork\, UT\, 84660\, United States
ORGANIZER;CN="Paradox Entertainment":MAILTO:angelustheatre@gmail.com
GEO:40.1119867;-111.6552508
X-APPLE-STRUCTURED-LOCATION;VALUE=URI;X-ADDRESS=Angelus Theatre 165 N Main Spanish Fork UT 84660 United States;X-APPLE-RADIUS=500;X-TITLE=165 N Main:geo:-111.6552508,40.1119867
END:VEVENT
BEGIN:VEVENT
DTSTART;TZID=America/Denver:20240524T183000
DTEND;TZID=America/Denver:20240524T220000
DTSTAMP:20260422T091150
CREATED:20240117T231509Z
LAST-MODIFIED:20240117T231509Z
UID:10006008-1716575400-1716588000@angelustheatre.com
SUMMARY:Great Hall Rehearsal | Lady of Sherwood
DESCRIPTION:
URL:https://angelustheatre.com/event/great-hall-rehearsal-lady-of-sherwood/2024-05-24/
LOCATION:Angelus Theatre\, 165 N Main\, Spanish Fork\, UT\, 84660\, United States
ORGANIZER;CN="Paradox Entertainment":MAILTO:angelustheatre@gmail.com
GEO:40.1119867;-111.6552508
X-APPLE-STRUCTURED-LOCATION;VALUE=URI;X-ADDRESS=Angelus Theatre 165 N Main Spanish Fork UT 84660 United States;X-APPLE-RADIUS=500;X-TITLE=165 N Main:geo:-111.6552508,40.1119867
END:VEVENT
BEGIN:VEVENT
DTSTART;TZID=America/Denver:20240524T160000
DTEND;TZID=America/Denver:20240524T180000
DTSTAMP:20260422T091150
CREATED:20240206T005155Z
LAST-MODIFIED:20240206T005353Z
UID:10006633-1716566400-1716573600@angelustheatre.com
SUMMARY:Great Hall Youth Theatre
DESCRIPTION:Go to https://greathall.live/youth/ for more information about youth theatre classes.
URL:https://angelustheatre.com/event/great-hall-youth-theatre-3-3/2024-05-24/
LOCATION:Angelus Theatre\, 165 N Main\, Spanish Fork\, UT\, 84660\, United States
CATEGORIES:Classes
ORGANIZER;CN="Great Hall Theatrical":MAILTO:greathalltheatrical@gmail.com
GEO:40.1119867;-111.6552508
X-APPLE-STRUCTURED-LOCATION;VALUE=URI;X-ADDRESS=Angelus Theatre 165 N Main Spanish Fork UT 84660 United States;X-APPLE-RADIUS=500;X-TITLE=165 N Main:geo:-111.6552508,40.1119867
END:VEVENT
BEGIN:VEVENT
DTSTART;TZID=America/Denver:20240524T140000
DTEND;TZID=America/Denver:20240524T153000
DTSTAMP:20260422T091150
CREATED:20240221T204728Z
LAST-MODIFIED:20240221T204728Z
UID:10006660-1716559200-1716564600@angelustheatre.com
SUMMARY:Great Hall Youth Theatre
DESCRIPTION:Go to https://greathall.live/youth/ for more information about youth theatre classes.
URL:https://angelustheatre.com/event/great-hall-youth-theatre-3/2024-05-24/
LOCATION:Angelus Theatre\, 165 N Main\, Spanish Fork\, UT\, 84660\, United States
CATEGORIES:Classes
ORGANIZER;CN="Great Hall Theatrical":MAILTO:greathalltheatrical@gmail.com
GEO:40.1119867;-111.6552508
X-APPLE-STRUCTURED-LOCATION;VALUE=URI;X-ADDRESS=Angelus Theatre 165 N Main Spanish Fork UT 84660 United States;X-APPLE-RADIUS=500;X-TITLE=165 N Main:geo:-111.6552508,40.1119867
END:VEVENT
BEGIN:VEVENT
DTSTART;TZID=America/Denver:20240523T183000
DTEND;TZID=America/Denver:20240523T220000
DTSTAMP:20260422T091150
CREATED:20240117T231509Z
LAST-MODIFIED:20240117T231509Z
UID:10006007-1716489000-1716501600@angelustheatre.com
SUMMARY:Great Hall Rehearsal | Lady of Sherwood
DESCRIPTION:
URL:https://angelustheatre.com/event/great-hall-rehearsal-lady-of-sherwood/2024-05-23/
LOCATION:Angelus Theatre\, 165 N Main\, Spanish Fork\, UT\, 84660\, United States
ORGANIZER;CN="Paradox Entertainment":MAILTO:angelustheatre@gmail.com
GEO:40.1119867;-111.6552508
X-APPLE-STRUCTURED-LOCATION;VALUE=URI;X-ADDRESS=Angelus Theatre 165 N Main Spanish Fork UT 84660 United States;X-APPLE-RADIUS=500;X-TITLE=165 N Main:geo:-111.6552508,40.1119867
END:VEVENT
BEGIN:VEVENT
DTSTART;TZID=America/Denver:20240523T160000
DTEND;TZID=America/Denver:20240523T173000
DTSTAMP:20260422T091150
CREATED:20240206T005641Z
LAST-MODIFIED:20240206T005642Z
UID:10006612-1716480000-1716485400@angelustheatre.com
SUMMARY:Great Hall Youth Theatre
DESCRIPTION:Go to https://greathall.live/youth/ for more information about youth theatre classes.
URL:https://angelustheatre.com/event/great-hall-youth-theatre-3-2-2/2024-05-23/
LOCATION:Angelus Theatre\, 165 N Main\, Spanish Fork\, UT\, 84660\, United States
CATEGORIES:Classes
ORGANIZER;CN="Great Hall Theatrical":MAILTO:greathalltheatrical@gmail.com
GEO:40.1119867;-111.6552508
X-APPLE-STRUCTURED-LOCATION;VALUE=URI;X-ADDRESS=Angelus Theatre 165 N Main Spanish Fork UT 84660 United States;X-APPLE-RADIUS=500;X-TITLE=165 N Main:geo:-111.6552508,40.1119867
END:VEVENT
BEGIN:VEVENT
DTSTART;TZID=America/Denver:20240522T183000
DTEND;TZID=America/Denver:20240522T220000
DTSTAMP:20260422T091150
CREATED:20240117T231509Z
LAST-MODIFIED:20240117T231509Z
UID:10006006-1716402600-1716415200@angelustheatre.com
SUMMARY:Great Hall Rehearsal | Lady of Sherwood
DESCRIPTION:
URL:https://angelustheatre.com/event/great-hall-rehearsal-lady-of-sherwood/2024-05-22/
LOCATION:Angelus Theatre\, 165 N Main\, Spanish Fork\, UT\, 84660\, United States
ORGANIZER;CN="Paradox Entertainment":MAILTO:angelustheatre@gmail.com
GEO:40.1119867;-111.6552508
X-APPLE-STRUCTURED-LOCATION;VALUE=URI;X-ADDRESS=Angelus Theatre 165 N Main Spanish Fork UT 84660 United States;X-APPLE-RADIUS=500;X-TITLE=165 N Main:geo:-111.6552508,40.1119867
END:VEVENT
BEGIN:VEVENT
DTSTART;TZID=America/Denver:20240522T160000
DTEND;TZID=America/Denver:20240522T180000
DTSTAMP:20260422T091150
CREATED:20240206T003424Z
LAST-MODIFIED:20240206T003424Z
UID:10006526-1716393600-1716400800@angelustheatre.com
SUMMARY:Great Hall Youth Theatre
DESCRIPTION:Go to https://greathall.live/youth/ for more information about youth theatre classes.
URL:https://angelustheatre.com/event/great-hall-youth-theatre-2/2024-05-22/
LOCATION:Angelus Theatre\, 165 N Main\, Spanish Fork\, UT\, 84660\, United States
CATEGORIES:Classes
ORGANIZER;CN="Great Hall Theatrical":MAILTO:greathalltheatrical@gmail.com
GEO:40.1119867;-111.6552508
X-APPLE-STRUCTURED-LOCATION;VALUE=URI;X-ADDRESS=Angelus Theatre 165 N Main Spanish Fork UT 84660 United States;X-APPLE-RADIUS=500;X-TITLE=165 N Main:geo:-111.6552508,40.1119867
END:VEVENT
BEGIN:VEVENT
DTSTART;TZID=America/Denver:20240521T183000
DTEND;TZID=America/Denver:20240521T220000
DTSTAMP:20260422T091150
CREATED:20240117T231509Z
LAST-MODIFIED:20240117T231509Z
UID:10006005-1716316200-1716328800@angelustheatre.com
SUMMARY:Great Hall Rehearsal | Lady of Sherwood
DESCRIPTION:
URL:https://angelustheatre.com/event/great-hall-rehearsal-lady-of-sherwood/2024-05-21/
LOCATION:Angelus Theatre\, 165 N Main\, Spanish Fork\, UT\, 84660\, United States
ORGANIZER;CN="Paradox Entertainment":MAILTO:angelustheatre@gmail.com
GEO:40.1119867;-111.6552508
X-APPLE-STRUCTURED-LOCATION;VALUE=URI;X-ADDRESS=Angelus Theatre 165 N Main Spanish Fork UT 84660 United States;X-APPLE-RADIUS=500;X-TITLE=165 N Main:geo:-111.6552508,40.1119867
END:VEVENT
BEGIN:VEVENT
DTSTART;TZID=America/Denver:20240521T160000
DTEND;TZID=America/Denver:20240521T173000
DTSTAMP:20260422T091150
CREATED:20240206T000240Z
LAST-MODIFIED:20240206T003837Z
UID:10006503-1716307200-1716312600@angelustheatre.com
SUMMARY:Great Hall Youth Theatre
DESCRIPTION:Go to https://greathall.live/youth/ for more information about youth theatre classes.
URL:https://angelustheatre.com/event/great-hall-youth-theatre/2024-05-21/
LOCATION:Angelus Theatre\, 165 N Main\, Spanish Fork\, UT\, 84660\, United States
CATEGORIES:Classes
ORGANIZER;CN="Great Hall Theatrical":MAILTO:greathalltheatrical@gmail.com
GEO:40.1119867;-111.6552508
X-APPLE-STRUCTURED-LOCATION;VALUE=URI;X-ADDRESS=Angelus Theatre 165 N Main Spanish Fork UT 84660 United States;X-APPLE-RADIUS=500;X-TITLE=165 N Main:geo:-111.6552508,40.1119867
END:VEVENT
END:VCALENDAR