BEGIN:VCALENDAR
VERSION:2.0
PRODID:-//Angelus Theatre - ECPv6.15.13//NONSGML v1.0//EN
CALSCALE:GREGORIAN
METHOD:PUBLISH
X-ORIGINAL-URL:https://angelustheatre.com
X-WR-CALDESC:Events for Angelus Theatre
REFRESH-INTERVAL;VALUE=DURATION:PT1H
X-Robots-Tag:noindex
X-PUBLISHED-TTL:PT1H
BEGIN:VTIMEZONE
TZID:America/Denver
BEGIN:DAYLIGHT
TZOFFSETFROM:-0700
TZOFFSETTO:-0600
TZNAME:MDT
DTSTART:20230312T090000
END:DAYLIGHT
BEGIN:STANDARD
TZOFFSETFROM:-0600
TZOFFSETTO:-0700
TZNAME:MST
DTSTART:20231105T080000
END:STANDARD
BEGIN:DAYLIGHT
TZOFFSETFROM:-0700
TZOFFSETTO:-0600
TZNAME:MDT
DTSTART:20240310T090000
END:DAYLIGHT
BEGIN:STANDARD
TZOFFSETFROM:-0600
TZOFFSETTO:-0700
TZNAME:MST
DTSTART:20241103T080000
END:STANDARD
BEGIN:DAYLIGHT
TZOFFSETFROM:-0700
TZOFFSETTO:-0600
TZNAME:MDT
DTSTART:20250309T090000
END:DAYLIGHT
BEGIN:STANDARD
TZOFFSETFROM:-0600
TZOFFSETTO:-0700
TZNAME:MST
DTSTART:20251102T080000
END:STANDARD
END:VTIMEZONE
BEGIN:VEVENT
DTSTART;TZID=America/Denver:20240704T150000
DTEND;TZID=America/Denver:20240704T163000
DTSTAMP:20260421T161341
CREATED:20240627T020834Z
LAST-MODIFIED:20240627T020834Z
UID:10006702-1720105200-1720110600@angelustheatre.com
SUMMARY:Great Hall Youth Theatre
DESCRIPTION:Go here for more information and to sign up for youth theatre classes. \n  \n 
URL:https://angelustheatre.com/event/great-hall-youth-theatre-6-2/2024-07-04/
LOCATION:Angelus Theatre\, 165 N Main\, Spanish Fork\, UT\, 84660\, United States
CATEGORIES:Classes
ATTACH;FMTTYPE=image/jpeg:https://angelustheatre.com/wp-content/uploads/2022/01/Youth.jpg
ORGANIZER;CN="Great Hall Theatrical":MAILTO:greathalltheatrical@gmail.com
GEO:40.1119867;-111.6552508
X-APPLE-STRUCTURED-LOCATION;VALUE=URI;X-ADDRESS=Angelus Theatre 165 N Main Spanish Fork UT 84660 United States;X-APPLE-RADIUS=500;X-TITLE=165 N Main:geo:-111.6552508,40.1119867
END:VEVENT
BEGIN:VEVENT
DTSTART;TZID=America/Denver:20240703T180000
DTEND;TZID=America/Denver:20240703T220000
DTSTAMP:20260421T161341
CREATED:20240627T021311Z
LAST-MODIFIED:20240627T021457Z
UID:10006035-1720029600-1720044000@angelustheatre.com
SUMMARY:Rehearsal for Gerd and the Goose Girl
DESCRIPTION:Rehearsal | The show runs July 8th – 13th (2024) Tickets and info HERE. 
URL:https://angelustheatre.com/event/rehearsal-for-gerd-and-the-goose-girl-3/2024-07-03/
LOCATION:Angelus Theatre\, 165 N Main\, Spanish Fork\, UT\, 84660\, United States
ATTACH;FMTTYPE=image/jpeg:https://angelustheatre.com/wp-content/uploads/2024/06/Gerd-Angelus-Header.jpg
ORGANIZER;CN="Paradox Entertainment":MAILTO:angelustheatre@gmail.com
GEO:40.1119867;-111.6552508
X-APPLE-STRUCTURED-LOCATION;VALUE=URI;X-ADDRESS=Angelus Theatre 165 N Main Spanish Fork UT 84660 United States;X-APPLE-RADIUS=500;X-TITLE=165 N Main:geo:-111.6552508,40.1119867
END:VEVENT
BEGIN:VEVENT
DTSTART;TZID=America/Denver:20240703T150000
DTEND;TZID=America/Denver:20240703T170000
DTSTAMP:20260421T161341
CREATED:20240223T031742Z
LAST-MODIFIED:20240223T031742Z
UID:10006676-1720018800-1720026000@angelustheatre.com
SUMMARY:Great Hall Youth Theatre
DESCRIPTION:Go to https://greathall.live/youth/ for more information about youth theatre classes.
URL:https://angelustheatre.com/event/great-hall-youth-theatre-4/2024-07-03/
LOCATION:Angelus Theatre\, 165 N Main\, Spanish Fork\, UT\, 84660\, United States
CATEGORIES:Classes
ORGANIZER;CN="Great Hall Theatrical":MAILTO:greathalltheatrical@gmail.com
GEO:40.1119867;-111.6552508
X-APPLE-STRUCTURED-LOCATION;VALUE=URI;X-ADDRESS=Angelus Theatre 165 N Main Spanish Fork UT 84660 United States;X-APPLE-RADIUS=500;X-TITLE=165 N Main:geo:-111.6552508,40.1119867
END:VEVENT
BEGIN:VEVENT
DTSTART;TZID=America/Denver:20240702T150000
DTEND;TZID=America/Denver:20240702T163000
DTSTAMP:20260421T161341
CREATED:20240627T020834Z
LAST-MODIFIED:20240627T020834Z
UID:10006701-1719932400-1719937800@angelustheatre.com
SUMMARY:Great Hall Youth Theatre
DESCRIPTION:Go here for more information and to sign up for youth theatre classes. \n  \n 
URL:https://angelustheatre.com/event/great-hall-youth-theatre-6-2/2024-07-02/
LOCATION:Angelus Theatre\, 165 N Main\, Spanish Fork\, UT\, 84660\, United States
CATEGORIES:Classes
ATTACH;FMTTYPE=image/jpeg:https://angelustheatre.com/wp-content/uploads/2022/01/Youth.jpg
ORGANIZER;CN="Great Hall Theatrical":MAILTO:greathalltheatrical@gmail.com
GEO:40.1119867;-111.6552508
X-APPLE-STRUCTURED-LOCATION;VALUE=URI;X-ADDRESS=Angelus Theatre 165 N Main Spanish Fork UT 84660 United States;X-APPLE-RADIUS=500;X-TITLE=165 N Main:geo:-111.6552508,40.1119867
END:VEVENT
BEGIN:VEVENT
DTSTART;TZID=America/Denver:20240702T090000
DTEND;TZID=America/Denver:20240702T220000
DTSTAMP:20260421T161341
CREATED:20240627T021311Z
LAST-MODIFIED:20240627T021457Z
UID:10006034-1719910800-1719957600@angelustheatre.com
SUMMARY:Rehearsal for Gerd and the Goose Girl
DESCRIPTION:Rehearsal | The show runs July 8th – 13th (2024) Tickets and info HERE. 
URL:https://angelustheatre.com/event/rehearsal-for-gerd-and-the-goose-girl-3/2024-07-02/
LOCATION:Angelus Theatre\, 165 N Main\, Spanish Fork\, UT\, 84660\, United States
ATTACH;FMTTYPE=image/jpeg:https://angelustheatre.com/wp-content/uploads/2024/06/Gerd-Angelus-Header.jpg
ORGANIZER;CN="Paradox Entertainment":MAILTO:angelustheatre@gmail.com
GEO:40.1119867;-111.6552508
X-APPLE-STRUCTURED-LOCATION;VALUE=URI;X-ADDRESS=Angelus Theatre 165 N Main Spanish Fork UT 84660 United States;X-APPLE-RADIUS=500;X-TITLE=165 N Main:geo:-111.6552508,40.1119867
END:VEVENT
BEGIN:VEVENT
DTSTART;TZID=America/Denver:20240701T180000
DTEND;TZID=America/Denver:20240701T220000
DTSTAMP:20260421T161341
CREATED:20240627T021311Z
LAST-MODIFIED:20240627T021457Z
UID:10006033-1719856800-1719871200@angelustheatre.com
SUMMARY:Rehearsal for Gerd and the Goose Girl
DESCRIPTION:Rehearsal | The show runs July 8th – 13th (2024) Tickets and info HERE. 
URL:https://angelustheatre.com/event/rehearsal-for-gerd-and-the-goose-girl-3/2024-07-01/
LOCATION:Angelus Theatre\, 165 N Main\, Spanish Fork\, UT\, 84660\, United States
ATTACH;FMTTYPE=image/jpeg:https://angelustheatre.com/wp-content/uploads/2024/06/Gerd-Angelus-Header.jpg
ORGANIZER;CN="Paradox Entertainment":MAILTO:angelustheatre@gmail.com
GEO:40.1119867;-111.6552508
X-APPLE-STRUCTURED-LOCATION;VALUE=URI;X-ADDRESS=Angelus Theatre 165 N Main Spanish Fork UT 84660 United States;X-APPLE-RADIUS=500;X-TITLE=165 N Main:geo:-111.6552508,40.1119867
END:VEVENT
BEGIN:VEVENT
DTSTART;TZID=America/Denver:20240701T150000
DTEND;TZID=America/Denver:20240701T170000
DTSTAMP:20260421T161341
CREATED:20240223T031742Z
LAST-MODIFIED:20240223T031742Z
UID:10006675-1719846000-1719853200@angelustheatre.com
SUMMARY:Great Hall Youth Theatre
DESCRIPTION:Go to https://greathall.live/youth/ for more information about youth theatre classes.
URL:https://angelustheatre.com/event/great-hall-youth-theatre-4/2024-07-01/
LOCATION:Angelus Theatre\, 165 N Main\, Spanish Fork\, UT\, 84660\, United States
CATEGORIES:Classes
ORGANIZER;CN="Great Hall Theatrical":MAILTO:greathalltheatrical@gmail.com
GEO:40.1119867;-111.6552508
X-APPLE-STRUCTURED-LOCATION;VALUE=URI;X-ADDRESS=Angelus Theatre 165 N Main Spanish Fork UT 84660 United States;X-APPLE-RADIUS=500;X-TITLE=165 N Main:geo:-111.6552508,40.1119867
END:VEVENT
BEGIN:VEVENT
DTSTART;TZID=America/Denver:20240701T130000
DTEND;TZID=America/Denver:20240701T143000
DTSTAMP:20260421T161341
CREATED:20240223T032536Z
LAST-MODIFIED:20240223T032536Z
UID:10006749-1719838800-1719844200@angelustheatre.com
SUMMARY:Great Hall Youth Theatre
DESCRIPTION:Go to https://greathall.live/youth/ for more information about youth theatre classes.
URL:https://angelustheatre.com/event/great-hall-youth-theatre-9/2024-07-01/
LOCATION:Angelus Theatre\, 165 N Main\, Spanish Fork\, UT\, 84660\, United States
CATEGORIES:Classes
ORGANIZER;CN="Great Hall Theatrical":MAILTO:greathalltheatrical@gmail.com
GEO:40.1119867;-111.6552508
X-APPLE-STRUCTURED-LOCATION;VALUE=URI;X-ADDRESS=Angelus Theatre 165 N Main Spanish Fork UT 84660 United States;X-APPLE-RADIUS=500;X-TITLE=165 N Main:geo:-111.6552508,40.1119867
END:VEVENT
BEGIN:VEVENT
DTSTART;TZID=America/Denver:20240630T150000
DTEND;TZID=America/Denver:20240630T170000
DTSTAMP:20260421T161341
CREATED:20190402T041155Z
LAST-MODIFIED:20190402T041547Z
UID:10000361-1719759600-1719766800@angelustheatre.com
SUMMARY:Grace Lutheran Bible Study
DESCRIPTION:SPANISH FORK BIBLE STUDY – \nPastor Anthony Masinelli. \n3pm – 5pm every Sunday.  Join us for bible study at the Angelus Theater in Spanish Fork (165 N. Main St).  Current study is the book of Romans.
URL:https://angelustheatre.com/event/grace-lutheran-bible-study/2024-06-30/
LOCATION:Angelus Theatre\, 165 N Main\, Spanish Fork\, UT\, 84660\, United States
ATTACH;FMTTYPE=image/jpeg:https://angelustheatre.com/wp-content/uploads/2019/04/Grace-Lutheran.jpg
GEO:40.1119867;-111.6552508
X-APPLE-STRUCTURED-LOCATION;VALUE=URI;X-ADDRESS=Angelus Theatre 165 N Main Spanish Fork UT 84660 United States;X-APPLE-RADIUS=500;X-TITLE=165 N Main:geo:-111.6552508,40.1119867
END:VEVENT
BEGIN:VEVENT
DTSTART;TZID=America/Denver:20240630T100000
DTEND;TZID=America/Denver:20240630T120000
DTSTAMP:20260421T161341
CREATED:20170412T212402Z
LAST-MODIFIED:20210309T230031Z
UID:10000770-1719741600-1719748800@angelustheatre.com
SUMMARY:Utah Valley Church
DESCRIPTION:Utah Valley Church is a non-denominational Christian church. We meet each Sunday at the Angelus Theatre. Cocoa and coffee are served at 10:00 a.m. and the service begins at 10:30 a.m. Visit our website to find out more or call us at (385) 220-2624.
URL:https://angelustheatre.com/event/utah-valley-church-2/2024-06-30/
LOCATION:Angelus Theatre\, 165 N Main\, Spanish Fork\, UT\, 84660\, United States
ATTACH;FMTTYPE=image/png:https://angelustheatre.com/wp-content/uploads/2017/04/A-UVC.png
GEO:40.1119867;-111.6552508
X-APPLE-STRUCTURED-LOCATION;VALUE=URI;X-ADDRESS=Angelus Theatre 165 N Main Spanish Fork UT 84660 United States;X-APPLE-RADIUS=500;X-TITLE=165 N Main:geo:-111.6552508,40.1119867
END:VEVENT
BEGIN:VEVENT
DTSTART;TZID=America/Denver:20240629T193000
DTEND;TZID=America/Denver:20240629T213000
DTSTAMP:20260421T161341
CREATED:20240208T191157Z
LAST-MODIFIED:20240419T184322Z
UID:10006645-1719689400-1719696600@angelustheatre.com
SUMMARY:E.M. Mini Film Festival
DESCRIPTION:The E + M Club is pleased to announce our 1st Annual Mini Film Festival! We will be showcasing a handful of short films that are being curated and filmed this year. We’re a group of passionate storytellers who are building a community of like-minded creators\, and we’re excited for the chance to share that passion. If you see this early enough and are interested\, please follow the QR code for more information and to join us in producing some of these short films. \nWe hope to see you there. Cheers! \nE + M
URL:https://angelustheatre.com/event/filmfest/
LOCATION:Angelus Theatre\, 165 N Main\, Spanish Fork\, UT\, 84660\, United States
ATTACH;FMTTYPE=image/jpeg:https://angelustheatre.com/wp-content/uploads/2024/02/2024-Film-Fest-poster.jpeg
ORGANIZER;CN="Paradox Entertainment":MAILTO:angelustheatre@gmail.com
GEO:40.1119867;-111.6552508
X-APPLE-STRUCTURED-LOCATION;VALUE=URI;X-ADDRESS=Angelus Theatre 165 N Main Spanish Fork UT 84660 United States;X-APPLE-RADIUS=500;X-TITLE=165 N Main:geo:-111.6552508,40.1119867
END:VEVENT
BEGIN:VEVENT
DTSTART;TZID=America/Denver:20240629T090000
DTEND;TZID=America/Denver:20240629T160000
DTSTAMP:20260421T161341
CREATED:20240627T021311Z
LAST-MODIFIED:20240627T021457Z
UID:10006032-1719651600-1719676800@angelustheatre.com
SUMMARY:Rehearsal for Gerd and the Goose Girl
DESCRIPTION:Rehearsal | The show runs July 8th – 13th (2024) Tickets and info HERE. 
URL:https://angelustheatre.com/event/rehearsal-for-gerd-and-the-goose-girl-3/2024-06-29/
LOCATION:Angelus Theatre\, 165 N Main\, Spanish Fork\, UT\, 84660\, United States
ATTACH;FMTTYPE=image/jpeg:https://angelustheatre.com/wp-content/uploads/2024/06/Gerd-Angelus-Header.jpg
ORGANIZER;CN="Paradox Entertainment":MAILTO:angelustheatre@gmail.com
GEO:40.1119867;-111.6552508
X-APPLE-STRUCTURED-LOCATION;VALUE=URI;X-ADDRESS=Angelus Theatre 165 N Main Spanish Fork UT 84660 United States;X-APPLE-RADIUS=500;X-TITLE=165 N Main:geo:-111.6552508,40.1119867
END:VEVENT
BEGIN:VEVENT
DTSTART;TZID=America/Denver:20240628T180000
DTEND;TZID=America/Denver:20240628T220000
DTSTAMP:20260421T161341
CREATED:20240627T021311Z
LAST-MODIFIED:20240627T021457Z
UID:10006031-1719597600-1719612000@angelustheatre.com
SUMMARY:Rehearsal for Gerd and the Goose Girl
DESCRIPTION:Rehearsal | The show runs July 8th – 13th (2024) Tickets and info HERE. 
URL:https://angelustheatre.com/event/rehearsal-for-gerd-and-the-goose-girl-3/2024-06-28/
LOCATION:Angelus Theatre\, 165 N Main\, Spanish Fork\, UT\, 84660\, United States
ATTACH;FMTTYPE=image/jpeg:https://angelustheatre.com/wp-content/uploads/2024/06/Gerd-Angelus-Header.jpg
ORGANIZER;CN="Paradox Entertainment":MAILTO:angelustheatre@gmail.com
GEO:40.1119867;-111.6552508
X-APPLE-STRUCTURED-LOCATION;VALUE=URI;X-ADDRESS=Angelus Theatre 165 N Main Spanish Fork UT 84660 United States;X-APPLE-RADIUS=500;X-TITLE=165 N Main:geo:-111.6552508,40.1119867
END:VEVENT
BEGIN:VEVENT
DTSTART;TZID=America/Denver:20240628T150000
DTEND;TZID=America/Denver:20240628T170000
DTSTAMP:20260421T161341
CREATED:20240223T031742Z
LAST-MODIFIED:20240223T031742Z
UID:10006674-1719586800-1719594000@angelustheatre.com
SUMMARY:Great Hall Youth Theatre
DESCRIPTION:Go to https://greathall.live/youth/ for more information about youth theatre classes.
URL:https://angelustheatre.com/event/great-hall-youth-theatre-4/2024-06-28/
LOCATION:Angelus Theatre\, 165 N Main\, Spanish Fork\, UT\, 84660\, United States
CATEGORIES:Classes
ORGANIZER;CN="Great Hall Theatrical":MAILTO:greathalltheatrical@gmail.com
GEO:40.1119867;-111.6552508
X-APPLE-STRUCTURED-LOCATION;VALUE=URI;X-ADDRESS=Angelus Theatre 165 N Main Spanish Fork UT 84660 United States;X-APPLE-RADIUS=500;X-TITLE=165 N Main:geo:-111.6552508,40.1119867
END:VEVENT
BEGIN:VEVENT
DTSTART;TZID=America/Denver:20240628T130000
DTEND;TZID=America/Denver:20240628T143000
DTSTAMP:20260421T161341
CREATED:20240223T032153Z
LAST-MODIFIED:20240223T032153Z
UID:10006716-1719579600-1719585000@angelustheatre.com
SUMMARY:Great Hall Youth Theatre
DESCRIPTION:Go to https://greathall.live/youth/ for more information about youth theatre classes.
URL:https://angelustheatre.com/event/great-hall-youth-theatre-7/2024-06-28/
LOCATION:Angelus Theatre\, 165 N Main\, Spanish Fork\, UT\, 84660\, United States
CATEGORIES:Classes
ORGANIZER;CN="Great Hall Theatrical":MAILTO:greathalltheatrical@gmail.com
GEO:40.1119867;-111.6552508
X-APPLE-STRUCTURED-LOCATION;VALUE=URI;X-ADDRESS=Angelus Theatre 165 N Main Spanish Fork UT 84660 United States;X-APPLE-RADIUS=500;X-TITLE=165 N Main:geo:-111.6552508,40.1119867
END:VEVENT
BEGIN:VEVENT
DTSTART;TZID=America/Denver:20240628T100000
DTEND;TZID=America/Denver:20240628T123000
DTSTAMP:20260421T161341
CREATED:20240207T000814Z
LAST-MODIFIED:20240207T000814Z
UID:10006642-1719568800-1719577800@angelustheatre.com
SUMMARY:Ascent co Battle of the Bands
DESCRIPTION:Private Event.
URL:https://angelustheatre.com/event/ascent-co-battle-of-the-bands-3/2024-06-28/
LOCATION:Angelus Theatre\, 165 N Main\, Spanish Fork\, UT\, 84660\, United States
ATTACH;FMTTYPE=image/png:https://angelustheatre.com/wp-content/uploads/2020/01/Lynette-Angel-Alone.png
ORGANIZER;CN="Paradox Entertainment":MAILTO:angelustheatre@gmail.com
GEO:40.1119867;-111.6552508
X-APPLE-STRUCTURED-LOCATION;VALUE=URI;X-ADDRESS=Angelus Theatre 165 N Main Spanish Fork UT 84660 United States;X-APPLE-RADIUS=500;X-TITLE=165 N Main:geo:-111.6552508,40.1119867
END:VEVENT
BEGIN:VEVENT
DTSTART;TZID=America/Denver:20240627T180000
DTEND;TZID=America/Denver:20240627T220000
DTSTAMP:20260421T161341
CREATED:20240627T021311Z
LAST-MODIFIED:20240627T021457Z
UID:10006030-1719511200-1719525600@angelustheatre.com
SUMMARY:Rehearsal for Gerd and the Goose Girl
DESCRIPTION:Rehearsal | The show runs July 8th – 13th (2024) Tickets and info HERE. 
URL:https://angelustheatre.com/event/rehearsal-for-gerd-and-the-goose-girl-3/2024-06-27/
LOCATION:Angelus Theatre\, 165 N Main\, Spanish Fork\, UT\, 84660\, United States
ATTACH;FMTTYPE=image/jpeg:https://angelustheatre.com/wp-content/uploads/2024/06/Gerd-Angelus-Header.jpg
ORGANIZER;CN="Paradox Entertainment":MAILTO:angelustheatre@gmail.com
GEO:40.1119867;-111.6552508
X-APPLE-STRUCTURED-LOCATION;VALUE=URI;X-ADDRESS=Angelus Theatre 165 N Main Spanish Fork UT 84660 United States;X-APPLE-RADIUS=500;X-TITLE=165 N Main:geo:-111.6552508,40.1119867
END:VEVENT
BEGIN:VEVENT
DTSTART;TZID=America/Denver:20240627T150000
DTEND;TZID=America/Denver:20240627T163000
DTSTAMP:20260421T161341
CREATED:20240627T020834Z
LAST-MODIFIED:20240627T020834Z
UID:10006700-1719500400-1719505800@angelustheatre.com
SUMMARY:Great Hall Youth Theatre
DESCRIPTION:Go here for more information and to sign up for youth theatre classes. \n  \n 
URL:https://angelustheatre.com/event/great-hall-youth-theatre-6-2/2024-06-27/
LOCATION:Angelus Theatre\, 165 N Main\, Spanish Fork\, UT\, 84660\, United States
CATEGORIES:Classes
ATTACH;FMTTYPE=image/jpeg:https://angelustheatre.com/wp-content/uploads/2022/01/Youth.jpg
ORGANIZER;CN="Great Hall Theatrical":MAILTO:greathalltheatrical@gmail.com
GEO:40.1119867;-111.6552508
X-APPLE-STRUCTURED-LOCATION;VALUE=URI;X-ADDRESS=Angelus Theatre 165 N Main Spanish Fork UT 84660 United States;X-APPLE-RADIUS=500;X-TITLE=165 N Main:geo:-111.6552508,40.1119867
END:VEVENT
BEGIN:VEVENT
DTSTART;TZID=America/Denver:20240627T130000
DTEND;TZID=America/Denver:20240627T160000
DTSTAMP:20260421T161341
CREATED:20240627T224538Z
LAST-MODIFIED:20240627T224538Z
UID:10006984-1719493200-1719504000@angelustheatre.com
SUMMARY:Take My Death Away Callbacks
DESCRIPTION:
URL:https://angelustheatre.com/event/take-my-death-away-callbacks/
LOCATION:Angelus Theatre\, 165 N Main\, Spanish Fork\, UT\, 84660\, United States
CATEGORIES:Auditions
ATTACH;FMTTYPE=image/jpeg:https://angelustheatre.com/wp-content/uploads/2020/09/Take-My-Death-Away-Poster-2020-3-2.jpg
ORGANIZER;CN="Great Hall Theatrical":MAILTO:greathalltheatrical@gmail.com
GEO:40.1119867;-111.6552508
X-APPLE-STRUCTURED-LOCATION;VALUE=URI;X-ADDRESS=Angelus Theatre 165 N Main Spanish Fork UT 84660 United States;X-APPLE-RADIUS=500;X-TITLE=165 N Main:geo:-111.6552508,40.1119867
END:VEVENT
BEGIN:VEVENT
DTSTART;TZID=America/Denver:20240626T180000
DTEND;TZID=America/Denver:20240626T220000
DTSTAMP:20260421T161341
CREATED:20240117T232542Z
LAST-MODIFIED:20240117T232542Z
UID:10006029-1719424800-1719439200@angelustheatre.com
SUMMARY:Rehearsal for Gerd and the Goose Girl
DESCRIPTION:
URL:https://angelustheatre.com/event/rehearsal-for-gerd-and-the-goose-girl/2024-06-26/
LOCATION:Angelus Theatre\, 165 N Main\, Spanish Fork\, UT\, 84660\, United States
ORGANIZER;CN="Paradox Entertainment":MAILTO:angelustheatre@gmail.com
GEO:40.1119867;-111.6552508
X-APPLE-STRUCTURED-LOCATION;VALUE=URI;X-ADDRESS=Angelus Theatre 165 N Main Spanish Fork UT 84660 United States;X-APPLE-RADIUS=500;X-TITLE=165 N Main:geo:-111.6552508,40.1119867
END:VEVENT
BEGIN:VEVENT
DTSTART;TZID=America/Denver:20240626T150000
DTEND;TZID=America/Denver:20240626T170000
DTSTAMP:20260421T161341
CREATED:20240223T031742Z
LAST-MODIFIED:20240223T031742Z
UID:10006673-1719414000-1719421200@angelustheatre.com
SUMMARY:Great Hall Youth Theatre
DESCRIPTION:Go to https://greathall.live/youth/ for more information about youth theatre classes.
URL:https://angelustheatre.com/event/great-hall-youth-theatre-4/2024-06-26/
LOCATION:Angelus Theatre\, 165 N Main\, Spanish Fork\, UT\, 84660\, United States
CATEGORIES:Classes
ORGANIZER;CN="Great Hall Theatrical":MAILTO:greathalltheatrical@gmail.com
GEO:40.1119867;-111.6552508
X-APPLE-STRUCTURED-LOCATION;VALUE=URI;X-ADDRESS=Angelus Theatre 165 N Main Spanish Fork UT 84660 United States;X-APPLE-RADIUS=500;X-TITLE=165 N Main:geo:-111.6552508,40.1119867
END:VEVENT
BEGIN:VEVENT
DTSTART;TZID=America/Denver:20240625T180000
DTEND;TZID=America/Denver:20240625T220000
DTSTAMP:20260421T161341
CREATED:20240117T232542Z
LAST-MODIFIED:20240117T232542Z
UID:10006028-1719338400-1719352800@angelustheatre.com
SUMMARY:Rehearsal for Gerd and the Goose Girl
DESCRIPTION:
URL:https://angelustheatre.com/event/rehearsal-for-gerd-and-the-goose-girl/2024-06-25/
LOCATION:Angelus Theatre\, 165 N Main\, Spanish Fork\, UT\, 84660\, United States
ORGANIZER;CN="Paradox Entertainment":MAILTO:angelustheatre@gmail.com
GEO:40.1119867;-111.6552508
X-APPLE-STRUCTURED-LOCATION;VALUE=URI;X-ADDRESS=Angelus Theatre 165 N Main Spanish Fork UT 84660 United States;X-APPLE-RADIUS=500;X-TITLE=165 N Main:geo:-111.6552508,40.1119867
END:VEVENT
BEGIN:VEVENT
DTSTART;TZID=America/Denver:20240625T150000
DTEND;TZID=America/Denver:20240625T163000
DTSTAMP:20260421T161341
CREATED:20240223T031957Z
LAST-MODIFIED:20240627T020641Z
UID:10006699-1719327600-1719333000@angelustheatre.com
SUMMARY:Great Hall Youth Theatre
DESCRIPTION:Go here for more information and to sign up for youth theatre classes. \n  \n 
URL:https://angelustheatre.com/event/great-hall-youth-theatre-6/2024-06-25/
LOCATION:Angelus Theatre\, 165 N Main\, Spanish Fork\, UT\, 84660\, United States
CATEGORIES:Classes
ATTACH;FMTTYPE=image/jpeg:https://angelustheatre.com/wp-content/uploads/2022/01/Youth.jpg
ORGANIZER;CN="Great Hall Theatrical":MAILTO:greathalltheatrical@gmail.com
GEO:40.1119867;-111.6552508
X-APPLE-STRUCTURED-LOCATION;VALUE=URI;X-ADDRESS=Angelus Theatre 165 N Main Spanish Fork UT 84660 United States;X-APPLE-RADIUS=500;X-TITLE=165 N Main:geo:-111.6552508,40.1119867
END:VEVENT
BEGIN:VEVENT
DTSTART;TZID=America/Denver:20240624T180000
DTEND;TZID=America/Denver:20240624T220000
DTSTAMP:20260421T161341
CREATED:20240117T232542Z
LAST-MODIFIED:20240117T232542Z
UID:10006027-1719252000-1719266400@angelustheatre.com
SUMMARY:Rehearsal for Gerd and the Goose Girl
DESCRIPTION:
URL:https://angelustheatre.com/event/rehearsal-for-gerd-and-the-goose-girl/2024-06-24/
LOCATION:Angelus Theatre\, 165 N Main\, Spanish Fork\, UT\, 84660\, United States
ORGANIZER;CN="Paradox Entertainment":MAILTO:angelustheatre@gmail.com
GEO:40.1119867;-111.6552508
X-APPLE-STRUCTURED-LOCATION;VALUE=URI;X-ADDRESS=Angelus Theatre 165 N Main Spanish Fork UT 84660 United States;X-APPLE-RADIUS=500;X-TITLE=165 N Main:geo:-111.6552508,40.1119867
END:VEVENT
BEGIN:VEVENT
DTSTART;TZID=America/Denver:20240624T150000
DTEND;TZID=America/Denver:20240624T170000
DTSTAMP:20260421T161341
CREATED:20240223T031742Z
LAST-MODIFIED:20240223T031742Z
UID:10006672-1719241200-1719248400@angelustheatre.com
SUMMARY:Great Hall Youth Theatre
DESCRIPTION:Go to https://greathall.live/youth/ for more information about youth theatre classes.
URL:https://angelustheatre.com/event/great-hall-youth-theatre-4/2024-06-24/
LOCATION:Angelus Theatre\, 165 N Main\, Spanish Fork\, UT\, 84660\, United States
CATEGORIES:Classes
ORGANIZER;CN="Great Hall Theatrical":MAILTO:greathalltheatrical@gmail.com
GEO:40.1119867;-111.6552508
X-APPLE-STRUCTURED-LOCATION;VALUE=URI;X-ADDRESS=Angelus Theatre 165 N Main Spanish Fork UT 84660 United States;X-APPLE-RADIUS=500;X-TITLE=165 N Main:geo:-111.6552508,40.1119867
END:VEVENT
BEGIN:VEVENT
DTSTART;TZID=America/Denver:20240624T130000
DTEND;TZID=America/Denver:20240624T143000
DTSTAMP:20260421T161341
CREATED:20240223T032536Z
LAST-MODIFIED:20240223T032536Z
UID:10006748-1719234000-1719239400@angelustheatre.com
SUMMARY:Great Hall Youth Theatre
DESCRIPTION:Go to https://greathall.live/youth/ for more information about youth theatre classes.
URL:https://angelustheatre.com/event/great-hall-youth-theatre-9/2024-06-24/
LOCATION:Angelus Theatre\, 165 N Main\, Spanish Fork\, UT\, 84660\, United States
CATEGORIES:Classes
ORGANIZER;CN="Great Hall Theatrical":MAILTO:greathalltheatrical@gmail.com
GEO:40.1119867;-111.6552508
X-APPLE-STRUCTURED-LOCATION;VALUE=URI;X-ADDRESS=Angelus Theatre 165 N Main Spanish Fork UT 84660 United States;X-APPLE-RADIUS=500;X-TITLE=165 N Main:geo:-111.6552508,40.1119867
END:VEVENT
BEGIN:VEVENT
DTSTART;TZID=America/Denver:20240623T150000
DTEND;TZID=America/Denver:20240623T170000
DTSTAMP:20260421T161341
CREATED:20190402T041155Z
LAST-MODIFIED:20190402T041547Z
UID:10000360-1719154800-1719162000@angelustheatre.com
SUMMARY:Grace Lutheran Bible Study
DESCRIPTION:SPANISH FORK BIBLE STUDY – \nPastor Anthony Masinelli. \n3pm – 5pm every Sunday.  Join us for bible study at the Angelus Theater in Spanish Fork (165 N. Main St).  Current study is the book of Romans.
URL:https://angelustheatre.com/event/grace-lutheran-bible-study/2024-06-23/
LOCATION:Angelus Theatre\, 165 N Main\, Spanish Fork\, UT\, 84660\, United States
ATTACH;FMTTYPE=image/jpeg:https://angelustheatre.com/wp-content/uploads/2019/04/Grace-Lutheran.jpg
GEO:40.1119867;-111.6552508
X-APPLE-STRUCTURED-LOCATION;VALUE=URI;X-ADDRESS=Angelus Theatre 165 N Main Spanish Fork UT 84660 United States;X-APPLE-RADIUS=500;X-TITLE=165 N Main:geo:-111.6552508,40.1119867
END:VEVENT
BEGIN:VEVENT
DTSTART;TZID=America/Denver:20240623T100000
DTEND;TZID=America/Denver:20240623T120000
DTSTAMP:20260421T161341
CREATED:20170412T212402Z
LAST-MODIFIED:20210309T230031Z
UID:10000769-1719136800-1719144000@angelustheatre.com
SUMMARY:Utah Valley Church
DESCRIPTION:Utah Valley Church is a non-denominational Christian church. We meet each Sunday at the Angelus Theatre. Cocoa and coffee are served at 10:00 a.m. and the service begins at 10:30 a.m. Visit our website to find out more or call us at (385) 220-2624.
URL:https://angelustheatre.com/event/utah-valley-church-2/2024-06-23/
LOCATION:Angelus Theatre\, 165 N Main\, Spanish Fork\, UT\, 84660\, United States
ATTACH;FMTTYPE=image/png:https://angelustheatre.com/wp-content/uploads/2017/04/A-UVC.png
GEO:40.1119867;-111.6552508
X-APPLE-STRUCTURED-LOCATION;VALUE=URI;X-ADDRESS=Angelus Theatre 165 N Main Spanish Fork UT 84660 United States;X-APPLE-RADIUS=500;X-TITLE=165 N Main:geo:-111.6552508,40.1119867
END:VEVENT
BEGIN:VEVENT
DTSTART;TZID=America/Denver:20240622T193000
DTEND;TZID=America/Denver:20240622T223000
DTSTAMP:20260421T161341
CREATED:20240109T002748Z
LAST-MODIFIED:20240513T214630Z
UID:10005956-1719084600-1719095400@angelustheatre.com
SUMMARY:Under the Stars an Acoustic Pop and Folk Concert
DESCRIPTION:Join us for an exciting evening of Acoustic Pop & Folk Melodies feat. local Talented Artists & Singer-Songwriters Rylee\, Jacob Oman\, Phillip Enkey\, and Tate Gifford!\n\nBring your friends and family and prepare to be swept away by soulful vocals\, captivating lyrics\, & melodies through the sounds of acoustic pop & folk music\, where each artist brings their unique style & perspective to the stage- \nAdditional Info: \n*Parking on both the frontside along the street & backside of the building* \n*Tickets are $10 online & $12 At The Door*\n*Group Discount Ticket of 3-5 people- $15 at the door*\n____________________________________________________________\n*Get to Know Our Artists*\n-Rylee Paige:  linktr.ee/rylees.rhythm\n-Jacob Oman: www.instagram.com/thejacoboman/\n-Phillip Enkey: phillipenkey.com\n-Tate Gifford: linktr.ee/giffordtatemusic
URL:https://angelustheatre.com/event/stars/
LOCATION:Angelus Theatre\, 165 N Main\, Spanish Fork\, UT\, 84660\, United States
ATTACH;FMTTYPE=image/png:https://angelustheatre.com/wp-content/uploads/2024/01/Tate.png
GEO:40.1119867;-111.6552508
X-APPLE-STRUCTURED-LOCATION;VALUE=URI;X-ADDRESS=Angelus Theatre 165 N Main Spanish Fork UT 84660 United States;X-APPLE-RADIUS=500;X-TITLE=165 N Main:geo:-111.6552508,40.1119867
END:VEVENT
BEGIN:VEVENT
DTSTART;TZID=America/Denver:20240622T090000
DTEND;TZID=America/Denver:20240622T160000
DTSTAMP:20260421T161341
CREATED:20240117T232542Z
LAST-MODIFIED:20240117T232542Z
UID:10006026-1719046800-1719072000@angelustheatre.com
SUMMARY:Rehearsal for Gerd and the Goose Girl
DESCRIPTION:
URL:https://angelustheatre.com/event/rehearsal-for-gerd-and-the-goose-girl/2024-06-22/
LOCATION:Angelus Theatre\, 165 N Main\, Spanish Fork\, UT\, 84660\, United States
ORGANIZER;CN="Paradox Entertainment":MAILTO:angelustheatre@gmail.com
GEO:40.1119867;-111.6552508
X-APPLE-STRUCTURED-LOCATION;VALUE=URI;X-ADDRESS=Angelus Theatre 165 N Main Spanish Fork UT 84660 United States;X-APPLE-RADIUS=500;X-TITLE=165 N Main:geo:-111.6552508,40.1119867
END:VEVENT
END:VCALENDAR