BEGIN:VCALENDAR
VERSION:2.0
PRODID:-//Angelus Theatre - ECPv6.15.13//NONSGML v1.0//EN
CALSCALE:GREGORIAN
METHOD:PUBLISH
X-WR-CALNAME:Angelus Theatre
X-ORIGINAL-URL:https://angelustheatre.com
X-WR-CALDESC:Events for Angelus Theatre
REFRESH-INTERVAL;VALUE=DURATION:PT1H
X-Robots-Tag:noindex
X-PUBLISHED-TTL:PT1H
BEGIN:VTIMEZONE
TZID:America/Denver
BEGIN:DAYLIGHT
TZOFFSETFROM:-0700
TZOFFSETTO:-0600
TZNAME:MDT
DTSTART:20230312T090000
END:DAYLIGHT
BEGIN:STANDARD
TZOFFSETFROM:-0600
TZOFFSETTO:-0700
TZNAME:MST
DTSTART:20231105T080000
END:STANDARD
BEGIN:DAYLIGHT
TZOFFSETFROM:-0700
TZOFFSETTO:-0600
TZNAME:MDT
DTSTART:20240310T090000
END:DAYLIGHT
BEGIN:STANDARD
TZOFFSETFROM:-0600
TZOFFSETTO:-0700
TZNAME:MST
DTSTART:20241103T080000
END:STANDARD
BEGIN:DAYLIGHT
TZOFFSETFROM:-0700
TZOFFSETTO:-0600
TZNAME:MDT
DTSTART:20250309T090000
END:DAYLIGHT
BEGIN:STANDARD
TZOFFSETFROM:-0600
TZOFFSETTO:-0700
TZNAME:MST
DTSTART:20251102T080000
END:STANDARD
END:VTIMEZONE
BEGIN:VEVENT
DTSTART;TZID=America/Denver:20240621T183000
DTEND;TZID=America/Denver:20240621T220000
DTSTAMP:20260421T230315
CREATED:20240117T232542Z
LAST-MODIFIED:20240117T232542Z
UID:10006025-1718994600-1719007200@angelustheatre.com
SUMMARY:Rehearsal for Gerd and the Goose Girl
DESCRIPTION:
URL:https://angelustheatre.com/event/rehearsal-for-gerd-and-the-goose-girl/2024-06-21/
LOCATION:Angelus Theatre\, 165 N Main\, Spanish Fork\, UT\, 84660\, United States
ORGANIZER;CN="Paradox Entertainment":MAILTO:angelustheatre@gmail.com
GEO:40.1119867;-111.6552508
X-APPLE-STRUCTURED-LOCATION;VALUE=URI;X-ADDRESS=Angelus Theatre 165 N Main Spanish Fork UT 84660 United States;X-APPLE-RADIUS=500;X-TITLE=165 N Main:geo:-111.6552508,40.1119867
END:VEVENT
BEGIN:VEVENT
DTSTART;TZID=America/Denver:20240621T150000
DTEND;TZID=America/Denver:20240621T170000
DTSTAMP:20260421T230315
CREATED:20240223T031742Z
LAST-MODIFIED:20240223T031742Z
UID:10006671-1718982000-1718989200@angelustheatre.com
SUMMARY:Great Hall Youth Theatre
DESCRIPTION:Go to https://greathall.live/youth/ for more information about youth theatre classes.
URL:https://angelustheatre.com/event/great-hall-youth-theatre-4/2024-06-21/
LOCATION:Angelus Theatre\, 165 N Main\, Spanish Fork\, UT\, 84660\, United States
CATEGORIES:Classes
ORGANIZER;CN="Great Hall Theatrical":MAILTO:greathalltheatrical@gmail.com
GEO:40.1119867;-111.6552508
X-APPLE-STRUCTURED-LOCATION;VALUE=URI;X-ADDRESS=Angelus Theatre 165 N Main Spanish Fork UT 84660 United States;X-APPLE-RADIUS=500;X-TITLE=165 N Main:geo:-111.6552508,40.1119867
END:VEVENT
BEGIN:VEVENT
DTSTART;TZID=America/Denver:20240621T130000
DTEND;TZID=America/Denver:20240621T143000
DTSTAMP:20260421T230315
CREATED:20240223T032153Z
LAST-MODIFIED:20240223T032153Z
UID:10006715-1718974800-1718980200@angelustheatre.com
SUMMARY:Great Hall Youth Theatre
DESCRIPTION:Go to https://greathall.live/youth/ for more information about youth theatre classes.
URL:https://angelustheatre.com/event/great-hall-youth-theatre-7/2024-06-21/
LOCATION:Angelus Theatre\, 165 N Main\, Spanish Fork\, UT\, 84660\, United States
CATEGORIES:Classes
ORGANIZER;CN="Great Hall Theatrical":MAILTO:greathalltheatrical@gmail.com
GEO:40.1119867;-111.6552508
X-APPLE-STRUCTURED-LOCATION;VALUE=URI;X-ADDRESS=Angelus Theatre 165 N Main Spanish Fork UT 84660 United States;X-APPLE-RADIUS=500;X-TITLE=165 N Main:geo:-111.6552508,40.1119867
END:VEVENT
BEGIN:VEVENT
DTSTART;TZID=America/Denver:20240620T183000
DTEND;TZID=America/Denver:20240620T220000
DTSTAMP:20260421T230315
CREATED:20240117T232542Z
LAST-MODIFIED:20240117T232542Z
UID:10006024-1718908200-1718920800@angelustheatre.com
SUMMARY:Rehearsal for Gerd and the Goose Girl
DESCRIPTION:
URL:https://angelustheatre.com/event/rehearsal-for-gerd-and-the-goose-girl/2024-06-20/
LOCATION:Angelus Theatre\, 165 N Main\, Spanish Fork\, UT\, 84660\, United States
ORGANIZER;CN="Paradox Entertainment":MAILTO:angelustheatre@gmail.com
GEO:40.1119867;-111.6552508
X-APPLE-STRUCTURED-LOCATION;VALUE=URI;X-ADDRESS=Angelus Theatre 165 N Main Spanish Fork UT 84660 United States;X-APPLE-RADIUS=500;X-TITLE=165 N Main:geo:-111.6552508,40.1119867
END:VEVENT
BEGIN:VEVENT
DTSTART;TZID=America/Denver:20240620T150000
DTEND;TZID=America/Denver:20240620T163000
DTSTAMP:20260421T230315
CREATED:20240223T031957Z
LAST-MODIFIED:20240627T020641Z
UID:10006698-1718895600-1718901000@angelustheatre.com
SUMMARY:Great Hall Youth Theatre
DESCRIPTION:Go here for more information and to sign up for youth theatre classes. \n  \n 
URL:https://angelustheatre.com/event/great-hall-youth-theatre-6/2024-06-20/
LOCATION:Angelus Theatre\, 165 N Main\, Spanish Fork\, UT\, 84660\, United States
CATEGORIES:Classes
ATTACH;FMTTYPE=image/jpeg:https://angelustheatre.com/wp-content/uploads/2022/01/Youth.jpg
ORGANIZER;CN="Great Hall Theatrical":MAILTO:greathalltheatrical@gmail.com
GEO:40.1119867;-111.6552508
X-APPLE-STRUCTURED-LOCATION;VALUE=URI;X-ADDRESS=Angelus Theatre 165 N Main Spanish Fork UT 84660 United States;X-APPLE-RADIUS=500;X-TITLE=165 N Main:geo:-111.6552508,40.1119867
END:VEVENT
BEGIN:VEVENT
DTSTART;TZID=America/Denver:20240619T183000
DTEND;TZID=America/Denver:20240619T220000
DTSTAMP:20260421T230315
CREATED:20240327T115016Z
LAST-MODIFIED:20240327T115016Z
UID:10006927-1718821800-1718834400@angelustheatre.com
SUMMARY:Rehearsal for Gerd and the Goose Girl
DESCRIPTION:
URL:https://angelustheatre.com/event/rehearsal-for-gerd-and-the-goose-girl-2/2024-06-19/
LOCATION:Angelus Theatre\, 165 N Main\, Spanish Fork\, UT\, 84660\, United States
ORGANIZER;CN="Paradox Entertainment":MAILTO:angelustheatre@gmail.com
GEO:40.1119867;-111.6552508
X-APPLE-STRUCTURED-LOCATION;VALUE=URI;X-ADDRESS=Angelus Theatre 165 N Main Spanish Fork UT 84660 United States;X-APPLE-RADIUS=500;X-TITLE=165 N Main:geo:-111.6552508,40.1119867
END:VEVENT
BEGIN:VEVENT
DTSTART;TZID=America/Denver:20240619T150000
DTEND;TZID=America/Denver:20240619T170000
DTSTAMP:20260421T230315
CREATED:20240223T031742Z
LAST-MODIFIED:20240223T031742Z
UID:10006670-1718809200-1718816400@angelustheatre.com
SUMMARY:Great Hall Youth Theatre
DESCRIPTION:Go to https://greathall.live/youth/ for more information about youth theatre classes.
URL:https://angelustheatre.com/event/great-hall-youth-theatre-4/2024-06-19/
LOCATION:Angelus Theatre\, 165 N Main\, Spanish Fork\, UT\, 84660\, United States
CATEGORIES:Classes
ORGANIZER;CN="Great Hall Theatrical":MAILTO:greathalltheatrical@gmail.com
GEO:40.1119867;-111.6552508
X-APPLE-STRUCTURED-LOCATION;VALUE=URI;X-ADDRESS=Angelus Theatre 165 N Main Spanish Fork UT 84660 United States;X-APPLE-RADIUS=500;X-TITLE=165 N Main:geo:-111.6552508,40.1119867
END:VEVENT
BEGIN:VEVENT
DTSTART;TZID=America/Denver:20240618T183000
DTEND;TZID=America/Denver:20240618T220000
DTSTAMP:20260421T230315
CREATED:20240327T115016Z
LAST-MODIFIED:20240327T115016Z
UID:10006926-1718735400-1718748000@angelustheatre.com
SUMMARY:Rehearsal for Gerd and the Goose Girl
DESCRIPTION:
URL:https://angelustheatre.com/event/rehearsal-for-gerd-and-the-goose-girl-2/2024-06-18/
LOCATION:Angelus Theatre\, 165 N Main\, Spanish Fork\, UT\, 84660\, United States
ORGANIZER;CN="Paradox Entertainment":MAILTO:angelustheatre@gmail.com
GEO:40.1119867;-111.6552508
X-APPLE-STRUCTURED-LOCATION;VALUE=URI;X-ADDRESS=Angelus Theatre 165 N Main Spanish Fork UT 84660 United States;X-APPLE-RADIUS=500;X-TITLE=165 N Main:geo:-111.6552508,40.1119867
END:VEVENT
BEGIN:VEVENT
DTSTART;TZID=America/Denver:20240618T150000
DTEND;TZID=America/Denver:20240618T163000
DTSTAMP:20260421T230315
CREATED:20240223T031957Z
LAST-MODIFIED:20240627T020641Z
UID:10006697-1718722800-1718728200@angelustheatre.com
SUMMARY:Great Hall Youth Theatre
DESCRIPTION:Go here for more information and to sign up for youth theatre classes. \n  \n 
URL:https://angelustheatre.com/event/great-hall-youth-theatre-6/2024-06-18/
LOCATION:Angelus Theatre\, 165 N Main\, Spanish Fork\, UT\, 84660\, United States
CATEGORIES:Classes
ATTACH;FMTTYPE=image/jpeg:https://angelustheatre.com/wp-content/uploads/2022/01/Youth.jpg
ORGANIZER;CN="Great Hall Theatrical":MAILTO:greathalltheatrical@gmail.com
GEO:40.1119867;-111.6552508
X-APPLE-STRUCTURED-LOCATION;VALUE=URI;X-ADDRESS=Angelus Theatre 165 N Main Spanish Fork UT 84660 United States;X-APPLE-RADIUS=500;X-TITLE=165 N Main:geo:-111.6552508,40.1119867
END:VEVENT
BEGIN:VEVENT
DTSTART;TZID=America/Denver:20240617T183000
DTEND;TZID=America/Denver:20240617T220000
DTSTAMP:20260421T230315
CREATED:20240327T115016Z
LAST-MODIFIED:20240327T115016Z
UID:10006925-1718649000-1718661600@angelustheatre.com
SUMMARY:Rehearsal for Gerd and the Goose Girl
DESCRIPTION:
URL:https://angelustheatre.com/event/rehearsal-for-gerd-and-the-goose-girl-2/2024-06-17/
LOCATION:Angelus Theatre\, 165 N Main\, Spanish Fork\, UT\, 84660\, United States
ORGANIZER;CN="Paradox Entertainment":MAILTO:angelustheatre@gmail.com
GEO:40.1119867;-111.6552508
X-APPLE-STRUCTURED-LOCATION;VALUE=URI;X-ADDRESS=Angelus Theatre 165 N Main Spanish Fork UT 84660 United States;X-APPLE-RADIUS=500;X-TITLE=165 N Main:geo:-111.6552508,40.1119867
END:VEVENT
BEGIN:VEVENT
DTSTART;TZID=America/Denver:20240617T150000
DTEND;TZID=America/Denver:20240617T170000
DTSTAMP:20260421T230315
CREATED:20240223T031742Z
LAST-MODIFIED:20240223T031742Z
UID:10006669-1718636400-1718643600@angelustheatre.com
SUMMARY:Great Hall Youth Theatre
DESCRIPTION:Go to https://greathall.live/youth/ for more information about youth theatre classes.
URL:https://angelustheatre.com/event/great-hall-youth-theatre-4/2024-06-17/
LOCATION:Angelus Theatre\, 165 N Main\, Spanish Fork\, UT\, 84660\, United States
CATEGORIES:Classes
ORGANIZER;CN="Great Hall Theatrical":MAILTO:greathalltheatrical@gmail.com
GEO:40.1119867;-111.6552508
X-APPLE-STRUCTURED-LOCATION;VALUE=URI;X-ADDRESS=Angelus Theatre 165 N Main Spanish Fork UT 84660 United States;X-APPLE-RADIUS=500;X-TITLE=165 N Main:geo:-111.6552508,40.1119867
END:VEVENT
BEGIN:VEVENT
DTSTART;TZID=America/Denver:20240617T130000
DTEND;TZID=America/Denver:20240617T143000
DTSTAMP:20260421T230315
CREATED:20240223T032536Z
LAST-MODIFIED:20240223T032536Z
UID:10006747-1718629200-1718634600@angelustheatre.com
SUMMARY:Great Hall Youth Theatre
DESCRIPTION:Go to https://greathall.live/youth/ for more information about youth theatre classes.
URL:https://angelustheatre.com/event/great-hall-youth-theatre-9/2024-06-17/
LOCATION:Angelus Theatre\, 165 N Main\, Spanish Fork\, UT\, 84660\, United States
CATEGORIES:Classes
ORGANIZER;CN="Great Hall Theatrical":MAILTO:greathalltheatrical@gmail.com
GEO:40.1119867;-111.6552508
X-APPLE-STRUCTURED-LOCATION;VALUE=URI;X-ADDRESS=Angelus Theatre 165 N Main Spanish Fork UT 84660 United States;X-APPLE-RADIUS=500;X-TITLE=165 N Main:geo:-111.6552508,40.1119867
END:VEVENT
BEGIN:VEVENT
DTSTART;TZID=America/Denver:20240616T150000
DTEND;TZID=America/Denver:20240616T170000
DTSTAMP:20260421T230315
CREATED:20190402T041155Z
LAST-MODIFIED:20190402T041547Z
UID:10000359-1718550000-1718557200@angelustheatre.com
SUMMARY:Grace Lutheran Bible Study
DESCRIPTION:SPANISH FORK BIBLE STUDY – \nPastor Anthony Masinelli. \n3pm – 5pm every Sunday.  Join us for bible study at the Angelus Theater in Spanish Fork (165 N. Main St).  Current study is the book of Romans.
URL:https://angelustheatre.com/event/grace-lutheran-bible-study/2024-06-16/
LOCATION:Angelus Theatre\, 165 N Main\, Spanish Fork\, UT\, 84660\, United States
ATTACH;FMTTYPE=image/jpeg:https://angelustheatre.com/wp-content/uploads/2019/04/Grace-Lutheran.jpg
GEO:40.1119867;-111.6552508
X-APPLE-STRUCTURED-LOCATION;VALUE=URI;X-ADDRESS=Angelus Theatre 165 N Main Spanish Fork UT 84660 United States;X-APPLE-RADIUS=500;X-TITLE=165 N Main:geo:-111.6552508,40.1119867
END:VEVENT
BEGIN:VEVENT
DTSTART;TZID=America/Denver:20240616T100000
DTEND;TZID=America/Denver:20240616T120000
DTSTAMP:20260421T230315
CREATED:20170412T212402Z
LAST-MODIFIED:20210309T230031Z
UID:10000768-1718532000-1718539200@angelustheatre.com
SUMMARY:Utah Valley Church
DESCRIPTION:Utah Valley Church is a non-denominational Christian church. We meet each Sunday at the Angelus Theatre. Cocoa and coffee are served at 10:00 a.m. and the service begins at 10:30 a.m. Visit our website to find out more or call us at (385) 220-2624.
URL:https://angelustheatre.com/event/utah-valley-church-2/2024-06-16/
LOCATION:Angelus Theatre\, 165 N Main\, Spanish Fork\, UT\, 84660\, United States
ATTACH;FMTTYPE=image/png:https://angelustheatre.com/wp-content/uploads/2017/04/A-UVC.png
GEO:40.1119867;-111.6552508
X-APPLE-STRUCTURED-LOCATION;VALUE=URI;X-ADDRESS=Angelus Theatre 165 N Main Spanish Fork UT 84660 United States;X-APPLE-RADIUS=500;X-TITLE=165 N Main:geo:-111.6552508,40.1119867
END:VEVENT
BEGIN:VEVENT
DTSTART;TZID=America/Denver:20240615T193000
DTEND;TZID=America/Denver:20240615T220000
DTSTAMP:20260421T230315
CREATED:20240117T232044Z
LAST-MODIFIED:20240117T232044Z
UID:10006023-1718479800-1718488800@angelustheatre.com
SUMMARY:The Lady of Sherwood
DESCRIPTION:The family saga of Robin Hood continues in this new musical adventure by award-winning playwright and composer Stephen Gashler. Imagine The Scarlet Pimpernel meets Les Misérables with a heavy dose of humor and sensational music inspired by Celtic Woman\, River Dance\, and Two Steps From Hell. \nParadigms shift as trusted kings become tyrants\, heroes become villains\, and “stealing from the rich and giving to the poor” no longer seems ethical. When England falls to mobs and chaos\, Aspen\, the free-spirited daughter of Robin Hood\, must do what it takes to save England from endless civil war. \nTicket HERE
URL:https://angelustheatre.com/event/the-lady-of-sherwood/2024-06-15/
LOCATION:Angelus Theatre\, 165 N Main\, Spanish Fork\, UT\, 84660\, United States
ATTACH;FMTTYPE=image/jpeg:https://angelustheatre.com/wp-content/uploads/2024/01/los.05540e2.jpg
ORGANIZER;CN="Paradox Entertainment":MAILTO:angelustheatre@gmail.com
GEO:40.1119867;-111.6552508
X-APPLE-STRUCTURED-LOCATION;VALUE=URI;X-ADDRESS=Angelus Theatre 165 N Main Spanish Fork UT 84660 United States;X-APPLE-RADIUS=500;X-TITLE=165 N Main:geo:-111.6552508,40.1119867
END:VEVENT
BEGIN:VEVENT
DTSTART;TZID=America/Denver:20240615T120000
DTEND;TZID=America/Denver:20240615T150000
DTSTAMP:20260421T230316
CREATED:20240208T185225Z
LAST-MODIFIED:20240220T023729Z
UID:10006644-1718452800-1718463600@angelustheatre.com
SUMMARY:Backyard Children's Theatre Show
DESCRIPTION:TBA
URL:https://angelustheatre.com/event/backyard-childrens-theatre-show/2024-06-15/
LOCATION:Angelus Theatre\, 165 N Main\, Spanish Fork\, UT\, 84660\, United States
ATTACH;FMTTYPE=image/png:https://angelustheatre.com/wp-content/uploads/2020/01/Lynette-Angel-Alone.png
ORGANIZER;CN="Paradox Entertainment":MAILTO:angelustheatre@gmail.com
GEO:40.1119867;-111.6552508
X-APPLE-STRUCTURED-LOCATION;VALUE=URI;X-ADDRESS=Angelus Theatre 165 N Main Spanish Fork UT 84660 United States;X-APPLE-RADIUS=500;X-TITLE=165 N Main:geo:-111.6552508,40.1119867
END:VEVENT
BEGIN:VEVENT
DTSTART;TZID=America/Denver:20240614T193000
DTEND;TZID=America/Denver:20240614T220000
DTSTAMP:20260421T230316
CREATED:20240117T232044Z
LAST-MODIFIED:20240117T232044Z
UID:10006022-1718393400-1718402400@angelustheatre.com
SUMMARY:The Lady of Sherwood
DESCRIPTION:The family saga of Robin Hood continues in this new musical adventure by award-winning playwright and composer Stephen Gashler. Imagine The Scarlet Pimpernel meets Les Misérables with a heavy dose of humor and sensational music inspired by Celtic Woman\, River Dance\, and Two Steps From Hell. \nParadigms shift as trusted kings become tyrants\, heroes become villains\, and “stealing from the rich and giving to the poor” no longer seems ethical. When England falls to mobs and chaos\, Aspen\, the free-spirited daughter of Robin Hood\, must do what it takes to save England from endless civil war. \nTicket HERE
URL:https://angelustheatre.com/event/the-lady-of-sherwood/2024-06-14/
LOCATION:Angelus Theatre\, 165 N Main\, Spanish Fork\, UT\, 84660\, United States
ATTACH;FMTTYPE=image/jpeg:https://angelustheatre.com/wp-content/uploads/2024/01/los.05540e2.jpg
ORGANIZER;CN="Paradox Entertainment":MAILTO:angelustheatre@gmail.com
GEO:40.1119867;-111.6552508
X-APPLE-STRUCTURED-LOCATION;VALUE=URI;X-ADDRESS=Angelus Theatre 165 N Main Spanish Fork UT 84660 United States;X-APPLE-RADIUS=500;X-TITLE=165 N Main:geo:-111.6552508,40.1119867
END:VEVENT
BEGIN:VEVENT
DTSTART;TZID=America/Denver:20240614T150000
DTEND;TZID=America/Denver:20240614T170000
DTSTAMP:20260421T230316
CREATED:20240223T031742Z
LAST-MODIFIED:20240223T031742Z
UID:10006668-1718377200-1718384400@angelustheatre.com
SUMMARY:Great Hall Youth Theatre
DESCRIPTION:Go to https://greathall.live/youth/ for more information about youth theatre classes.
URL:https://angelustheatre.com/event/great-hall-youth-theatre-4/2024-06-14/
LOCATION:Angelus Theatre\, 165 N Main\, Spanish Fork\, UT\, 84660\, United States
CATEGORIES:Classes
ORGANIZER;CN="Great Hall Theatrical":MAILTO:greathalltheatrical@gmail.com
GEO:40.1119867;-111.6552508
X-APPLE-STRUCTURED-LOCATION;VALUE=URI;X-ADDRESS=Angelus Theatre 165 N Main Spanish Fork UT 84660 United States;X-APPLE-RADIUS=500;X-TITLE=165 N Main:geo:-111.6552508,40.1119867
END:VEVENT
BEGIN:VEVENT
DTSTART;TZID=America/Denver:20240614T130000
DTEND;TZID=America/Denver:20240614T143000
DTSTAMP:20260421T230316
CREATED:20240223T032153Z
LAST-MODIFIED:20240223T032153Z
UID:10006714-1718370000-1718375400@angelustheatre.com
SUMMARY:Great Hall Youth Theatre
DESCRIPTION:Go to https://greathall.live/youth/ for more information about youth theatre classes.
URL:https://angelustheatre.com/event/great-hall-youth-theatre-7/2024-06-14/
LOCATION:Angelus Theatre\, 165 N Main\, Spanish Fork\, UT\, 84660\, United States
CATEGORIES:Classes
ORGANIZER;CN="Great Hall Theatrical":MAILTO:greathalltheatrical@gmail.com
GEO:40.1119867;-111.6552508
X-APPLE-STRUCTURED-LOCATION;VALUE=URI;X-ADDRESS=Angelus Theatre 165 N Main Spanish Fork UT 84660 United States;X-APPLE-RADIUS=500;X-TITLE=165 N Main:geo:-111.6552508,40.1119867
END:VEVENT
BEGIN:VEVENT
DTSTART;TZID=America/Denver:20240613T193000
DTEND;TZID=America/Denver:20240613T220000
DTSTAMP:20260421T230316
CREATED:20240117T232044Z
LAST-MODIFIED:20240117T232044Z
UID:10006021-1718307000-1718316000@angelustheatre.com
SUMMARY:The Lady of Sherwood
DESCRIPTION:The family saga of Robin Hood continues in this new musical adventure by award-winning playwright and composer Stephen Gashler. Imagine The Scarlet Pimpernel meets Les Misérables with a heavy dose of humor and sensational music inspired by Celtic Woman\, River Dance\, and Two Steps From Hell. \nParadigms shift as trusted kings become tyrants\, heroes become villains\, and “stealing from the rich and giving to the poor” no longer seems ethical. When England falls to mobs and chaos\, Aspen\, the free-spirited daughter of Robin Hood\, must do what it takes to save England from endless civil war. \nTicket HERE
URL:https://angelustheatre.com/event/the-lady-of-sherwood/2024-06-13/
LOCATION:Angelus Theatre\, 165 N Main\, Spanish Fork\, UT\, 84660\, United States
ATTACH;FMTTYPE=image/jpeg:https://angelustheatre.com/wp-content/uploads/2024/01/los.05540e2.jpg
ORGANIZER;CN="Paradox Entertainment":MAILTO:angelustheatre@gmail.com
GEO:40.1119867;-111.6552508
X-APPLE-STRUCTURED-LOCATION;VALUE=URI;X-ADDRESS=Angelus Theatre 165 N Main Spanish Fork UT 84660 United States;X-APPLE-RADIUS=500;X-TITLE=165 N Main:geo:-111.6552508,40.1119867
END:VEVENT
BEGIN:VEVENT
DTSTART;TZID=America/Denver:20240613T150000
DTEND;TZID=America/Denver:20240613T163000
DTSTAMP:20260421T230316
CREATED:20240223T031957Z
LAST-MODIFIED:20240627T020641Z
UID:10006696-1718290800-1718296200@angelustheatre.com
SUMMARY:Great Hall Youth Theatre
DESCRIPTION:Go here for more information and to sign up for youth theatre classes. \n  \n 
URL:https://angelustheatre.com/event/great-hall-youth-theatre-6/2024-06-13/
LOCATION:Angelus Theatre\, 165 N Main\, Spanish Fork\, UT\, 84660\, United States
CATEGORIES:Classes
ATTACH;FMTTYPE=image/jpeg:https://angelustheatre.com/wp-content/uploads/2022/01/Youth.jpg
ORGANIZER;CN="Great Hall Theatrical":MAILTO:greathalltheatrical@gmail.com
GEO:40.1119867;-111.6552508
X-APPLE-STRUCTURED-LOCATION;VALUE=URI;X-ADDRESS=Angelus Theatre 165 N Main Spanish Fork UT 84660 United States;X-APPLE-RADIUS=500;X-TITLE=165 N Main:geo:-111.6552508,40.1119867
END:VEVENT
BEGIN:VEVENT
DTSTART;TZID=America/Denver:20240612T170000
DTEND;TZID=America/Denver:20240612T210000
DTSTAMP:20260421T230316
CREATED:20240604T164433Z
LAST-MODIFIED:20240604T164433Z
UID:10006975-1718211600-1718226000@angelustheatre.com
SUMMARY:G.R. Rehearsal
DESCRIPTION:
URL:https://angelustheatre.com/event/g-r-rehearsal/2024-06-12/
LOCATION:Angelus Theatre\, 165 N Main\, Spanish Fork\, UT\, 84660\, United States
ORGANIZER;CN="Paradox Entertainment":MAILTO:angelustheatre@gmail.com
GEO:40.1119867;-111.6552508
X-APPLE-STRUCTURED-LOCATION;VALUE=URI;X-ADDRESS=Angelus Theatre 165 N Main Spanish Fork UT 84660 United States;X-APPLE-RADIUS=500;X-TITLE=165 N Main:geo:-111.6552508,40.1119867
END:VEVENT
BEGIN:VEVENT
DTSTART;TZID=America/Denver:20240612T150000
DTEND;TZID=America/Denver:20240612T170000
DTSTAMP:20260421T230316
CREATED:20240223T031742Z
LAST-MODIFIED:20240223T031742Z
UID:10006667-1718204400-1718211600@angelustheatre.com
SUMMARY:Great Hall Youth Theatre
DESCRIPTION:Go to https://greathall.live/youth/ for more information about youth theatre classes.
URL:https://angelustheatre.com/event/great-hall-youth-theatre-4/2024-06-12/
LOCATION:Angelus Theatre\, 165 N Main\, Spanish Fork\, UT\, 84660\, United States
CATEGORIES:Classes
ORGANIZER;CN="Great Hall Theatrical":MAILTO:greathalltheatrical@gmail.com
GEO:40.1119867;-111.6552508
X-APPLE-STRUCTURED-LOCATION;VALUE=URI;X-ADDRESS=Angelus Theatre 165 N Main Spanish Fork UT 84660 United States;X-APPLE-RADIUS=500;X-TITLE=165 N Main:geo:-111.6552508,40.1119867
END:VEVENT
BEGIN:VEVENT
DTSTART;TZID=America/Denver:20240611T170000
DTEND;TZID=America/Denver:20240611T210000
DTSTAMP:20260421T230316
CREATED:20240604T164433Z
LAST-MODIFIED:20240604T164433Z
UID:10006974-1718125200-1718139600@angelustheatre.com
SUMMARY:G.R. Rehearsal
DESCRIPTION:
URL:https://angelustheatre.com/event/g-r-rehearsal/2024-06-11/
LOCATION:Angelus Theatre\, 165 N Main\, Spanish Fork\, UT\, 84660\, United States
ORGANIZER;CN="Paradox Entertainment":MAILTO:angelustheatre@gmail.com
GEO:40.1119867;-111.6552508
X-APPLE-STRUCTURED-LOCATION;VALUE=URI;X-ADDRESS=Angelus Theatre 165 N Main Spanish Fork UT 84660 United States;X-APPLE-RADIUS=500;X-TITLE=165 N Main:geo:-111.6552508,40.1119867
END:VEVENT
BEGIN:VEVENT
DTSTART;TZID=America/Denver:20240611T150000
DTEND;TZID=America/Denver:20240611T163000
DTSTAMP:20260421T230316
CREATED:20240223T031957Z
LAST-MODIFIED:20240627T020641Z
UID:10006695-1718118000-1718123400@angelustheatre.com
SUMMARY:Great Hall Youth Theatre
DESCRIPTION:Go here for more information and to sign up for youth theatre classes. \n  \n 
URL:https://angelustheatre.com/event/great-hall-youth-theatre-6/2024-06-11/
LOCATION:Angelus Theatre\, 165 N Main\, Spanish Fork\, UT\, 84660\, United States
CATEGORIES:Classes
ATTACH;FMTTYPE=image/jpeg:https://angelustheatre.com/wp-content/uploads/2022/01/Youth.jpg
ORGANIZER;CN="Great Hall Theatrical":MAILTO:greathalltheatrical@gmail.com
GEO:40.1119867;-111.6552508
X-APPLE-STRUCTURED-LOCATION;VALUE=URI;X-ADDRESS=Angelus Theatre 165 N Main Spanish Fork UT 84660 United States;X-APPLE-RADIUS=500;X-TITLE=165 N Main:geo:-111.6552508,40.1119867
END:VEVENT
BEGIN:VEVENT
DTSTART;TZID=America/Denver:20240610T193000
DTEND;TZID=America/Denver:20240610T220000
DTSTAMP:20260421T230316
CREATED:20240117T232044Z
LAST-MODIFIED:20240117T232044Z
UID:10006020-1718047800-1718056800@angelustheatre.com
SUMMARY:The Lady of Sherwood
DESCRIPTION:The family saga of Robin Hood continues in this new musical adventure by award-winning playwright and composer Stephen Gashler. Imagine The Scarlet Pimpernel meets Les Misérables with a heavy dose of humor and sensational music inspired by Celtic Woman\, River Dance\, and Two Steps From Hell. \nParadigms shift as trusted kings become tyrants\, heroes become villains\, and “stealing from the rich and giving to the poor” no longer seems ethical. When England falls to mobs and chaos\, Aspen\, the free-spirited daughter of Robin Hood\, must do what it takes to save England from endless civil war. \nTicket HERE
URL:https://angelustheatre.com/event/the-lady-of-sherwood/2024-06-10/
LOCATION:Angelus Theatre\, 165 N Main\, Spanish Fork\, UT\, 84660\, United States
ATTACH;FMTTYPE=image/jpeg:https://angelustheatre.com/wp-content/uploads/2024/01/los.05540e2.jpg
ORGANIZER;CN="Paradox Entertainment":MAILTO:angelustheatre@gmail.com
GEO:40.1119867;-111.6552508
X-APPLE-STRUCTURED-LOCATION;VALUE=URI;X-ADDRESS=Angelus Theatre 165 N Main Spanish Fork UT 84660 United States;X-APPLE-RADIUS=500;X-TITLE=165 N Main:geo:-111.6552508,40.1119867
END:VEVENT
BEGIN:VEVENT
DTSTART;TZID=America/Denver:20240610T150000
DTEND;TZID=America/Denver:20240610T170000
DTSTAMP:20260421T230316
CREATED:20240223T031742Z
LAST-MODIFIED:20240223T031742Z
UID:10006666-1718031600-1718038800@angelustheatre.com
SUMMARY:Great Hall Youth Theatre
DESCRIPTION:Go to https://greathall.live/youth/ for more information about youth theatre classes.
URL:https://angelustheatre.com/event/great-hall-youth-theatre-4/2024-06-10/
LOCATION:Angelus Theatre\, 165 N Main\, Spanish Fork\, UT\, 84660\, United States
CATEGORIES:Classes
ORGANIZER;CN="Great Hall Theatrical":MAILTO:greathalltheatrical@gmail.com
GEO:40.1119867;-111.6552508
X-APPLE-STRUCTURED-LOCATION;VALUE=URI;X-ADDRESS=Angelus Theatre 165 N Main Spanish Fork UT 84660 United States;X-APPLE-RADIUS=500;X-TITLE=165 N Main:geo:-111.6552508,40.1119867
END:VEVENT
BEGIN:VEVENT
DTSTART;TZID=America/Denver:20240610T130000
DTEND;TZID=America/Denver:20240610T143000
DTSTAMP:20260421T230316
CREATED:20240223T032536Z
LAST-MODIFIED:20240223T032536Z
UID:10006746-1718024400-1718029800@angelustheatre.com
SUMMARY:Great Hall Youth Theatre
DESCRIPTION:Go to https://greathall.live/youth/ for more information about youth theatre classes.
URL:https://angelustheatre.com/event/great-hall-youth-theatre-9/2024-06-10/
LOCATION:Angelus Theatre\, 165 N Main\, Spanish Fork\, UT\, 84660\, United States
CATEGORIES:Classes
ORGANIZER;CN="Great Hall Theatrical":MAILTO:greathalltheatrical@gmail.com
GEO:40.1119867;-111.6552508
X-APPLE-STRUCTURED-LOCATION;VALUE=URI;X-ADDRESS=Angelus Theatre 165 N Main Spanish Fork UT 84660 United States;X-APPLE-RADIUS=500;X-TITLE=165 N Main:geo:-111.6552508,40.1119867
END:VEVENT
BEGIN:VEVENT
DTSTART;TZID=America/Denver:20240609T150000
DTEND;TZID=America/Denver:20240609T170000
DTSTAMP:20260421T230316
CREATED:20190402T041155Z
LAST-MODIFIED:20190402T041547Z
UID:10000358-1717945200-1717952400@angelustheatre.com
SUMMARY:Grace Lutheran Bible Study
DESCRIPTION:SPANISH FORK BIBLE STUDY – \nPastor Anthony Masinelli. \n3pm – 5pm every Sunday.  Join us for bible study at the Angelus Theater in Spanish Fork (165 N. Main St).  Current study is the book of Romans.
URL:https://angelustheatre.com/event/grace-lutheran-bible-study/2024-06-09/
LOCATION:Angelus Theatre\, 165 N Main\, Spanish Fork\, UT\, 84660\, United States
ATTACH;FMTTYPE=image/jpeg:https://angelustheatre.com/wp-content/uploads/2019/04/Grace-Lutheran.jpg
GEO:40.1119867;-111.6552508
X-APPLE-STRUCTURED-LOCATION;VALUE=URI;X-ADDRESS=Angelus Theatre 165 N Main Spanish Fork UT 84660 United States;X-APPLE-RADIUS=500;X-TITLE=165 N Main:geo:-111.6552508,40.1119867
END:VEVENT
BEGIN:VEVENT
DTSTART;TZID=America/Denver:20240609T100000
DTEND;TZID=America/Denver:20240609T120000
DTSTAMP:20260421T230316
CREATED:20170412T212402Z
LAST-MODIFIED:20210309T230031Z
UID:10000767-1717927200-1717934400@angelustheatre.com
SUMMARY:Utah Valley Church
DESCRIPTION:Utah Valley Church is a non-denominational Christian church. We meet each Sunday at the Angelus Theatre. Cocoa and coffee are served at 10:00 a.m. and the service begins at 10:30 a.m. Visit our website to find out more or call us at (385) 220-2624.
URL:https://angelustheatre.com/event/utah-valley-church-2/2024-06-09/
LOCATION:Angelus Theatre\, 165 N Main\, Spanish Fork\, UT\, 84660\, United States
ATTACH;FMTTYPE=image/png:https://angelustheatre.com/wp-content/uploads/2017/04/A-UVC.png
GEO:40.1119867;-111.6552508
X-APPLE-STRUCTURED-LOCATION;VALUE=URI;X-ADDRESS=Angelus Theatre 165 N Main Spanish Fork UT 84660 United States;X-APPLE-RADIUS=500;X-TITLE=165 N Main:geo:-111.6552508,40.1119867
END:VEVENT
END:VCALENDAR