BEGIN:VCALENDAR
VERSION:2.0
PRODID:-//Angelus Theatre - ECPv6.15.13//NONSGML v1.0//EN
CALSCALE:GREGORIAN
METHOD:PUBLISH
X-WR-CALNAME:Angelus Theatre
X-ORIGINAL-URL:https://angelustheatre.com
X-WR-CALDESC:Events for Angelus Theatre
REFRESH-INTERVAL;VALUE=DURATION:PT1H
X-Robots-Tag:noindex
X-PUBLISHED-TTL:PT1H
BEGIN:VTIMEZONE
TZID:America/Denver
BEGIN:DAYLIGHT
TZOFFSETFROM:-0700
TZOFFSETTO:-0600
TZNAME:MDT
DTSTART:20230312T090000
END:DAYLIGHT
BEGIN:STANDARD
TZOFFSETFROM:-0600
TZOFFSETTO:-0700
TZNAME:MST
DTSTART:20231105T080000
END:STANDARD
BEGIN:DAYLIGHT
TZOFFSETFROM:-0700
TZOFFSETTO:-0600
TZNAME:MDT
DTSTART:20240310T090000
END:DAYLIGHT
BEGIN:STANDARD
TZOFFSETFROM:-0600
TZOFFSETTO:-0700
TZNAME:MST
DTSTART:20241103T080000
END:STANDARD
BEGIN:DAYLIGHT
TZOFFSETFROM:-0700
TZOFFSETTO:-0600
TZNAME:MDT
DTSTART:20250309T090000
END:DAYLIGHT
BEGIN:STANDARD
TZOFFSETFROM:-0600
TZOFFSETTO:-0700
TZNAME:MST
DTSTART:20251102T080000
END:STANDARD
END:VTIMEZONE
BEGIN:VEVENT
DTSTART;TZID=America/Denver:20240723T150000
DTEND;TZID=America/Denver:20240723T163000
DTSTAMP:20260421T072542
CREATED:20240627T020834Z
LAST-MODIFIED:20240627T020834Z
UID:10006707-1721746800-1721752200@angelustheatre.com
SUMMARY:Great Hall Youth Theatre
DESCRIPTION:Go here for more information and to sign up for youth theatre classes. \n  \n 
URL:https://angelustheatre.com/event/great-hall-youth-theatre-6-2/2024-07-23/
LOCATION:Angelus Theatre\, 165 N Main\, Spanish Fork\, UT\, 84660\, United States
CATEGORIES:Classes
ATTACH;FMTTYPE=image/jpeg:https://angelustheatre.com/wp-content/uploads/2022/01/Youth.jpg
ORGANIZER;CN="Great Hall Theatrical":MAILTO:greathalltheatrical@gmail.com
GEO:40.1119867;-111.6552508
X-APPLE-STRUCTURED-LOCATION;VALUE=URI;X-ADDRESS=Angelus Theatre 165 N Main Spanish Fork UT 84660 United States;X-APPLE-RADIUS=500;X-TITLE=165 N Main:geo:-111.6552508,40.1119867
END:VEVENT
BEGIN:VEVENT
DTSTART;TZID=America/Denver:20240722T150000
DTEND;TZID=America/Denver:20240722T170000
DTSTAMP:20260421T072542
CREATED:20240223T031742Z
LAST-MODIFIED:20240223T031742Z
UID:10006684-1721660400-1721667600@angelustheatre.com
SUMMARY:Great Hall Youth Theatre
DESCRIPTION:Go to https://greathall.live/youth/ for more information about youth theatre classes.
URL:https://angelustheatre.com/event/great-hall-youth-theatre-4/2024-07-22/
LOCATION:Angelus Theatre\, 165 N Main\, Spanish Fork\, UT\, 84660\, United States
CATEGORIES:Classes
ORGANIZER;CN="Great Hall Theatrical":MAILTO:greathalltheatrical@gmail.com
GEO:40.1119867;-111.6552508
X-APPLE-STRUCTURED-LOCATION;VALUE=URI;X-ADDRESS=Angelus Theatre 165 N Main Spanish Fork UT 84660 United States;X-APPLE-RADIUS=500;X-TITLE=165 N Main:geo:-111.6552508,40.1119867
END:VEVENT
BEGIN:VEVENT
DTSTART;TZID=America/Denver:20240722T130000
DTEND;TZID=America/Denver:20240722T143000
DTSTAMP:20260421T072542
CREATED:20240223T032536Z
LAST-MODIFIED:20240223T032536Z
UID:10006752-1721653200-1721658600@angelustheatre.com
SUMMARY:Great Hall Youth Theatre
DESCRIPTION:Go to https://greathall.live/youth/ for more information about youth theatre classes.
URL:https://angelustheatre.com/event/great-hall-youth-theatre-9/2024-07-22/
LOCATION:Angelus Theatre\, 165 N Main\, Spanish Fork\, UT\, 84660\, United States
CATEGORIES:Classes
ORGANIZER;CN="Great Hall Theatrical":MAILTO:greathalltheatrical@gmail.com
GEO:40.1119867;-111.6552508
X-APPLE-STRUCTURED-LOCATION;VALUE=URI;X-ADDRESS=Angelus Theatre 165 N Main Spanish Fork UT 84660 United States;X-APPLE-RADIUS=500;X-TITLE=165 N Main:geo:-111.6552508,40.1119867
END:VEVENT
BEGIN:VEVENT
DTSTART;TZID=America/Denver:20240719T150000
DTEND;TZID=America/Denver:20240719T170000
DTSTAMP:20260421T072542
CREATED:20240223T031742Z
LAST-MODIFIED:20240223T031742Z
UID:10006683-1721401200-1721408400@angelustheatre.com
SUMMARY:Great Hall Youth Theatre
DESCRIPTION:Go to https://greathall.live/youth/ for more information about youth theatre classes.
URL:https://angelustheatre.com/event/great-hall-youth-theatre-4/2024-07-19/
LOCATION:Angelus Theatre\, 165 N Main\, Spanish Fork\, UT\, 84660\, United States
CATEGORIES:Classes
ORGANIZER;CN="Great Hall Theatrical":MAILTO:greathalltheatrical@gmail.com
GEO:40.1119867;-111.6552508
X-APPLE-STRUCTURED-LOCATION;VALUE=URI;X-ADDRESS=Angelus Theatre 165 N Main Spanish Fork UT 84660 United States;X-APPLE-RADIUS=500;X-TITLE=165 N Main:geo:-111.6552508,40.1119867
END:VEVENT
BEGIN:VEVENT
DTSTART;TZID=America/Denver:20240719T130000
DTEND;TZID=America/Denver:20240719T143000
DTSTAMP:20260421T072542
CREATED:20240223T032153Z
LAST-MODIFIED:20240223T032153Z
UID:10006719-1721394000-1721399400@angelustheatre.com
SUMMARY:Great Hall Youth Theatre
DESCRIPTION:Go to https://greathall.live/youth/ for more information about youth theatre classes.
URL:https://angelustheatre.com/event/great-hall-youth-theatre-7/2024-07-19/
LOCATION:Angelus Theatre\, 165 N Main\, Spanish Fork\, UT\, 84660\, United States
CATEGORIES:Classes
ORGANIZER;CN="Great Hall Theatrical":MAILTO:greathalltheatrical@gmail.com
GEO:40.1119867;-111.6552508
X-APPLE-STRUCTURED-LOCATION;VALUE=URI;X-ADDRESS=Angelus Theatre 165 N Main Spanish Fork UT 84660 United States;X-APPLE-RADIUS=500;X-TITLE=165 N Main:geo:-111.6552508,40.1119867
END:VEVENT
BEGIN:VEVENT
DTSTART;TZID=America/Denver:20240718T150000
DTEND;TZID=America/Denver:20240718T163000
DTSTAMP:20260421T072542
CREATED:20240627T020834Z
LAST-MODIFIED:20240627T020834Z
UID:10006706-1721314800-1721320200@angelustheatre.com
SUMMARY:Great Hall Youth Theatre
DESCRIPTION:Go here for more information and to sign up for youth theatre classes. \n  \n 
URL:https://angelustheatre.com/event/great-hall-youth-theatre-6-2/2024-07-18/
LOCATION:Angelus Theatre\, 165 N Main\, Spanish Fork\, UT\, 84660\, United States
CATEGORIES:Classes
ATTACH;FMTTYPE=image/jpeg:https://angelustheatre.com/wp-content/uploads/2022/01/Youth.jpg
ORGANIZER;CN="Great Hall Theatrical":MAILTO:greathalltheatrical@gmail.com
GEO:40.1119867;-111.6552508
X-APPLE-STRUCTURED-LOCATION;VALUE=URI;X-ADDRESS=Angelus Theatre 165 N Main Spanish Fork UT 84660 United States;X-APPLE-RADIUS=500;X-TITLE=165 N Main:geo:-111.6552508,40.1119867
END:VEVENT
BEGIN:VEVENT
DTSTART;TZID=America/Denver:20240717T150000
DTEND;TZID=America/Denver:20240717T170000
DTSTAMP:20260421T072542
CREATED:20240223T031742Z
LAST-MODIFIED:20240223T031742Z
UID:10006682-1721228400-1721235600@angelustheatre.com
SUMMARY:Great Hall Youth Theatre
DESCRIPTION:Go to https://greathall.live/youth/ for more information about youth theatre classes.
URL:https://angelustheatre.com/event/great-hall-youth-theatre-4/2024-07-17/
LOCATION:Angelus Theatre\, 165 N Main\, Spanish Fork\, UT\, 84660\, United States
CATEGORIES:Classes
ORGANIZER;CN="Great Hall Theatrical":MAILTO:greathalltheatrical@gmail.com
GEO:40.1119867;-111.6552508
X-APPLE-STRUCTURED-LOCATION;VALUE=URI;X-ADDRESS=Angelus Theatre 165 N Main Spanish Fork UT 84660 United States;X-APPLE-RADIUS=500;X-TITLE=165 N Main:geo:-111.6552508,40.1119867
END:VEVENT
BEGIN:VEVENT
DTSTART;TZID=America/Denver:20240716T150000
DTEND;TZID=America/Denver:20240716T163000
DTSTAMP:20260421T072542
CREATED:20240627T020834Z
LAST-MODIFIED:20240627T020834Z
UID:10006705-1721142000-1721147400@angelustheatre.com
SUMMARY:Great Hall Youth Theatre
DESCRIPTION:Go here for more information and to sign up for youth theatre classes. \n  \n 
URL:https://angelustheatre.com/event/great-hall-youth-theatre-6-2/2024-07-16/
LOCATION:Angelus Theatre\, 165 N Main\, Spanish Fork\, UT\, 84660\, United States
CATEGORIES:Classes
ATTACH;FMTTYPE=image/jpeg:https://angelustheatre.com/wp-content/uploads/2022/01/Youth.jpg
ORGANIZER;CN="Great Hall Theatrical":MAILTO:greathalltheatrical@gmail.com
GEO:40.1119867;-111.6552508
X-APPLE-STRUCTURED-LOCATION;VALUE=URI;X-ADDRESS=Angelus Theatre 165 N Main Spanish Fork UT 84660 United States;X-APPLE-RADIUS=500;X-TITLE=165 N Main:geo:-111.6552508,40.1119867
END:VEVENT
BEGIN:VEVENT
DTSTART;TZID=America/Denver:20240715T150000
DTEND;TZID=America/Denver:20240715T170000
DTSTAMP:20260421T072542
CREATED:20240223T031742Z
LAST-MODIFIED:20240223T031742Z
UID:10006681-1721055600-1721062800@angelustheatre.com
SUMMARY:Great Hall Youth Theatre
DESCRIPTION:Go to https://greathall.live/youth/ for more information about youth theatre classes.
URL:https://angelustheatre.com/event/great-hall-youth-theatre-4/2024-07-15/
LOCATION:Angelus Theatre\, 165 N Main\, Spanish Fork\, UT\, 84660\, United States
CATEGORIES:Classes
ORGANIZER;CN="Great Hall Theatrical":MAILTO:greathalltheatrical@gmail.com
GEO:40.1119867;-111.6552508
X-APPLE-STRUCTURED-LOCATION;VALUE=URI;X-ADDRESS=Angelus Theatre 165 N Main Spanish Fork UT 84660 United States;X-APPLE-RADIUS=500;X-TITLE=165 N Main:geo:-111.6552508,40.1119867
END:VEVENT
BEGIN:VEVENT
DTSTART;TZID=America/Denver:20240715T130000
DTEND;TZID=America/Denver:20240715T143000
DTSTAMP:20260421T072542
CREATED:20240223T032536Z
LAST-MODIFIED:20240223T032536Z
UID:10006751-1721048400-1721053800@angelustheatre.com
SUMMARY:Great Hall Youth Theatre
DESCRIPTION:Go to https://greathall.live/youth/ for more information about youth theatre classes.
URL:https://angelustheatre.com/event/great-hall-youth-theatre-9/2024-07-15/
LOCATION:Angelus Theatre\, 165 N Main\, Spanish Fork\, UT\, 84660\, United States
CATEGORIES:Classes
ORGANIZER;CN="Great Hall Theatrical":MAILTO:greathalltheatrical@gmail.com
GEO:40.1119867;-111.6552508
X-APPLE-STRUCTURED-LOCATION;VALUE=URI;X-ADDRESS=Angelus Theatre 165 N Main Spanish Fork UT 84660 United States;X-APPLE-RADIUS=500;X-TITLE=165 N Main:geo:-111.6552508,40.1119867
END:VEVENT
BEGIN:VEVENT
DTSTART;TZID=America/Denver:20240712T150000
DTEND;TZID=America/Denver:20240712T170000
DTSTAMP:20260421T072542
CREATED:20240223T031742Z
LAST-MODIFIED:20240223T031742Z
UID:10006680-1720796400-1720803600@angelustheatre.com
SUMMARY:Great Hall Youth Theatre
DESCRIPTION:Go to https://greathall.live/youth/ for more information about youth theatre classes.
URL:https://angelustheatre.com/event/great-hall-youth-theatre-4/2024-07-12/
LOCATION:Angelus Theatre\, 165 N Main\, Spanish Fork\, UT\, 84660\, United States
CATEGORIES:Classes
ORGANIZER;CN="Great Hall Theatrical":MAILTO:greathalltheatrical@gmail.com
GEO:40.1119867;-111.6552508
X-APPLE-STRUCTURED-LOCATION;VALUE=URI;X-ADDRESS=Angelus Theatre 165 N Main Spanish Fork UT 84660 United States;X-APPLE-RADIUS=500;X-TITLE=165 N Main:geo:-111.6552508,40.1119867
END:VEVENT
BEGIN:VEVENT
DTSTART;TZID=America/Denver:20240712T130000
DTEND;TZID=America/Denver:20240712T143000
DTSTAMP:20260421T072542
CREATED:20240223T032153Z
LAST-MODIFIED:20240223T032153Z
UID:10006718-1720789200-1720794600@angelustheatre.com
SUMMARY:Great Hall Youth Theatre
DESCRIPTION:Go to https://greathall.live/youth/ for more information about youth theatre classes.
URL:https://angelustheatre.com/event/great-hall-youth-theatre-7/2024-07-12/
LOCATION:Angelus Theatre\, 165 N Main\, Spanish Fork\, UT\, 84660\, United States
CATEGORIES:Classes
ORGANIZER;CN="Great Hall Theatrical":MAILTO:greathalltheatrical@gmail.com
GEO:40.1119867;-111.6552508
X-APPLE-STRUCTURED-LOCATION;VALUE=URI;X-ADDRESS=Angelus Theatre 165 N Main Spanish Fork UT 84660 United States;X-APPLE-RADIUS=500;X-TITLE=165 N Main:geo:-111.6552508,40.1119867
END:VEVENT
BEGIN:VEVENT
DTSTART;TZID=America/Denver:20240711T150000
DTEND;TZID=America/Denver:20240711T163000
DTSTAMP:20260421T072542
CREATED:20240627T020834Z
LAST-MODIFIED:20240627T020834Z
UID:10006704-1720710000-1720715400@angelustheatre.com
SUMMARY:Great Hall Youth Theatre
DESCRIPTION:Go here for more information and to sign up for youth theatre classes. \n  \n 
URL:https://angelustheatre.com/event/great-hall-youth-theatre-6-2/2024-07-11/
LOCATION:Angelus Theatre\, 165 N Main\, Spanish Fork\, UT\, 84660\, United States
CATEGORIES:Classes
ATTACH;FMTTYPE=image/jpeg:https://angelustheatre.com/wp-content/uploads/2022/01/Youth.jpg
ORGANIZER;CN="Great Hall Theatrical":MAILTO:greathalltheatrical@gmail.com
GEO:40.1119867;-111.6552508
X-APPLE-STRUCTURED-LOCATION;VALUE=URI;X-ADDRESS=Angelus Theatre 165 N Main Spanish Fork UT 84660 United States;X-APPLE-RADIUS=500;X-TITLE=165 N Main:geo:-111.6552508,40.1119867
END:VEVENT
BEGIN:VEVENT
DTSTART;TZID=America/Denver:20240710T150000
DTEND;TZID=America/Denver:20240710T170000
DTSTAMP:20260421T072542
CREATED:20240223T031742Z
LAST-MODIFIED:20240223T031742Z
UID:10006679-1720623600-1720630800@angelustheatre.com
SUMMARY:Great Hall Youth Theatre
DESCRIPTION:Go to https://greathall.live/youth/ for more information about youth theatre classes.
URL:https://angelustheatre.com/event/great-hall-youth-theatre-4/2024-07-10/
LOCATION:Angelus Theatre\, 165 N Main\, Spanish Fork\, UT\, 84660\, United States
CATEGORIES:Classes
ORGANIZER;CN="Great Hall Theatrical":MAILTO:greathalltheatrical@gmail.com
GEO:40.1119867;-111.6552508
X-APPLE-STRUCTURED-LOCATION;VALUE=URI;X-ADDRESS=Angelus Theatre 165 N Main Spanish Fork UT 84660 United States;X-APPLE-RADIUS=500;X-TITLE=165 N Main:geo:-111.6552508,40.1119867
END:VEVENT
BEGIN:VEVENT
DTSTART;TZID=America/Denver:20240709T150000
DTEND;TZID=America/Denver:20240709T163000
DTSTAMP:20260421T072542
CREATED:20240627T020834Z
LAST-MODIFIED:20240627T020834Z
UID:10006703-1720537200-1720542600@angelustheatre.com
SUMMARY:Great Hall Youth Theatre
DESCRIPTION:Go here for more information and to sign up for youth theatre classes. \n  \n 
URL:https://angelustheatre.com/event/great-hall-youth-theatre-6-2/2024-07-09/
LOCATION:Angelus Theatre\, 165 N Main\, Spanish Fork\, UT\, 84660\, United States
CATEGORIES:Classes
ATTACH;FMTTYPE=image/jpeg:https://angelustheatre.com/wp-content/uploads/2022/01/Youth.jpg
ORGANIZER;CN="Great Hall Theatrical":MAILTO:greathalltheatrical@gmail.com
GEO:40.1119867;-111.6552508
X-APPLE-STRUCTURED-LOCATION;VALUE=URI;X-ADDRESS=Angelus Theatre 165 N Main Spanish Fork UT 84660 United States;X-APPLE-RADIUS=500;X-TITLE=165 N Main:geo:-111.6552508,40.1119867
END:VEVENT
BEGIN:VEVENT
DTSTART;TZID=America/Denver:20240708T150000
DTEND;TZID=America/Denver:20240708T170000
DTSTAMP:20260421T072542
CREATED:20240223T031742Z
LAST-MODIFIED:20240223T031742Z
UID:10006678-1720450800-1720458000@angelustheatre.com
SUMMARY:Great Hall Youth Theatre
DESCRIPTION:Go to https://greathall.live/youth/ for more information about youth theatre classes.
URL:https://angelustheatre.com/event/great-hall-youth-theatre-4/2024-07-08/
LOCATION:Angelus Theatre\, 165 N Main\, Spanish Fork\, UT\, 84660\, United States
CATEGORIES:Classes
ORGANIZER;CN="Great Hall Theatrical":MAILTO:greathalltheatrical@gmail.com
GEO:40.1119867;-111.6552508
X-APPLE-STRUCTURED-LOCATION;VALUE=URI;X-ADDRESS=Angelus Theatre 165 N Main Spanish Fork UT 84660 United States;X-APPLE-RADIUS=500;X-TITLE=165 N Main:geo:-111.6552508,40.1119867
END:VEVENT
BEGIN:VEVENT
DTSTART;TZID=America/Denver:20240708T130000
DTEND;TZID=America/Denver:20240708T143000
DTSTAMP:20260421T072542
CREATED:20240223T032536Z
LAST-MODIFIED:20240223T032536Z
UID:10006750-1720443600-1720449000@angelustheatre.com
SUMMARY:Great Hall Youth Theatre
DESCRIPTION:Go to https://greathall.live/youth/ for more information about youth theatre classes.
URL:https://angelustheatre.com/event/great-hall-youth-theatre-9/2024-07-08/
LOCATION:Angelus Theatre\, 165 N Main\, Spanish Fork\, UT\, 84660\, United States
CATEGORIES:Classes
ORGANIZER;CN="Great Hall Theatrical":MAILTO:greathalltheatrical@gmail.com
GEO:40.1119867;-111.6552508
X-APPLE-STRUCTURED-LOCATION;VALUE=URI;X-ADDRESS=Angelus Theatre 165 N Main Spanish Fork UT 84660 United States;X-APPLE-RADIUS=500;X-TITLE=165 N Main:geo:-111.6552508,40.1119867
END:VEVENT
BEGIN:VEVENT
DTSTART;TZID=America/Denver:20240705T150000
DTEND;TZID=America/Denver:20240705T170000
DTSTAMP:20260421T072542
CREATED:20240223T031742Z
LAST-MODIFIED:20240223T031742Z
UID:10006677-1720191600-1720198800@angelustheatre.com
SUMMARY:Great Hall Youth Theatre
DESCRIPTION:Go to https://greathall.live/youth/ for more information about youth theatre classes.
URL:https://angelustheatre.com/event/great-hall-youth-theatre-4/2024-07-05/
LOCATION:Angelus Theatre\, 165 N Main\, Spanish Fork\, UT\, 84660\, United States
CATEGORIES:Classes
ORGANIZER;CN="Great Hall Theatrical":MAILTO:greathalltheatrical@gmail.com
GEO:40.1119867;-111.6552508
X-APPLE-STRUCTURED-LOCATION;VALUE=URI;X-ADDRESS=Angelus Theatre 165 N Main Spanish Fork UT 84660 United States;X-APPLE-RADIUS=500;X-TITLE=165 N Main:geo:-111.6552508,40.1119867
END:VEVENT
BEGIN:VEVENT
DTSTART;TZID=America/Denver:20240705T130000
DTEND;TZID=America/Denver:20240705T143000
DTSTAMP:20260421T072542
CREATED:20240223T032153Z
LAST-MODIFIED:20240223T032153Z
UID:10006717-1720184400-1720189800@angelustheatre.com
SUMMARY:Great Hall Youth Theatre
DESCRIPTION:Go to https://greathall.live/youth/ for more information about youth theatre classes.
URL:https://angelustheatre.com/event/great-hall-youth-theatre-7/2024-07-05/
LOCATION:Angelus Theatre\, 165 N Main\, Spanish Fork\, UT\, 84660\, United States
CATEGORIES:Classes
ORGANIZER;CN="Great Hall Theatrical":MAILTO:greathalltheatrical@gmail.com
GEO:40.1119867;-111.6552508
X-APPLE-STRUCTURED-LOCATION;VALUE=URI;X-ADDRESS=Angelus Theatre 165 N Main Spanish Fork UT 84660 United States;X-APPLE-RADIUS=500;X-TITLE=165 N Main:geo:-111.6552508,40.1119867
END:VEVENT
BEGIN:VEVENT
DTSTART;TZID=America/Denver:20240704T150000
DTEND;TZID=America/Denver:20240704T163000
DTSTAMP:20260421T072542
CREATED:20240627T020834Z
LAST-MODIFIED:20240627T020834Z
UID:10006702-1720105200-1720110600@angelustheatre.com
SUMMARY:Great Hall Youth Theatre
DESCRIPTION:Go here for more information and to sign up for youth theatre classes. \n  \n 
URL:https://angelustheatre.com/event/great-hall-youth-theatre-6-2/2024-07-04/
LOCATION:Angelus Theatre\, 165 N Main\, Spanish Fork\, UT\, 84660\, United States
CATEGORIES:Classes
ATTACH;FMTTYPE=image/jpeg:https://angelustheatre.com/wp-content/uploads/2022/01/Youth.jpg
ORGANIZER;CN="Great Hall Theatrical":MAILTO:greathalltheatrical@gmail.com
GEO:40.1119867;-111.6552508
X-APPLE-STRUCTURED-LOCATION;VALUE=URI;X-ADDRESS=Angelus Theatre 165 N Main Spanish Fork UT 84660 United States;X-APPLE-RADIUS=500;X-TITLE=165 N Main:geo:-111.6552508,40.1119867
END:VEVENT
BEGIN:VEVENT
DTSTART;TZID=America/Denver:20240703T150000
DTEND;TZID=America/Denver:20240703T170000
DTSTAMP:20260421T072542
CREATED:20240223T031742Z
LAST-MODIFIED:20240223T031742Z
UID:10006676-1720018800-1720026000@angelustheatre.com
SUMMARY:Great Hall Youth Theatre
DESCRIPTION:Go to https://greathall.live/youth/ for more information about youth theatre classes.
URL:https://angelustheatre.com/event/great-hall-youth-theatre-4/2024-07-03/
LOCATION:Angelus Theatre\, 165 N Main\, Spanish Fork\, UT\, 84660\, United States
CATEGORIES:Classes
ORGANIZER;CN="Great Hall Theatrical":MAILTO:greathalltheatrical@gmail.com
GEO:40.1119867;-111.6552508
X-APPLE-STRUCTURED-LOCATION;VALUE=URI;X-ADDRESS=Angelus Theatre 165 N Main Spanish Fork UT 84660 United States;X-APPLE-RADIUS=500;X-TITLE=165 N Main:geo:-111.6552508,40.1119867
END:VEVENT
BEGIN:VEVENT
DTSTART;TZID=America/Denver:20240702T150000
DTEND;TZID=America/Denver:20240702T163000
DTSTAMP:20260421T072542
CREATED:20240627T020834Z
LAST-MODIFIED:20240627T020834Z
UID:10006701-1719932400-1719937800@angelustheatre.com
SUMMARY:Great Hall Youth Theatre
DESCRIPTION:Go here for more information and to sign up for youth theatre classes. \n  \n 
URL:https://angelustheatre.com/event/great-hall-youth-theatre-6-2/2024-07-02/
LOCATION:Angelus Theatre\, 165 N Main\, Spanish Fork\, UT\, 84660\, United States
CATEGORIES:Classes
ATTACH;FMTTYPE=image/jpeg:https://angelustheatre.com/wp-content/uploads/2022/01/Youth.jpg
ORGANIZER;CN="Great Hall Theatrical":MAILTO:greathalltheatrical@gmail.com
GEO:40.1119867;-111.6552508
X-APPLE-STRUCTURED-LOCATION;VALUE=URI;X-ADDRESS=Angelus Theatre 165 N Main Spanish Fork UT 84660 United States;X-APPLE-RADIUS=500;X-TITLE=165 N Main:geo:-111.6552508,40.1119867
END:VEVENT
BEGIN:VEVENT
DTSTART;TZID=America/Denver:20240701T150000
DTEND;TZID=America/Denver:20240701T170000
DTSTAMP:20260421T072542
CREATED:20240223T031742Z
LAST-MODIFIED:20240223T031742Z
UID:10006675-1719846000-1719853200@angelustheatre.com
SUMMARY:Great Hall Youth Theatre
DESCRIPTION:Go to https://greathall.live/youth/ for more information about youth theatre classes.
URL:https://angelustheatre.com/event/great-hall-youth-theatre-4/2024-07-01/
LOCATION:Angelus Theatre\, 165 N Main\, Spanish Fork\, UT\, 84660\, United States
CATEGORIES:Classes
ORGANIZER;CN="Great Hall Theatrical":MAILTO:greathalltheatrical@gmail.com
GEO:40.1119867;-111.6552508
X-APPLE-STRUCTURED-LOCATION;VALUE=URI;X-ADDRESS=Angelus Theatre 165 N Main Spanish Fork UT 84660 United States;X-APPLE-RADIUS=500;X-TITLE=165 N Main:geo:-111.6552508,40.1119867
END:VEVENT
BEGIN:VEVENT
DTSTART;TZID=America/Denver:20240701T130000
DTEND;TZID=America/Denver:20240701T143000
DTSTAMP:20260421T072542
CREATED:20240223T032536Z
LAST-MODIFIED:20240223T032536Z
UID:10006749-1719838800-1719844200@angelustheatre.com
SUMMARY:Great Hall Youth Theatre
DESCRIPTION:Go to https://greathall.live/youth/ for more information about youth theatre classes.
URL:https://angelustheatre.com/event/great-hall-youth-theatre-9/2024-07-01/
LOCATION:Angelus Theatre\, 165 N Main\, Spanish Fork\, UT\, 84660\, United States
CATEGORIES:Classes
ORGANIZER;CN="Great Hall Theatrical":MAILTO:greathalltheatrical@gmail.com
GEO:40.1119867;-111.6552508
X-APPLE-STRUCTURED-LOCATION;VALUE=URI;X-ADDRESS=Angelus Theatre 165 N Main Spanish Fork UT 84660 United States;X-APPLE-RADIUS=500;X-TITLE=165 N Main:geo:-111.6552508,40.1119867
END:VEVENT
BEGIN:VEVENT
DTSTART;TZID=America/Denver:20240628T150000
DTEND;TZID=America/Denver:20240628T170000
DTSTAMP:20260421T072542
CREATED:20240223T031742Z
LAST-MODIFIED:20240223T031742Z
UID:10006674-1719586800-1719594000@angelustheatre.com
SUMMARY:Great Hall Youth Theatre
DESCRIPTION:Go to https://greathall.live/youth/ for more information about youth theatre classes.
URL:https://angelustheatre.com/event/great-hall-youth-theatre-4/2024-06-28/
LOCATION:Angelus Theatre\, 165 N Main\, Spanish Fork\, UT\, 84660\, United States
CATEGORIES:Classes
ORGANIZER;CN="Great Hall Theatrical":MAILTO:greathalltheatrical@gmail.com
GEO:40.1119867;-111.6552508
X-APPLE-STRUCTURED-LOCATION;VALUE=URI;X-ADDRESS=Angelus Theatre 165 N Main Spanish Fork UT 84660 United States;X-APPLE-RADIUS=500;X-TITLE=165 N Main:geo:-111.6552508,40.1119867
END:VEVENT
BEGIN:VEVENT
DTSTART;TZID=America/Denver:20240628T130000
DTEND;TZID=America/Denver:20240628T143000
DTSTAMP:20260421T072542
CREATED:20240223T032153Z
LAST-MODIFIED:20240223T032153Z
UID:10006716-1719579600-1719585000@angelustheatre.com
SUMMARY:Great Hall Youth Theatre
DESCRIPTION:Go to https://greathall.live/youth/ for more information about youth theatre classes.
URL:https://angelustheatre.com/event/great-hall-youth-theatre-7/2024-06-28/
LOCATION:Angelus Theatre\, 165 N Main\, Spanish Fork\, UT\, 84660\, United States
CATEGORIES:Classes
ORGANIZER;CN="Great Hall Theatrical":MAILTO:greathalltheatrical@gmail.com
GEO:40.1119867;-111.6552508
X-APPLE-STRUCTURED-LOCATION;VALUE=URI;X-ADDRESS=Angelus Theatre 165 N Main Spanish Fork UT 84660 United States;X-APPLE-RADIUS=500;X-TITLE=165 N Main:geo:-111.6552508,40.1119867
END:VEVENT
BEGIN:VEVENT
DTSTART;TZID=America/Denver:20240627T150000
DTEND;TZID=America/Denver:20240627T163000
DTSTAMP:20260421T072542
CREATED:20240627T020834Z
LAST-MODIFIED:20240627T020834Z
UID:10006700-1719500400-1719505800@angelustheatre.com
SUMMARY:Great Hall Youth Theatre
DESCRIPTION:Go here for more information and to sign up for youth theatre classes. \n  \n 
URL:https://angelustheatre.com/event/great-hall-youth-theatre-6-2/2024-06-27/
LOCATION:Angelus Theatre\, 165 N Main\, Spanish Fork\, UT\, 84660\, United States
CATEGORIES:Classes
ATTACH;FMTTYPE=image/jpeg:https://angelustheatre.com/wp-content/uploads/2022/01/Youth.jpg
ORGANIZER;CN="Great Hall Theatrical":MAILTO:greathalltheatrical@gmail.com
GEO:40.1119867;-111.6552508
X-APPLE-STRUCTURED-LOCATION;VALUE=URI;X-ADDRESS=Angelus Theatre 165 N Main Spanish Fork UT 84660 United States;X-APPLE-RADIUS=500;X-TITLE=165 N Main:geo:-111.6552508,40.1119867
END:VEVENT
BEGIN:VEVENT
DTSTART;TZID=America/Denver:20240627T130000
DTEND;TZID=America/Denver:20240627T160000
DTSTAMP:20260421T072542
CREATED:20240627T224538Z
LAST-MODIFIED:20240627T224538Z
UID:10006984-1719493200-1719504000@angelustheatre.com
SUMMARY:Take My Death Away Callbacks
DESCRIPTION:
URL:https://angelustheatre.com/event/take-my-death-away-callbacks/
LOCATION:Angelus Theatre\, 165 N Main\, Spanish Fork\, UT\, 84660\, United States
CATEGORIES:Auditions
ATTACH;FMTTYPE=image/jpeg:https://angelustheatre.com/wp-content/uploads/2020/09/Take-My-Death-Away-Poster-2020-3-2.jpg
ORGANIZER;CN="Great Hall Theatrical":MAILTO:greathalltheatrical@gmail.com
GEO:40.1119867;-111.6552508
X-APPLE-STRUCTURED-LOCATION;VALUE=URI;X-ADDRESS=Angelus Theatre 165 N Main Spanish Fork UT 84660 United States;X-APPLE-RADIUS=500;X-TITLE=165 N Main:geo:-111.6552508,40.1119867
END:VEVENT
BEGIN:VEVENT
DTSTART;TZID=America/Denver:20240626T150000
DTEND;TZID=America/Denver:20240626T170000
DTSTAMP:20260421T072542
CREATED:20240223T031742Z
LAST-MODIFIED:20240223T031742Z
UID:10006673-1719414000-1719421200@angelustheatre.com
SUMMARY:Great Hall Youth Theatre
DESCRIPTION:Go to https://greathall.live/youth/ for more information about youth theatre classes.
URL:https://angelustheatre.com/event/great-hall-youth-theatre-4/2024-06-26/
LOCATION:Angelus Theatre\, 165 N Main\, Spanish Fork\, UT\, 84660\, United States
CATEGORIES:Classes
ORGANIZER;CN="Great Hall Theatrical":MAILTO:greathalltheatrical@gmail.com
GEO:40.1119867;-111.6552508
X-APPLE-STRUCTURED-LOCATION;VALUE=URI;X-ADDRESS=Angelus Theatre 165 N Main Spanish Fork UT 84660 United States;X-APPLE-RADIUS=500;X-TITLE=165 N Main:geo:-111.6552508,40.1119867
END:VEVENT
BEGIN:VEVENT
DTSTART;TZID=America/Denver:20240625T150000
DTEND;TZID=America/Denver:20240625T163000
DTSTAMP:20260421T072542
CREATED:20240223T031957Z
LAST-MODIFIED:20240627T020641Z
UID:10006699-1719327600-1719333000@angelustheatre.com
SUMMARY:Great Hall Youth Theatre
DESCRIPTION:Go here for more information and to sign up for youth theatre classes. \n  \n 
URL:https://angelustheatre.com/event/great-hall-youth-theatre-6/2024-06-25/
LOCATION:Angelus Theatre\, 165 N Main\, Spanish Fork\, UT\, 84660\, United States
CATEGORIES:Classes
ATTACH;FMTTYPE=image/jpeg:https://angelustheatre.com/wp-content/uploads/2022/01/Youth.jpg
ORGANIZER;CN="Great Hall Theatrical":MAILTO:greathalltheatrical@gmail.com
GEO:40.1119867;-111.6552508
X-APPLE-STRUCTURED-LOCATION;VALUE=URI;X-ADDRESS=Angelus Theatre 165 N Main Spanish Fork UT 84660 United States;X-APPLE-RADIUS=500;X-TITLE=165 N Main:geo:-111.6552508,40.1119867
END:VEVENT
END:VCALENDAR