BEGIN:VCALENDAR
VERSION:2.0
PRODID:-//Angelus Theatre - ECPv6.15.13//NONSGML v1.0//EN
CALSCALE:GREGORIAN
METHOD:PUBLISH
X-ORIGINAL-URL:https://angelustheatre.com
X-WR-CALDESC:Events for Angelus Theatre
REFRESH-INTERVAL;VALUE=DURATION:PT1H
X-Robots-Tag:noindex
X-PUBLISHED-TTL:PT1H
BEGIN:VTIMEZONE
TZID:America/Denver
BEGIN:DAYLIGHT
TZOFFSETFROM:-0700
TZOFFSETTO:-0600
TZNAME:MDT
DTSTART:20230312T090000
END:DAYLIGHT
BEGIN:STANDARD
TZOFFSETFROM:-0600
TZOFFSETTO:-0700
TZNAME:MST
DTSTART:20231105T080000
END:STANDARD
BEGIN:DAYLIGHT
TZOFFSETFROM:-0700
TZOFFSETTO:-0600
TZNAME:MDT
DTSTART:20240310T090000
END:DAYLIGHT
BEGIN:STANDARD
TZOFFSETFROM:-0600
TZOFFSETTO:-0700
TZNAME:MST
DTSTART:20241103T080000
END:STANDARD
BEGIN:DAYLIGHT
TZOFFSETFROM:-0700
TZOFFSETTO:-0600
TZNAME:MDT
DTSTART:20250309T090000
END:DAYLIGHT
BEGIN:STANDARD
TZOFFSETFROM:-0600
TZOFFSETTO:-0700
TZNAME:MST
DTSTART:20251102T080000
END:STANDARD
END:VTIMEZONE
BEGIN:VEVENT
DTSTART;TZID=America/Denver:20240612T150000
DTEND;TZID=America/Denver:20240612T170000
DTSTAMP:20260421T175602
CREATED:20240223T031742Z
LAST-MODIFIED:20240223T031742Z
UID:10006667-1718204400-1718211600@angelustheatre.com
SUMMARY:Great Hall Youth Theatre
DESCRIPTION:Go to https://greathall.live/youth/ for more information about youth theatre classes.
URL:https://angelustheatre.com/event/great-hall-youth-theatre-4/2024-06-12/
LOCATION:Angelus Theatre\, 165 N Main\, Spanish Fork\, UT\, 84660\, United States
CATEGORIES:Classes
ORGANIZER;CN="Great Hall Theatrical":MAILTO:greathalltheatrical@gmail.com
GEO:40.1119867;-111.6552508
X-APPLE-STRUCTURED-LOCATION;VALUE=URI;X-ADDRESS=Angelus Theatre 165 N Main Spanish Fork UT 84660 United States;X-APPLE-RADIUS=500;X-TITLE=165 N Main:geo:-111.6552508,40.1119867
END:VEVENT
BEGIN:VEVENT
DTSTART;TZID=America/Denver:20240611T150000
DTEND;TZID=America/Denver:20240611T163000
DTSTAMP:20260421T175602
CREATED:20240223T031957Z
LAST-MODIFIED:20240627T020641Z
UID:10006695-1718118000-1718123400@angelustheatre.com
SUMMARY:Great Hall Youth Theatre
DESCRIPTION:Go here for more information and to sign up for youth theatre classes. \n  \n 
URL:https://angelustheatre.com/event/great-hall-youth-theatre-6/2024-06-11/
LOCATION:Angelus Theatre\, 165 N Main\, Spanish Fork\, UT\, 84660\, United States
CATEGORIES:Classes
ATTACH;FMTTYPE=image/jpeg:https://angelustheatre.com/wp-content/uploads/2022/01/Youth.jpg
ORGANIZER;CN="Great Hall Theatrical":MAILTO:greathalltheatrical@gmail.com
GEO:40.1119867;-111.6552508
X-APPLE-STRUCTURED-LOCATION;VALUE=URI;X-ADDRESS=Angelus Theatre 165 N Main Spanish Fork UT 84660 United States;X-APPLE-RADIUS=500;X-TITLE=165 N Main:geo:-111.6552508,40.1119867
END:VEVENT
BEGIN:VEVENT
DTSTART;TZID=America/Denver:20240610T150000
DTEND;TZID=America/Denver:20240610T170000
DTSTAMP:20260421T175602
CREATED:20240223T031742Z
LAST-MODIFIED:20240223T031742Z
UID:10006666-1718031600-1718038800@angelustheatre.com
SUMMARY:Great Hall Youth Theatre
DESCRIPTION:Go to https://greathall.live/youth/ for more information about youth theatre classes.
URL:https://angelustheatre.com/event/great-hall-youth-theatre-4/2024-06-10/
LOCATION:Angelus Theatre\, 165 N Main\, Spanish Fork\, UT\, 84660\, United States
CATEGORIES:Classes
ORGANIZER;CN="Great Hall Theatrical":MAILTO:greathalltheatrical@gmail.com
GEO:40.1119867;-111.6552508
X-APPLE-STRUCTURED-LOCATION;VALUE=URI;X-ADDRESS=Angelus Theatre 165 N Main Spanish Fork UT 84660 United States;X-APPLE-RADIUS=500;X-TITLE=165 N Main:geo:-111.6552508,40.1119867
END:VEVENT
BEGIN:VEVENT
DTSTART;TZID=America/Denver:20240610T130000
DTEND;TZID=America/Denver:20240610T143000
DTSTAMP:20260421T175602
CREATED:20240223T032536Z
LAST-MODIFIED:20240223T032536Z
UID:10006746-1718024400-1718029800@angelustheatre.com
SUMMARY:Great Hall Youth Theatre
DESCRIPTION:Go to https://greathall.live/youth/ for more information about youth theatre classes.
URL:https://angelustheatre.com/event/great-hall-youth-theatre-9/2024-06-10/
LOCATION:Angelus Theatre\, 165 N Main\, Spanish Fork\, UT\, 84660\, United States
CATEGORIES:Classes
ORGANIZER;CN="Great Hall Theatrical":MAILTO:greathalltheatrical@gmail.com
GEO:40.1119867;-111.6552508
X-APPLE-STRUCTURED-LOCATION;VALUE=URI;X-ADDRESS=Angelus Theatre 165 N Main Spanish Fork UT 84660 United States;X-APPLE-RADIUS=500;X-TITLE=165 N Main:geo:-111.6552508,40.1119867
END:VEVENT
BEGIN:VEVENT
DTSTART;TZID=America/Denver:20240607T150000
DTEND;TZID=America/Denver:20240607T170000
DTSTAMP:20260421T175602
CREATED:20240223T031742Z
LAST-MODIFIED:20240223T031742Z
UID:10006665-1717772400-1717779600@angelustheatre.com
SUMMARY:Great Hall Youth Theatre
DESCRIPTION:Go to https://greathall.live/youth/ for more information about youth theatre classes.
URL:https://angelustheatre.com/event/great-hall-youth-theatre-4/2024-06-07/
LOCATION:Angelus Theatre\, 165 N Main\, Spanish Fork\, UT\, 84660\, United States
CATEGORIES:Classes
ORGANIZER;CN="Great Hall Theatrical":MAILTO:greathalltheatrical@gmail.com
GEO:40.1119867;-111.6552508
X-APPLE-STRUCTURED-LOCATION;VALUE=URI;X-ADDRESS=Angelus Theatre 165 N Main Spanish Fork UT 84660 United States;X-APPLE-RADIUS=500;X-TITLE=165 N Main:geo:-111.6552508,40.1119867
END:VEVENT
BEGIN:VEVENT
DTSTART;TZID=America/Denver:20240607T130000
DTEND;TZID=America/Denver:20240607T143000
DTSTAMP:20260421T175602
CREATED:20240223T032153Z
LAST-MODIFIED:20240223T032153Z
UID:10006713-1717765200-1717770600@angelustheatre.com
SUMMARY:Great Hall Youth Theatre
DESCRIPTION:Go to https://greathall.live/youth/ for more information about youth theatre classes.
URL:https://angelustheatre.com/event/great-hall-youth-theatre-7/2024-06-07/
LOCATION:Angelus Theatre\, 165 N Main\, Spanish Fork\, UT\, 84660\, United States
CATEGORIES:Classes
ORGANIZER;CN="Great Hall Theatrical":MAILTO:greathalltheatrical@gmail.com
GEO:40.1119867;-111.6552508
X-APPLE-STRUCTURED-LOCATION;VALUE=URI;X-ADDRESS=Angelus Theatre 165 N Main Spanish Fork UT 84660 United States;X-APPLE-RADIUS=500;X-TITLE=165 N Main:geo:-111.6552508,40.1119867
END:VEVENT
BEGIN:VEVENT
DTSTART;TZID=America/Denver:20240606T150000
DTEND;TZID=America/Denver:20240606T163000
DTSTAMP:20260421T175602
CREATED:20240223T031957Z
LAST-MODIFIED:20240627T020641Z
UID:10006694-1717686000-1717691400@angelustheatre.com
SUMMARY:Great Hall Youth Theatre
DESCRIPTION:Go here for more information and to sign up for youth theatre classes. \n  \n 
URL:https://angelustheatre.com/event/great-hall-youth-theatre-6/2024-06-06/
LOCATION:Angelus Theatre\, 165 N Main\, Spanish Fork\, UT\, 84660\, United States
CATEGORIES:Classes
ATTACH;FMTTYPE=image/jpeg:https://angelustheatre.com/wp-content/uploads/2022/01/Youth.jpg
ORGANIZER;CN="Great Hall Theatrical":MAILTO:greathalltheatrical@gmail.com
GEO:40.1119867;-111.6552508
X-APPLE-STRUCTURED-LOCATION;VALUE=URI;X-ADDRESS=Angelus Theatre 165 N Main Spanish Fork UT 84660 United States;X-APPLE-RADIUS=500;X-TITLE=165 N Main:geo:-111.6552508,40.1119867
END:VEVENT
BEGIN:VEVENT
DTSTART;TZID=America/Denver:20240605T150000
DTEND;TZID=America/Denver:20240605T170000
DTSTAMP:20260421T175602
CREATED:20240223T031742Z
LAST-MODIFIED:20240223T031742Z
UID:10006664-1717599600-1717606800@angelustheatre.com
SUMMARY:Great Hall Youth Theatre
DESCRIPTION:Go to https://greathall.live/youth/ for more information about youth theatre classes.
URL:https://angelustheatre.com/event/great-hall-youth-theatre-4/2024-06-05/
LOCATION:Angelus Theatre\, 165 N Main\, Spanish Fork\, UT\, 84660\, United States
CATEGORIES:Classes
ORGANIZER;CN="Great Hall Theatrical":MAILTO:greathalltheatrical@gmail.com
GEO:40.1119867;-111.6552508
X-APPLE-STRUCTURED-LOCATION;VALUE=URI;X-ADDRESS=Angelus Theatre 165 N Main Spanish Fork UT 84660 United States;X-APPLE-RADIUS=500;X-TITLE=165 N Main:geo:-111.6552508,40.1119867
END:VEVENT
BEGIN:VEVENT
DTSTART;TZID=America/Denver:20240604T150000
DTEND;TZID=America/Denver:20240604T163000
DTSTAMP:20260421T175602
CREATED:20240223T031957Z
LAST-MODIFIED:20240627T020641Z
UID:10006693-1717513200-1717518600@angelustheatre.com
SUMMARY:Great Hall Youth Theatre
DESCRIPTION:Go here for more information and to sign up for youth theatre classes. \n  \n 
URL:https://angelustheatre.com/event/great-hall-youth-theatre-6/2024-06-04/
LOCATION:Angelus Theatre\, 165 N Main\, Spanish Fork\, UT\, 84660\, United States
CATEGORIES:Classes
ATTACH;FMTTYPE=image/jpeg:https://angelustheatre.com/wp-content/uploads/2022/01/Youth.jpg
ORGANIZER;CN="Great Hall Theatrical":MAILTO:greathalltheatrical@gmail.com
GEO:40.1119867;-111.6552508
X-APPLE-STRUCTURED-LOCATION;VALUE=URI;X-ADDRESS=Angelus Theatre 165 N Main Spanish Fork UT 84660 United States;X-APPLE-RADIUS=500;X-TITLE=165 N Main:geo:-111.6552508,40.1119867
END:VEVENT
BEGIN:VEVENT
DTSTART;TZID=America/Denver:20240603T150000
DTEND;TZID=America/Denver:20240603T170000
DTSTAMP:20260421T175602
CREATED:20240223T031742Z
LAST-MODIFIED:20240223T031742Z
UID:10006663-1717426800-1717434000@angelustheatre.com
SUMMARY:Great Hall Youth Theatre
DESCRIPTION:Go to https://greathall.live/youth/ for more information about youth theatre classes.
URL:https://angelustheatre.com/event/great-hall-youth-theatre-4/2024-06-03/
LOCATION:Angelus Theatre\, 165 N Main\, Spanish Fork\, UT\, 84660\, United States
CATEGORIES:Classes
ORGANIZER;CN="Great Hall Theatrical":MAILTO:greathalltheatrical@gmail.com
GEO:40.1119867;-111.6552508
X-APPLE-STRUCTURED-LOCATION;VALUE=URI;X-ADDRESS=Angelus Theatre 165 N Main Spanish Fork UT 84660 United States;X-APPLE-RADIUS=500;X-TITLE=165 N Main:geo:-111.6552508,40.1119867
END:VEVENT
BEGIN:VEVENT
DTSTART;TZID=America/Denver:20240603T130000
DTEND;TZID=America/Denver:20240603T143000
DTSTAMP:20260421T175602
CREATED:20240223T032536Z
LAST-MODIFIED:20240223T032536Z
UID:10006745-1717419600-1717425000@angelustheatre.com
SUMMARY:Great Hall Youth Theatre
DESCRIPTION:Go to https://greathall.live/youth/ for more information about youth theatre classes.
URL:https://angelustheatre.com/event/great-hall-youth-theatre-9/2024-06-03/
LOCATION:Angelus Theatre\, 165 N Main\, Spanish Fork\, UT\, 84660\, United States
CATEGORIES:Classes
ORGANIZER;CN="Great Hall Theatrical":MAILTO:greathalltheatrical@gmail.com
GEO:40.1119867;-111.6552508
X-APPLE-STRUCTURED-LOCATION;VALUE=URI;X-ADDRESS=Angelus Theatre 165 N Main Spanish Fork UT 84660 United States;X-APPLE-RADIUS=500;X-TITLE=165 N Main:geo:-111.6552508,40.1119867
END:VEVENT
BEGIN:VEVENT
DTSTART;TZID=America/Denver:20240531T160000
DTEND;TZID=America/Denver:20240531T180000
DTSTAMP:20260421T175602
CREATED:20240206T005155Z
LAST-MODIFIED:20240206T005353Z
UID:10006634-1717171200-1717178400@angelustheatre.com
SUMMARY:Great Hall Youth Theatre
DESCRIPTION:Go to https://greathall.live/youth/ for more information about youth theatre classes.
URL:https://angelustheatre.com/event/great-hall-youth-theatre-3-3/2024-05-31/
LOCATION:Angelus Theatre\, 165 N Main\, Spanish Fork\, UT\, 84660\, United States
CATEGORIES:Classes
ORGANIZER;CN="Great Hall Theatrical":MAILTO:greathalltheatrical@gmail.com
GEO:40.1119867;-111.6552508
X-APPLE-STRUCTURED-LOCATION;VALUE=URI;X-ADDRESS=Angelus Theatre 165 N Main Spanish Fork UT 84660 United States;X-APPLE-RADIUS=500;X-TITLE=165 N Main:geo:-111.6552508,40.1119867
END:VEVENT
BEGIN:VEVENT
DTSTART;TZID=America/Denver:20240531T140000
DTEND;TZID=America/Denver:20240531T153000
DTSTAMP:20260421T175602
CREATED:20240221T204728Z
LAST-MODIFIED:20240221T204728Z
UID:10006661-1717164000-1717169400@angelustheatre.com
SUMMARY:Great Hall Youth Theatre
DESCRIPTION:Go to https://greathall.live/youth/ for more information about youth theatre classes.
URL:https://angelustheatre.com/event/great-hall-youth-theatre-3/2024-05-31/
LOCATION:Angelus Theatre\, 165 N Main\, Spanish Fork\, UT\, 84660\, United States
CATEGORIES:Classes
ORGANIZER;CN="Great Hall Theatrical":MAILTO:greathalltheatrical@gmail.com
GEO:40.1119867;-111.6552508
X-APPLE-STRUCTURED-LOCATION;VALUE=URI;X-ADDRESS=Angelus Theatre 165 N Main Spanish Fork UT 84660 United States;X-APPLE-RADIUS=500;X-TITLE=165 N Main:geo:-111.6552508,40.1119867
END:VEVENT
BEGIN:VEVENT
DTSTART;TZID=America/Denver:20240530T160000
DTEND;TZID=America/Denver:20240530T173000
DTSTAMP:20260421T175602
CREATED:20240206T005641Z
LAST-MODIFIED:20240206T005642Z
UID:10006613-1717084800-1717090200@angelustheatre.com
SUMMARY:Great Hall Youth Theatre
DESCRIPTION:Go to https://greathall.live/youth/ for more information about youth theatre classes.
URL:https://angelustheatre.com/event/great-hall-youth-theatre-3-2-2/2024-05-30/
LOCATION:Angelus Theatre\, 165 N Main\, Spanish Fork\, UT\, 84660\, United States
CATEGORIES:Classes
ORGANIZER;CN="Great Hall Theatrical":MAILTO:greathalltheatrical@gmail.com
GEO:40.1119867;-111.6552508
X-APPLE-STRUCTURED-LOCATION;VALUE=URI;X-ADDRESS=Angelus Theatre 165 N Main Spanish Fork UT 84660 United States;X-APPLE-RADIUS=500;X-TITLE=165 N Main:geo:-111.6552508,40.1119867
END:VEVENT
BEGIN:VEVENT
DTSTART;TZID=America/Denver:20240529T160000
DTEND;TZID=America/Denver:20240529T180000
DTSTAMP:20260421T175602
CREATED:20240206T003424Z
LAST-MODIFIED:20240206T003424Z
UID:10006527-1716998400-1717005600@angelustheatre.com
SUMMARY:Great Hall Youth Theatre
DESCRIPTION:Go to https://greathall.live/youth/ for more information about youth theatre classes.
URL:https://angelustheatre.com/event/great-hall-youth-theatre-2/2024-05-29/
LOCATION:Angelus Theatre\, 165 N Main\, Spanish Fork\, UT\, 84660\, United States
CATEGORIES:Classes
ORGANIZER;CN="Great Hall Theatrical":MAILTO:greathalltheatrical@gmail.com
GEO:40.1119867;-111.6552508
X-APPLE-STRUCTURED-LOCATION;VALUE=URI;X-ADDRESS=Angelus Theatre 165 N Main Spanish Fork UT 84660 United States;X-APPLE-RADIUS=500;X-TITLE=165 N Main:geo:-111.6552508,40.1119867
END:VEVENT
BEGIN:VEVENT
DTSTART;TZID=America/Denver:20240528T160000
DTEND;TZID=America/Denver:20240528T173000
DTSTAMP:20260421T175602
CREATED:20240206T000240Z
LAST-MODIFIED:20240206T003837Z
UID:10006504-1716912000-1716917400@angelustheatre.com
SUMMARY:Great Hall Youth Theatre
DESCRIPTION:Go to https://greathall.live/youth/ for more information about youth theatre classes.
URL:https://angelustheatre.com/event/great-hall-youth-theatre/2024-05-28/
LOCATION:Angelus Theatre\, 165 N Main\, Spanish Fork\, UT\, 84660\, United States
CATEGORIES:Classes
ORGANIZER;CN="Great Hall Theatrical":MAILTO:greathalltheatrical@gmail.com
GEO:40.1119867;-111.6552508
X-APPLE-STRUCTURED-LOCATION;VALUE=URI;X-ADDRESS=Angelus Theatre 165 N Main Spanish Fork UT 84660 United States;X-APPLE-RADIUS=500;X-TITLE=165 N Main:geo:-111.6552508,40.1119867
END:VEVENT
BEGIN:VEVENT
DTSTART;TZID=America/Denver:20240527T160000
DTEND;TZID=America/Denver:20240527T180000
DTSTAMP:20260421T175602
CREATED:20240206T004519Z
LAST-MODIFIED:20240206T004519Z
UID:10006592-1716825600-1716832800@angelustheatre.com
SUMMARY:Great Hall Youth Theatre
DESCRIPTION:Go to https://greathall.live/youth/ for more information about youth theatre classes.
URL:https://angelustheatre.com/event/great-hall-youth-theatre-5/2024-05-27/
LOCATION:Angelus Theatre\, 165 N Main\, Spanish Fork\, UT\, 84660\, United States
CATEGORIES:Classes
ORGANIZER;CN="Great Hall Theatrical":MAILTO:greathalltheatrical@gmail.com
GEO:40.1119867;-111.6552508
X-APPLE-STRUCTURED-LOCATION;VALUE=URI;X-ADDRESS=Angelus Theatre 165 N Main Spanish Fork UT 84660 United States;X-APPLE-RADIUS=500;X-TITLE=165 N Main:geo:-111.6552508,40.1119867
END:VEVENT
BEGIN:VEVENT
DTSTART;TZID=America/Denver:20240527T140000
DTEND;TZID=America/Denver:20240527T153000
DTSTAMP:20260421T175602
CREATED:20240223T032403Z
LAST-MODIFIED:20240223T032403Z
UID:10006744-1716818400-1716823800@angelustheatre.com
SUMMARY:Great Hall Youth Theatre
DESCRIPTION:Go to https://greathall.live/youth/ for more information about youth theatre classes.
URL:https://angelustheatre.com/event/great-hall-youth-theatre-8/2024-05-27/
LOCATION:Angelus Theatre\, 165 N Main\, Spanish Fork\, UT\, 84660\, United States
CATEGORIES:Classes
ORGANIZER;CN="Great Hall Theatrical":MAILTO:greathalltheatrical@gmail.com
GEO:40.1119867;-111.6552508
X-APPLE-STRUCTURED-LOCATION;VALUE=URI;X-ADDRESS=Angelus Theatre 165 N Main Spanish Fork UT 84660 United States;X-APPLE-RADIUS=500;X-TITLE=165 N Main:geo:-111.6552508,40.1119867
END:VEVENT
BEGIN:VEVENT
DTSTART;TZID=America/Denver:20240524T160000
DTEND;TZID=America/Denver:20240524T180000
DTSTAMP:20260421T175602
CREATED:20240206T005155Z
LAST-MODIFIED:20240206T005353Z
UID:10006633-1716566400-1716573600@angelustheatre.com
SUMMARY:Great Hall Youth Theatre
DESCRIPTION:Go to https://greathall.live/youth/ for more information about youth theatre classes.
URL:https://angelustheatre.com/event/great-hall-youth-theatre-3-3/2024-05-24/
LOCATION:Angelus Theatre\, 165 N Main\, Spanish Fork\, UT\, 84660\, United States
CATEGORIES:Classes
ORGANIZER;CN="Great Hall Theatrical":MAILTO:greathalltheatrical@gmail.com
GEO:40.1119867;-111.6552508
X-APPLE-STRUCTURED-LOCATION;VALUE=URI;X-ADDRESS=Angelus Theatre 165 N Main Spanish Fork UT 84660 United States;X-APPLE-RADIUS=500;X-TITLE=165 N Main:geo:-111.6552508,40.1119867
END:VEVENT
BEGIN:VEVENT
DTSTART;TZID=America/Denver:20240524T140000
DTEND;TZID=America/Denver:20240524T153000
DTSTAMP:20260421T175602
CREATED:20240221T204728Z
LAST-MODIFIED:20240221T204728Z
UID:10006660-1716559200-1716564600@angelustheatre.com
SUMMARY:Great Hall Youth Theatre
DESCRIPTION:Go to https://greathall.live/youth/ for more information about youth theatre classes.
URL:https://angelustheatre.com/event/great-hall-youth-theatre-3/2024-05-24/
LOCATION:Angelus Theatre\, 165 N Main\, Spanish Fork\, UT\, 84660\, United States
CATEGORIES:Classes
ORGANIZER;CN="Great Hall Theatrical":MAILTO:greathalltheatrical@gmail.com
GEO:40.1119867;-111.6552508
X-APPLE-STRUCTURED-LOCATION;VALUE=URI;X-ADDRESS=Angelus Theatre 165 N Main Spanish Fork UT 84660 United States;X-APPLE-RADIUS=500;X-TITLE=165 N Main:geo:-111.6552508,40.1119867
END:VEVENT
BEGIN:VEVENT
DTSTART;TZID=America/Denver:20240523T160000
DTEND;TZID=America/Denver:20240523T173000
DTSTAMP:20260421T175602
CREATED:20240206T005641Z
LAST-MODIFIED:20240206T005642Z
UID:10006612-1716480000-1716485400@angelustheatre.com
SUMMARY:Great Hall Youth Theatre
DESCRIPTION:Go to https://greathall.live/youth/ for more information about youth theatre classes.
URL:https://angelustheatre.com/event/great-hall-youth-theatre-3-2-2/2024-05-23/
LOCATION:Angelus Theatre\, 165 N Main\, Spanish Fork\, UT\, 84660\, United States
CATEGORIES:Classes
ORGANIZER;CN="Great Hall Theatrical":MAILTO:greathalltheatrical@gmail.com
GEO:40.1119867;-111.6552508
X-APPLE-STRUCTURED-LOCATION;VALUE=URI;X-ADDRESS=Angelus Theatre 165 N Main Spanish Fork UT 84660 United States;X-APPLE-RADIUS=500;X-TITLE=165 N Main:geo:-111.6552508,40.1119867
END:VEVENT
BEGIN:VEVENT
DTSTART;TZID=America/Denver:20240522T160000
DTEND;TZID=America/Denver:20240522T180000
DTSTAMP:20260421T175602
CREATED:20240206T003424Z
LAST-MODIFIED:20240206T003424Z
UID:10006526-1716393600-1716400800@angelustheatre.com
SUMMARY:Great Hall Youth Theatre
DESCRIPTION:Go to https://greathall.live/youth/ for more information about youth theatre classes.
URL:https://angelustheatre.com/event/great-hall-youth-theatre-2/2024-05-22/
LOCATION:Angelus Theatre\, 165 N Main\, Spanish Fork\, UT\, 84660\, United States
CATEGORIES:Classes
ORGANIZER;CN="Great Hall Theatrical":MAILTO:greathalltheatrical@gmail.com
GEO:40.1119867;-111.6552508
X-APPLE-STRUCTURED-LOCATION;VALUE=URI;X-ADDRESS=Angelus Theatre 165 N Main Spanish Fork UT 84660 United States;X-APPLE-RADIUS=500;X-TITLE=165 N Main:geo:-111.6552508,40.1119867
END:VEVENT
BEGIN:VEVENT
DTSTART;TZID=America/Denver:20240521T160000
DTEND;TZID=America/Denver:20240521T173000
DTSTAMP:20260421T175602
CREATED:20240206T000240Z
LAST-MODIFIED:20240206T003837Z
UID:10006503-1716307200-1716312600@angelustheatre.com
SUMMARY:Great Hall Youth Theatre
DESCRIPTION:Go to https://greathall.live/youth/ for more information about youth theatre classes.
URL:https://angelustheatre.com/event/great-hall-youth-theatre/2024-05-21/
LOCATION:Angelus Theatre\, 165 N Main\, Spanish Fork\, UT\, 84660\, United States
CATEGORIES:Classes
ORGANIZER;CN="Great Hall Theatrical":MAILTO:greathalltheatrical@gmail.com
GEO:40.1119867;-111.6552508
X-APPLE-STRUCTURED-LOCATION;VALUE=URI;X-ADDRESS=Angelus Theatre 165 N Main Spanish Fork UT 84660 United States;X-APPLE-RADIUS=500;X-TITLE=165 N Main:geo:-111.6552508,40.1119867
END:VEVENT
BEGIN:VEVENT
DTSTART;TZID=America/Denver:20240520T160000
DTEND;TZID=America/Denver:20240520T180000
DTSTAMP:20260421T175602
CREATED:20240206T004519Z
LAST-MODIFIED:20240206T004519Z
UID:10006591-1716220800-1716228000@angelustheatre.com
SUMMARY:Great Hall Youth Theatre
DESCRIPTION:Go to https://greathall.live/youth/ for more information about youth theatre classes.
URL:https://angelustheatre.com/event/great-hall-youth-theatre-5/2024-05-20/
LOCATION:Angelus Theatre\, 165 N Main\, Spanish Fork\, UT\, 84660\, United States
CATEGORIES:Classes
ORGANIZER;CN="Great Hall Theatrical":MAILTO:greathalltheatrical@gmail.com
GEO:40.1119867;-111.6552508
X-APPLE-STRUCTURED-LOCATION;VALUE=URI;X-ADDRESS=Angelus Theatre 165 N Main Spanish Fork UT 84660 United States;X-APPLE-RADIUS=500;X-TITLE=165 N Main:geo:-111.6552508,40.1119867
END:VEVENT
BEGIN:VEVENT
DTSTART;TZID=America/Denver:20240520T140000
DTEND;TZID=America/Denver:20240520T153000
DTSTAMP:20260421T175602
CREATED:20240223T032403Z
LAST-MODIFIED:20240223T032403Z
UID:10006743-1716213600-1716219000@angelustheatre.com
SUMMARY:Great Hall Youth Theatre
DESCRIPTION:Go to https://greathall.live/youth/ for more information about youth theatre classes.
URL:https://angelustheatre.com/event/great-hall-youth-theatre-8/2024-05-20/
LOCATION:Angelus Theatre\, 165 N Main\, Spanish Fork\, UT\, 84660\, United States
CATEGORIES:Classes
ORGANIZER;CN="Great Hall Theatrical":MAILTO:greathalltheatrical@gmail.com
GEO:40.1119867;-111.6552508
X-APPLE-STRUCTURED-LOCATION;VALUE=URI;X-ADDRESS=Angelus Theatre 165 N Main Spanish Fork UT 84660 United States;X-APPLE-RADIUS=500;X-TITLE=165 N Main:geo:-111.6552508,40.1119867
END:VEVENT
BEGIN:VEVENT
DTSTART;TZID=America/Denver:20240518T120000
DTEND;TZID=America/Denver:20240518T140000
DTSTAMP:20260421T175602
CREATED:20240228T011501Z
LAST-MODIFIED:20240228T011501Z
UID:10006899-1716033600-1716040800@angelustheatre.com
SUMMARY:Valhalla Youth Performance
DESCRIPTION:This musical celebration of Vikings\, knights\, and Norse mythology promises an epic experience for the whole family. Join Thor\, Odin\, the Valkyries\, and a talented cast for a journey through ancient Britain\, the high seas\, and the magical realm of the gods\, packed with adventure\, wonder\, and unforgettable music. Suitable for general audiences. \nGo to https://greathall.live/valhallaYouth for tickets and more information.
URL:https://angelustheatre.com/event/valhalla-youth-performance-3-2/
LOCATION:Angelus Theatre\, 165 N Main\, Spanish Fork\, UT\, 84660\, United States
CATEGORIES:Upcoming Performances
ATTACH;FMTTYPE=image/jpeg:https://angelustheatre.com/wp-content/uploads/2024/02/valhallaYouth.3549877.jpg
ORGANIZER;CN="Great Hall Theatrical":MAILTO:greathalltheatrical@gmail.com
GEO:40.1119867;-111.6552508
X-APPLE-STRUCTURED-LOCATION;VALUE=URI;X-ADDRESS=Angelus Theatre 165 N Main Spanish Fork UT 84660 United States;X-APPLE-RADIUS=500;X-TITLE=165 N Main:geo:-111.6552508,40.1119867
END:VEVENT
BEGIN:VEVENT
DTSTART;TZID=America/Denver:20240517T160000
DTEND;TZID=America/Denver:20240517T180000
DTSTAMP:20260421T175602
CREATED:20240206T005155Z
LAST-MODIFIED:20240206T005353Z
UID:10006632-1715961600-1715968800@angelustheatre.com
SUMMARY:Great Hall Youth Theatre
DESCRIPTION:Go to https://greathall.live/youth/ for more information about youth theatre classes.
URL:https://angelustheatre.com/event/great-hall-youth-theatre-3-3/2024-05-17/
LOCATION:Angelus Theatre\, 165 N Main\, Spanish Fork\, UT\, 84660\, United States
CATEGORIES:Classes
ORGANIZER;CN="Great Hall Theatrical":MAILTO:greathalltheatrical@gmail.com
GEO:40.1119867;-111.6552508
X-APPLE-STRUCTURED-LOCATION;VALUE=URI;X-ADDRESS=Angelus Theatre 165 N Main Spanish Fork UT 84660 United States;X-APPLE-RADIUS=500;X-TITLE=165 N Main:geo:-111.6552508,40.1119867
END:VEVENT
BEGIN:VEVENT
DTSTART;TZID=America/Denver:20240517T140000
DTEND;TZID=America/Denver:20240517T153000
DTSTAMP:20260421T175602
CREATED:20240221T204728Z
LAST-MODIFIED:20240221T204728Z
UID:10006659-1715954400-1715959800@angelustheatre.com
SUMMARY:Great Hall Youth Theatre
DESCRIPTION:Go to https://greathall.live/youth/ for more information about youth theatre classes.
URL:https://angelustheatre.com/event/great-hall-youth-theatre-3/2024-05-17/
LOCATION:Angelus Theatre\, 165 N Main\, Spanish Fork\, UT\, 84660\, United States
CATEGORIES:Classes
ORGANIZER;CN="Great Hall Theatrical":MAILTO:greathalltheatrical@gmail.com
GEO:40.1119867;-111.6552508
X-APPLE-STRUCTURED-LOCATION;VALUE=URI;X-ADDRESS=Angelus Theatre 165 N Main Spanish Fork UT 84660 United States;X-APPLE-RADIUS=500;X-TITLE=165 N Main:geo:-111.6552508,40.1119867
END:VEVENT
BEGIN:VEVENT
DTSTART;TZID=America/Denver:20240516T160000
DTEND;TZID=America/Denver:20240516T173000
DTSTAMP:20260421T175602
CREATED:20240206T005641Z
LAST-MODIFIED:20240206T005642Z
UID:10006611-1715875200-1715880600@angelustheatre.com
SUMMARY:Great Hall Youth Theatre
DESCRIPTION:Go to https://greathall.live/youth/ for more information about youth theatre classes.
URL:https://angelustheatre.com/event/great-hall-youth-theatre-3-2-2/2024-05-16/
LOCATION:Angelus Theatre\, 165 N Main\, Spanish Fork\, UT\, 84660\, United States
CATEGORIES:Classes
ORGANIZER;CN="Great Hall Theatrical":MAILTO:greathalltheatrical@gmail.com
GEO:40.1119867;-111.6552508
X-APPLE-STRUCTURED-LOCATION;VALUE=URI;X-ADDRESS=Angelus Theatre 165 N Main Spanish Fork UT 84660 United States;X-APPLE-RADIUS=500;X-TITLE=165 N Main:geo:-111.6552508,40.1119867
END:VEVENT
BEGIN:VEVENT
DTSTART;TZID=America/Denver:20240515T160000
DTEND;TZID=America/Denver:20240515T180000
DTSTAMP:20260421T175602
CREATED:20240206T003424Z
LAST-MODIFIED:20240206T003424Z
UID:10006525-1715788800-1715796000@angelustheatre.com
SUMMARY:Great Hall Youth Theatre
DESCRIPTION:Go to https://greathall.live/youth/ for more information about youth theatre classes.
URL:https://angelustheatre.com/event/great-hall-youth-theatre-2/2024-05-15/
LOCATION:Angelus Theatre\, 165 N Main\, Spanish Fork\, UT\, 84660\, United States
CATEGORIES:Classes
ORGANIZER;CN="Great Hall Theatrical":MAILTO:greathalltheatrical@gmail.com
GEO:40.1119867;-111.6552508
X-APPLE-STRUCTURED-LOCATION;VALUE=URI;X-ADDRESS=Angelus Theatre 165 N Main Spanish Fork UT 84660 United States;X-APPLE-RADIUS=500;X-TITLE=165 N Main:geo:-111.6552508,40.1119867
END:VEVENT
END:VCALENDAR