BEGIN:VCALENDAR
VERSION:2.0
PRODID:-//Angelus Theatre - ECPv6.15.13//NONSGML v1.0//EN
CALSCALE:GREGORIAN
METHOD:PUBLISH
X-ORIGINAL-URL:https://angelustheatre.com
X-WR-CALDESC:Events for Angelus Theatre
REFRESH-INTERVAL;VALUE=DURATION:PT1H
X-Robots-Tag:noindex
X-PUBLISHED-TTL:PT1H
BEGIN:VTIMEZONE
TZID:America/Denver
BEGIN:DAYLIGHT
TZOFFSETFROM:-0700
TZOFFSETTO:-0600
TZNAME:MDT
DTSTART:20230312T090000
END:DAYLIGHT
BEGIN:STANDARD
TZOFFSETFROM:-0600
TZOFFSETTO:-0700
TZNAME:MST
DTSTART:20231105T080000
END:STANDARD
BEGIN:DAYLIGHT
TZOFFSETFROM:-0700
TZOFFSETTO:-0600
TZNAME:MDT
DTSTART:20240310T090000
END:DAYLIGHT
BEGIN:STANDARD
TZOFFSETFROM:-0600
TZOFFSETTO:-0700
TZNAME:MST
DTSTART:20241103T080000
END:STANDARD
BEGIN:DAYLIGHT
TZOFFSETFROM:-0700
TZOFFSETTO:-0600
TZNAME:MDT
DTSTART:20250309T090000
END:DAYLIGHT
BEGIN:STANDARD
TZOFFSETFROM:-0600
TZOFFSETTO:-0700
TZNAME:MST
DTSTART:20251102T080000
END:STANDARD
END:VTIMEZONE
BEGIN:VEVENT
DTSTART;TZID=America/Denver:20240312T160000
DTEND;TZID=America/Denver:20240312T173000
DTSTAMP:20260422T185307
CREATED:20240206T000240Z
LAST-MODIFIED:20240206T003837Z
UID:10006493-1710259200-1710264600@angelustheatre.com
SUMMARY:Great Hall Youth Theatre
DESCRIPTION:Go to https://greathall.live/youth/ for more information about youth theatre classes.
URL:https://angelustheatre.com/event/great-hall-youth-theatre/2024-03-12/
LOCATION:Angelus Theatre\, 165 N Main\, Spanish Fork\, UT\, 84660\, United States
CATEGORIES:Classes
ORGANIZER;CN="Great Hall Theatrical":MAILTO:greathalltheatrical@gmail.com
GEO:40.1119867;-111.6552508
X-APPLE-STRUCTURED-LOCATION;VALUE=URI;X-ADDRESS=Angelus Theatre 165 N Main Spanish Fork UT 84660 United States;X-APPLE-RADIUS=500;X-TITLE=165 N Main:geo:-111.6552508,40.1119867
END:VEVENT
BEGIN:VEVENT
DTSTART;TZID=America/Denver:20240311T193000
DTEND;TZID=America/Denver:20240311T220000
DTSTAMP:20260422T185307
CREATED:20240103T054618Z
LAST-MODIFIED:20240124T003134Z
UID:10005017-1710185400-1710194400@angelustheatre.com
SUMMARY:Bums! the Musical
DESCRIPTION:Go to https://greathall.live/bums/ for tickets and information. \nSet just before the Great Depression\, Edward\, a daydreaming businessman\, puts his career on the line to pursue his passion of music\, but going against the grain brings on the resistance of his fiancée\, his family\, and the corporate world. Why won’t society just let him be a bum? Come for a good laugh and unforgettable music in this high-energy comedy featuring singing\, dancing bums and jazzy hits such as “Half-Eaten Burger”\, “The Corporate Gods”\, and “Boring\, Serious Businessman”.
URL:https://angelustheatre.com/event/bums-the-musical/2024-03-11/
LOCATION:Angelus Theatre\, 165 N Main\, Spanish Fork\, UT\, 84660\, United States
CATEGORIES:Upcoming Performances
ATTACH;FMTTYPE=image/jpeg:https://angelustheatre.com/wp-content/uploads/2024/01/bums.c195264.jpg
ORGANIZER;CN="Great Hall Theatrical":MAILTO:greathalltheatrical@gmail.com
GEO:40.1119867;-111.6552508
X-APPLE-STRUCTURED-LOCATION;VALUE=URI;X-ADDRESS=Angelus Theatre 165 N Main Spanish Fork UT 84660 United States;X-APPLE-RADIUS=500;X-TITLE=165 N Main:geo:-111.6552508,40.1119867
END:VEVENT
BEGIN:VEVENT
DTSTART;TZID=America/Denver:20240311T160000
DTEND;TZID=America/Denver:20240311T180000
DTSTAMP:20260422T185307
CREATED:20240206T004519Z
LAST-MODIFIED:20240206T004519Z
UID:10006581-1710172800-1710180000@angelustheatre.com
SUMMARY:Great Hall Youth Theatre
DESCRIPTION:Go to https://greathall.live/youth/ for more information about youth theatre classes.
URL:https://angelustheatre.com/event/great-hall-youth-theatre-5/2024-03-11/
LOCATION:Angelus Theatre\, 165 N Main\, Spanish Fork\, UT\, 84660\, United States
CATEGORIES:Classes
ORGANIZER;CN="Great Hall Theatrical":MAILTO:greathalltheatrical@gmail.com
GEO:40.1119867;-111.6552508
X-APPLE-STRUCTURED-LOCATION;VALUE=URI;X-ADDRESS=Angelus Theatre 165 N Main Spanish Fork UT 84660 United States;X-APPLE-RADIUS=500;X-TITLE=165 N Main:geo:-111.6552508,40.1119867
END:VEVENT
BEGIN:VEVENT
DTSTART;TZID=America/Denver:20240311T140000
DTEND;TZID=America/Denver:20240311T153000
DTSTAMP:20260422T185307
CREATED:20240223T032403Z
LAST-MODIFIED:20240223T032403Z
UID:10006733-1710165600-1710171000@angelustheatre.com
SUMMARY:Great Hall Youth Theatre
DESCRIPTION:Go to https://greathall.live/youth/ for more information about youth theatre classes.
URL:https://angelustheatre.com/event/great-hall-youth-theatre-8/2024-03-11/
LOCATION:Angelus Theatre\, 165 N Main\, Spanish Fork\, UT\, 84660\, United States
CATEGORIES:Classes
ORGANIZER;CN="Great Hall Theatrical":MAILTO:greathalltheatrical@gmail.com
GEO:40.1119867;-111.6552508
X-APPLE-STRUCTURED-LOCATION;VALUE=URI;X-ADDRESS=Angelus Theatre 165 N Main Spanish Fork UT 84660 United States;X-APPLE-RADIUS=500;X-TITLE=165 N Main:geo:-111.6552508,40.1119867
END:VEVENT
BEGIN:VEVENT
DTSTART;TZID=America/Denver:20240309T193000
DTEND;TZID=America/Denver:20240309T220000
DTSTAMP:20260422T185307
CREATED:20240103T054618Z
LAST-MODIFIED:20240124T003134Z
UID:10005016-1710012600-1710021600@angelustheatre.com
SUMMARY:Bums! the Musical
DESCRIPTION:Go to https://greathall.live/bums/ for tickets and information. \nSet just before the Great Depression\, Edward\, a daydreaming businessman\, puts his career on the line to pursue his passion of music\, but going against the grain brings on the resistance of his fiancée\, his family\, and the corporate world. Why won’t society just let him be a bum? Come for a good laugh and unforgettable music in this high-energy comedy featuring singing\, dancing bums and jazzy hits such as “Half-Eaten Burger”\, “The Corporate Gods”\, and “Boring\, Serious Businessman”.
URL:https://angelustheatre.com/event/bums-the-musical/2024-03-09/
LOCATION:Angelus Theatre\, 165 N Main\, Spanish Fork\, UT\, 84660\, United States
CATEGORIES:Upcoming Performances
ATTACH;FMTTYPE=image/jpeg:https://angelustheatre.com/wp-content/uploads/2024/01/bums.c195264.jpg
ORGANIZER;CN="Great Hall Theatrical":MAILTO:greathalltheatrical@gmail.com
GEO:40.1119867;-111.6552508
X-APPLE-STRUCTURED-LOCATION;VALUE=URI;X-ADDRESS=Angelus Theatre 165 N Main Spanish Fork UT 84660 United States;X-APPLE-RADIUS=500;X-TITLE=165 N Main:geo:-111.6552508,40.1119867
END:VEVENT
BEGIN:VEVENT
DTSTART;TZID=America/Denver:20240308T193000
DTEND;TZID=America/Denver:20240308T220000
DTSTAMP:20260422T185307
CREATED:20240103T054618Z
LAST-MODIFIED:20240124T003134Z
UID:10005015-1709926200-1709935200@angelustheatre.com
SUMMARY:Bums! the Musical
DESCRIPTION:Go to https://greathall.live/bums/ for tickets and information. \nSet just before the Great Depression\, Edward\, a daydreaming businessman\, puts his career on the line to pursue his passion of music\, but going against the grain brings on the resistance of his fiancée\, his family\, and the corporate world. Why won’t society just let him be a bum? Come for a good laugh and unforgettable music in this high-energy comedy featuring singing\, dancing bums and jazzy hits such as “Half-Eaten Burger”\, “The Corporate Gods”\, and “Boring\, Serious Businessman”.
URL:https://angelustheatre.com/event/bums-the-musical/2024-03-08/
LOCATION:Angelus Theatre\, 165 N Main\, Spanish Fork\, UT\, 84660\, United States
CATEGORIES:Upcoming Performances
ATTACH;FMTTYPE=image/jpeg:https://angelustheatre.com/wp-content/uploads/2024/01/bums.c195264.jpg
ORGANIZER;CN="Great Hall Theatrical":MAILTO:greathalltheatrical@gmail.com
GEO:40.1119867;-111.6552508
X-APPLE-STRUCTURED-LOCATION;VALUE=URI;X-ADDRESS=Angelus Theatre 165 N Main Spanish Fork UT 84660 United States;X-APPLE-RADIUS=500;X-TITLE=165 N Main:geo:-111.6552508,40.1119867
END:VEVENT
BEGIN:VEVENT
DTSTART;TZID=America/Denver:20240308T160000
DTEND;TZID=America/Denver:20240308T180000
DTSTAMP:20260422T185307
CREATED:20240206T005155Z
LAST-MODIFIED:20240206T005353Z
UID:10006622-1709913600-1709920800@angelustheatre.com
SUMMARY:Great Hall Youth Theatre
DESCRIPTION:Go to https://greathall.live/youth/ for more information about youth theatre classes.
URL:https://angelustheatre.com/event/great-hall-youth-theatre-3-3/2024-03-08/
LOCATION:Angelus Theatre\, 165 N Main\, Spanish Fork\, UT\, 84660\, United States
CATEGORIES:Classes
ORGANIZER;CN="Great Hall Theatrical":MAILTO:greathalltheatrical@gmail.com
GEO:40.1119867;-111.6552508
X-APPLE-STRUCTURED-LOCATION;VALUE=URI;X-ADDRESS=Angelus Theatre 165 N Main Spanish Fork UT 84660 United States;X-APPLE-RADIUS=500;X-TITLE=165 N Main:geo:-111.6552508,40.1119867
END:VEVENT
BEGIN:VEVENT
DTSTART;TZID=America/Denver:20240308T140000
DTEND;TZID=America/Denver:20240308T153000
DTSTAMP:20260422T185307
CREATED:20240221T204728Z
LAST-MODIFIED:20240221T204728Z
UID:10006649-1709906400-1709911800@angelustheatre.com
SUMMARY:Great Hall Youth Theatre
DESCRIPTION:Go to https://greathall.live/youth/ for more information about youth theatre classes.
URL:https://angelustheatre.com/event/great-hall-youth-theatre-3/2024-03-08/
LOCATION:Angelus Theatre\, 165 N Main\, Spanish Fork\, UT\, 84660\, United States
CATEGORIES:Classes
ORGANIZER;CN="Great Hall Theatrical":MAILTO:greathalltheatrical@gmail.com
GEO:40.1119867;-111.6552508
X-APPLE-STRUCTURED-LOCATION;VALUE=URI;X-ADDRESS=Angelus Theatre 165 N Main Spanish Fork UT 84660 United States;X-APPLE-RADIUS=500;X-TITLE=165 N Main:geo:-111.6552508,40.1119867
END:VEVENT
BEGIN:VEVENT
DTSTART;TZID=America/Denver:20240307T193000
DTEND;TZID=America/Denver:20240307T220000
DTSTAMP:20260422T185307
CREATED:20240103T054618Z
LAST-MODIFIED:20240124T003134Z
UID:10005014-1709839800-1709848800@angelustheatre.com
SUMMARY:Bums! the Musical
DESCRIPTION:Go to https://greathall.live/bums/ for tickets and information. \nSet just before the Great Depression\, Edward\, a daydreaming businessman\, puts his career on the line to pursue his passion of music\, but going against the grain brings on the resistance of his fiancée\, his family\, and the corporate world. Why won’t society just let him be a bum? Come for a good laugh and unforgettable music in this high-energy comedy featuring singing\, dancing bums and jazzy hits such as “Half-Eaten Burger”\, “The Corporate Gods”\, and “Boring\, Serious Businessman”.
URL:https://angelustheatre.com/event/bums-the-musical/2024-03-07/
LOCATION:Angelus Theatre\, 165 N Main\, Spanish Fork\, UT\, 84660\, United States
CATEGORIES:Upcoming Performances
ATTACH;FMTTYPE=image/jpeg:https://angelustheatre.com/wp-content/uploads/2024/01/bums.c195264.jpg
ORGANIZER;CN="Great Hall Theatrical":MAILTO:greathalltheatrical@gmail.com
GEO:40.1119867;-111.6552508
X-APPLE-STRUCTURED-LOCATION;VALUE=URI;X-ADDRESS=Angelus Theatre 165 N Main Spanish Fork UT 84660 United States;X-APPLE-RADIUS=500;X-TITLE=165 N Main:geo:-111.6552508,40.1119867
END:VEVENT
BEGIN:VEVENT
DTSTART;TZID=America/Denver:20240307T160000
DTEND;TZID=America/Denver:20240307T173000
DTSTAMP:20260422T185307
CREATED:20240206T005641Z
LAST-MODIFIED:20240206T005642Z
UID:10006601-1709827200-1709832600@angelustheatre.com
SUMMARY:Great Hall Youth Theatre
DESCRIPTION:Go to https://greathall.live/youth/ for more information about youth theatre classes.
URL:https://angelustheatre.com/event/great-hall-youth-theatre-3-2-2/2024-03-07/
LOCATION:Angelus Theatre\, 165 N Main\, Spanish Fork\, UT\, 84660\, United States
CATEGORIES:Classes
ORGANIZER;CN="Great Hall Theatrical":MAILTO:greathalltheatrical@gmail.com
GEO:40.1119867;-111.6552508
X-APPLE-STRUCTURED-LOCATION;VALUE=URI;X-ADDRESS=Angelus Theatre 165 N Main Spanish Fork UT 84660 United States;X-APPLE-RADIUS=500;X-TITLE=165 N Main:geo:-111.6552508,40.1119867
END:VEVENT
BEGIN:VEVENT
DTSTART;TZID=America/Denver:20240306T160000
DTEND;TZID=America/Denver:20240306T180000
DTSTAMP:20260422T185307
CREATED:20240206T003424Z
LAST-MODIFIED:20240206T003424Z
UID:10006515-1709740800-1709748000@angelustheatre.com
SUMMARY:Great Hall Youth Theatre
DESCRIPTION:Go to https://greathall.live/youth/ for more information about youth theatre classes.
URL:https://angelustheatre.com/event/great-hall-youth-theatre-2/2024-03-06/
LOCATION:Angelus Theatre\, 165 N Main\, Spanish Fork\, UT\, 84660\, United States
CATEGORIES:Classes
ORGANIZER;CN="Great Hall Theatrical":MAILTO:greathalltheatrical@gmail.com
GEO:40.1119867;-111.6552508
X-APPLE-STRUCTURED-LOCATION;VALUE=URI;X-ADDRESS=Angelus Theatre 165 N Main Spanish Fork UT 84660 United States;X-APPLE-RADIUS=500;X-TITLE=165 N Main:geo:-111.6552508,40.1119867
END:VEVENT
BEGIN:VEVENT
DTSTART;TZID=America/Denver:20240305T160000
DTEND;TZID=America/Denver:20240305T173000
DTSTAMP:20260422T185307
CREATED:20240206T000240Z
LAST-MODIFIED:20240206T003837Z
UID:10006492-1709654400-1709659800@angelustheatre.com
SUMMARY:Great Hall Youth Theatre
DESCRIPTION:Go to https://greathall.live/youth/ for more information about youth theatre classes.
URL:https://angelustheatre.com/event/great-hall-youth-theatre/2024-03-05/
LOCATION:Angelus Theatre\, 165 N Main\, Spanish Fork\, UT\, 84660\, United States
CATEGORIES:Classes
ORGANIZER;CN="Great Hall Theatrical":MAILTO:greathalltheatrical@gmail.com
GEO:40.1119867;-111.6552508
X-APPLE-STRUCTURED-LOCATION;VALUE=URI;X-ADDRESS=Angelus Theatre 165 N Main Spanish Fork UT 84660 United States;X-APPLE-RADIUS=500;X-TITLE=165 N Main:geo:-111.6552508,40.1119867
END:VEVENT
BEGIN:VEVENT
DTSTART;TZID=America/Denver:20240304T193000
DTEND;TZID=America/Denver:20240304T220000
DTSTAMP:20260422T185307
CREATED:20240103T054618Z
LAST-MODIFIED:20240124T003134Z
UID:10005013-1709580600-1709589600@angelustheatre.com
SUMMARY:Bums! the Musical
DESCRIPTION:Go to https://greathall.live/bums/ for tickets and information. \nSet just before the Great Depression\, Edward\, a daydreaming businessman\, puts his career on the line to pursue his passion of music\, but going against the grain brings on the resistance of his fiancée\, his family\, and the corporate world. Why won’t society just let him be a bum? Come for a good laugh and unforgettable music in this high-energy comedy featuring singing\, dancing bums and jazzy hits such as “Half-Eaten Burger”\, “The Corporate Gods”\, and “Boring\, Serious Businessman”.
URL:https://angelustheatre.com/event/bums-the-musical/2024-03-04/
LOCATION:Angelus Theatre\, 165 N Main\, Spanish Fork\, UT\, 84660\, United States
CATEGORIES:Upcoming Performances
ATTACH;FMTTYPE=image/jpeg:https://angelustheatre.com/wp-content/uploads/2024/01/bums.c195264.jpg
ORGANIZER;CN="Great Hall Theatrical":MAILTO:greathalltheatrical@gmail.com
GEO:40.1119867;-111.6552508
X-APPLE-STRUCTURED-LOCATION;VALUE=URI;X-ADDRESS=Angelus Theatre 165 N Main Spanish Fork UT 84660 United States;X-APPLE-RADIUS=500;X-TITLE=165 N Main:geo:-111.6552508,40.1119867
END:VEVENT
BEGIN:VEVENT
DTSTART;TZID=America/Denver:20240304T160000
DTEND;TZID=America/Denver:20240304T180000
DTSTAMP:20260422T185307
CREATED:20240206T004519Z
LAST-MODIFIED:20240206T004519Z
UID:10006580-1709568000-1709575200@angelustheatre.com
SUMMARY:Great Hall Youth Theatre
DESCRIPTION:Go to https://greathall.live/youth/ for more information about youth theatre classes.
URL:https://angelustheatre.com/event/great-hall-youth-theatre-5/2024-03-04/
LOCATION:Angelus Theatre\, 165 N Main\, Spanish Fork\, UT\, 84660\, United States
CATEGORIES:Classes
ORGANIZER;CN="Great Hall Theatrical":MAILTO:greathalltheatrical@gmail.com
GEO:40.1119867;-111.6552508
X-APPLE-STRUCTURED-LOCATION;VALUE=URI;X-ADDRESS=Angelus Theatre 165 N Main Spanish Fork UT 84660 United States;X-APPLE-RADIUS=500;X-TITLE=165 N Main:geo:-111.6552508,40.1119867
END:VEVENT
BEGIN:VEVENT
DTSTART;TZID=America/Denver:20240304T140000
DTEND;TZID=America/Denver:20240304T153000
DTSTAMP:20260422T185307
CREATED:20240223T032403Z
LAST-MODIFIED:20240223T032403Z
UID:10006732-1709560800-1709566200@angelustheatre.com
SUMMARY:Great Hall Youth Theatre
DESCRIPTION:Go to https://greathall.live/youth/ for more information about youth theatre classes.
URL:https://angelustheatre.com/event/great-hall-youth-theatre-8/2024-03-04/
LOCATION:Angelus Theatre\, 165 N Main\, Spanish Fork\, UT\, 84660\, United States
CATEGORIES:Classes
ORGANIZER;CN="Great Hall Theatrical":MAILTO:greathalltheatrical@gmail.com
GEO:40.1119867;-111.6552508
X-APPLE-STRUCTURED-LOCATION;VALUE=URI;X-ADDRESS=Angelus Theatre 165 N Main Spanish Fork UT 84660 United States;X-APPLE-RADIUS=500;X-TITLE=165 N Main:geo:-111.6552508,40.1119867
END:VEVENT
BEGIN:VEVENT
DTSTART;TZID=America/Denver:20240302T090000
DTEND;TZID=America/Denver:20240302T160000
DTSTAMP:20260422T185307
CREATED:20240103T034645Z
LAST-MODIFIED:20240103T055313Z
UID:10005011-1709370000-1709395200@angelustheatre.com
SUMMARY:Rehearsal for Bums the Musical
DESCRIPTION:Tickets and more information at https://greathall.live/bums/
URL:https://angelustheatre.com/event/rehearsal-for-bums-the-musical/2024-03-02/
LOCATION:Angelus Theatre\, 165 N Main\, Spanish Fork\, UT\, 84660\, United States
CATEGORIES:Private Rehearsal
ATTACH;FMTTYPE=image/jpeg:https://angelustheatre.com/wp-content/uploads/2024/01/bums.c195264.jpg
ORGANIZER;CN="Great Hall Theatrical":MAILTO:greathalltheatrical@gmail.com
GEO:40.1119867;-111.6552508
X-APPLE-STRUCTURED-LOCATION;VALUE=URI;X-ADDRESS=Angelus Theatre 165 N Main Spanish Fork UT 84660 United States;X-APPLE-RADIUS=500;X-TITLE=165 N Main:geo:-111.6552508,40.1119867
END:VEVENT
BEGIN:VEVENT
DTSTART;TZID=America/Denver:20240301T183000
DTEND;TZID=America/Denver:20240301T213000
DTSTAMP:20260422T185307
CREATED:20240103T034645Z
LAST-MODIFIED:20240103T055313Z
UID:10005229-1709317800-1709328600@angelustheatre.com
SUMMARY:Rehearsal for Bums the Musical
DESCRIPTION:Tickets and more information at https://greathall.live/bums/
URL:https://angelustheatre.com/event/rehearsal-for-bums-the-musical/2024-03-01/
LOCATION:Angelus Theatre\, 165 N Main\, Spanish Fork\, UT\, 84660\, United States
CATEGORIES:Private Rehearsal
ATTACH;FMTTYPE=image/jpeg:https://angelustheatre.com/wp-content/uploads/2024/01/bums.c195264.jpg
ORGANIZER;CN="Great Hall Theatrical":MAILTO:greathalltheatrical@gmail.com
GEO:40.1119867;-111.6552508
X-APPLE-STRUCTURED-LOCATION;VALUE=URI;X-ADDRESS=Angelus Theatre 165 N Main Spanish Fork UT 84660 United States;X-APPLE-RADIUS=500;X-TITLE=165 N Main:geo:-111.6552508,40.1119867
END:VEVENT
BEGIN:VEVENT
DTSTART;TZID=America/Denver:20240301T160000
DTEND;TZID=America/Denver:20240301T180000
DTSTAMP:20260422T185307
CREATED:20240206T005155Z
LAST-MODIFIED:20240206T005353Z
UID:10006621-1709308800-1709316000@angelustheatre.com
SUMMARY:Great Hall Youth Theatre
DESCRIPTION:Go to https://greathall.live/youth/ for more information about youth theatre classes.
URL:https://angelustheatre.com/event/great-hall-youth-theatre-3-3/2024-03-01/
LOCATION:Angelus Theatre\, 165 N Main\, Spanish Fork\, UT\, 84660\, United States
CATEGORIES:Classes
ORGANIZER;CN="Great Hall Theatrical":MAILTO:greathalltheatrical@gmail.com
GEO:40.1119867;-111.6552508
X-APPLE-STRUCTURED-LOCATION;VALUE=URI;X-ADDRESS=Angelus Theatre 165 N Main Spanish Fork UT 84660 United States;X-APPLE-RADIUS=500;X-TITLE=165 N Main:geo:-111.6552508,40.1119867
END:VEVENT
BEGIN:VEVENT
DTSTART;TZID=America/Denver:20240301T140000
DTEND;TZID=America/Denver:20240301T153000
DTSTAMP:20260422T185307
CREATED:20240221T204728Z
LAST-MODIFIED:20240221T204728Z
UID:10006648-1709301600-1709307000@angelustheatre.com
SUMMARY:Great Hall Youth Theatre
DESCRIPTION:Go to https://greathall.live/youth/ for more information about youth theatre classes.
URL:https://angelustheatre.com/event/great-hall-youth-theatre-3/2024-03-01/
LOCATION:Angelus Theatre\, 165 N Main\, Spanish Fork\, UT\, 84660\, United States
CATEGORIES:Classes
ORGANIZER;CN="Great Hall Theatrical":MAILTO:greathalltheatrical@gmail.com
GEO:40.1119867;-111.6552508
X-APPLE-STRUCTURED-LOCATION;VALUE=URI;X-ADDRESS=Angelus Theatre 165 N Main Spanish Fork UT 84660 United States;X-APPLE-RADIUS=500;X-TITLE=165 N Main:geo:-111.6552508,40.1119867
END:VEVENT
BEGIN:VEVENT
DTSTART;TZID=America/Denver:20240229T183000
DTEND;TZID=America/Denver:20240229T213000
DTSTAMP:20260422T185307
CREATED:20240103T034645Z
LAST-MODIFIED:20240103T055313Z
UID:10005010-1709231400-1709242200@angelustheatre.com
SUMMARY:Rehearsal for Bums the Musical
DESCRIPTION:Tickets and more information at https://greathall.live/bums/
URL:https://angelustheatre.com/event/rehearsal-for-bums-the-musical/2024-02-29/
LOCATION:Angelus Theatre\, 165 N Main\, Spanish Fork\, UT\, 84660\, United States
CATEGORIES:Private Rehearsal
ATTACH;FMTTYPE=image/jpeg:https://angelustheatre.com/wp-content/uploads/2024/01/bums.c195264.jpg
ORGANIZER;CN="Great Hall Theatrical":MAILTO:greathalltheatrical@gmail.com
GEO:40.1119867;-111.6552508
X-APPLE-STRUCTURED-LOCATION;VALUE=URI;X-ADDRESS=Angelus Theatre 165 N Main Spanish Fork UT 84660 United States;X-APPLE-RADIUS=500;X-TITLE=165 N Main:geo:-111.6552508,40.1119867
END:VEVENT
BEGIN:VEVENT
DTSTART;TZID=America/Denver:20240229T160000
DTEND;TZID=America/Denver:20240229T173000
DTSTAMP:20260422T185307
CREATED:20240206T005641Z
LAST-MODIFIED:20240206T005642Z
UID:10006600-1709222400-1709227800@angelustheatre.com
SUMMARY:Great Hall Youth Theatre
DESCRIPTION:Go to https://greathall.live/youth/ for more information about youth theatre classes.
URL:https://angelustheatre.com/event/great-hall-youth-theatre-3-2-2/2024-02-29/
LOCATION:Angelus Theatre\, 165 N Main\, Spanish Fork\, UT\, 84660\, United States
CATEGORIES:Classes
ORGANIZER;CN="Great Hall Theatrical":MAILTO:greathalltheatrical@gmail.com
GEO:40.1119867;-111.6552508
X-APPLE-STRUCTURED-LOCATION;VALUE=URI;X-ADDRESS=Angelus Theatre 165 N Main Spanish Fork UT 84660 United States;X-APPLE-RADIUS=500;X-TITLE=165 N Main:geo:-111.6552508,40.1119867
END:VEVENT
BEGIN:VEVENT
DTSTART;TZID=America/Denver:20240228T183000
DTEND;TZID=America/Denver:20240228T213000
DTSTAMP:20260422T185307
CREATED:20240103T034645Z
LAST-MODIFIED:20240103T055313Z
UID:10005009-1709145000-1709155800@angelustheatre.com
SUMMARY:Rehearsal for Bums the Musical
DESCRIPTION:Tickets and more information at https://greathall.live/bums/
URL:https://angelustheatre.com/event/rehearsal-for-bums-the-musical/2024-02-28/
LOCATION:Angelus Theatre\, 165 N Main\, Spanish Fork\, UT\, 84660\, United States
CATEGORIES:Private Rehearsal
ATTACH;FMTTYPE=image/jpeg:https://angelustheatre.com/wp-content/uploads/2024/01/bums.c195264.jpg
ORGANIZER;CN="Great Hall Theatrical":MAILTO:greathalltheatrical@gmail.com
GEO:40.1119867;-111.6552508
X-APPLE-STRUCTURED-LOCATION;VALUE=URI;X-ADDRESS=Angelus Theatre 165 N Main Spanish Fork UT 84660 United States;X-APPLE-RADIUS=500;X-TITLE=165 N Main:geo:-111.6552508,40.1119867
END:VEVENT
BEGIN:VEVENT
DTSTART;TZID=America/Denver:20240228T160000
DTEND;TZID=America/Denver:20240228T180000
DTSTAMP:20260422T185307
CREATED:20240206T003424Z
LAST-MODIFIED:20240206T003424Z
UID:10006514-1709136000-1709143200@angelustheatre.com
SUMMARY:Great Hall Youth Theatre
DESCRIPTION:Go to https://greathall.live/youth/ for more information about youth theatre classes.
URL:https://angelustheatre.com/event/great-hall-youth-theatre-2/2024-02-28/
LOCATION:Angelus Theatre\, 165 N Main\, Spanish Fork\, UT\, 84660\, United States
CATEGORIES:Classes
ORGANIZER;CN="Great Hall Theatrical":MAILTO:greathalltheatrical@gmail.com
GEO:40.1119867;-111.6552508
X-APPLE-STRUCTURED-LOCATION;VALUE=URI;X-ADDRESS=Angelus Theatre 165 N Main Spanish Fork UT 84660 United States;X-APPLE-RADIUS=500;X-TITLE=165 N Main:geo:-111.6552508,40.1119867
END:VEVENT
BEGIN:VEVENT
DTSTART;TZID=America/Denver:20240227T183000
DTEND;TZID=America/Denver:20240227T213000
DTSTAMP:20260422T185307
CREATED:20240103T034645Z
LAST-MODIFIED:20240103T055313Z
UID:10005008-1709058600-1709069400@angelustheatre.com
SUMMARY:Rehearsal for Bums the Musical
DESCRIPTION:Tickets and more information at https://greathall.live/bums/
URL:https://angelustheatre.com/event/rehearsal-for-bums-the-musical/2024-02-27/
LOCATION:Angelus Theatre\, 165 N Main\, Spanish Fork\, UT\, 84660\, United States
CATEGORIES:Private Rehearsal
ATTACH;FMTTYPE=image/jpeg:https://angelustheatre.com/wp-content/uploads/2024/01/bums.c195264.jpg
ORGANIZER;CN="Great Hall Theatrical":MAILTO:greathalltheatrical@gmail.com
GEO:40.1119867;-111.6552508
X-APPLE-STRUCTURED-LOCATION;VALUE=URI;X-ADDRESS=Angelus Theatre 165 N Main Spanish Fork UT 84660 United States;X-APPLE-RADIUS=500;X-TITLE=165 N Main:geo:-111.6552508,40.1119867
END:VEVENT
BEGIN:VEVENT
DTSTART;TZID=America/Denver:20240227T160000
DTEND;TZID=America/Denver:20240227T173000
DTSTAMP:20260422T185307
CREATED:20240206T000240Z
LAST-MODIFIED:20240206T003837Z
UID:10006491-1709049600-1709055000@angelustheatre.com
SUMMARY:Great Hall Youth Theatre
DESCRIPTION:Go to https://greathall.live/youth/ for more information about youth theatre classes.
URL:https://angelustheatre.com/event/great-hall-youth-theatre/2024-02-27/
LOCATION:Angelus Theatre\, 165 N Main\, Spanish Fork\, UT\, 84660\, United States
CATEGORIES:Classes
ORGANIZER;CN="Great Hall Theatrical":MAILTO:greathalltheatrical@gmail.com
GEO:40.1119867;-111.6552508
X-APPLE-STRUCTURED-LOCATION;VALUE=URI;X-ADDRESS=Angelus Theatre 165 N Main Spanish Fork UT 84660 United States;X-APPLE-RADIUS=500;X-TITLE=165 N Main:geo:-111.6552508,40.1119867
END:VEVENT
BEGIN:VEVENT
DTSTART;TZID=America/Denver:20240226T183000
DTEND;TZID=America/Denver:20240226T213000
DTSTAMP:20260422T185307
CREATED:20240103T034645Z
LAST-MODIFIED:20240103T055313Z
UID:10005007-1708972200-1708983000@angelustheatre.com
SUMMARY:Rehearsal for Bums the Musical
DESCRIPTION:Tickets and more information at https://greathall.live/bums/
URL:https://angelustheatre.com/event/rehearsal-for-bums-the-musical/2024-02-26/
LOCATION:Angelus Theatre\, 165 N Main\, Spanish Fork\, UT\, 84660\, United States
CATEGORIES:Private Rehearsal
ATTACH;FMTTYPE=image/jpeg:https://angelustheatre.com/wp-content/uploads/2024/01/bums.c195264.jpg
ORGANIZER;CN="Great Hall Theatrical":MAILTO:greathalltheatrical@gmail.com
GEO:40.1119867;-111.6552508
X-APPLE-STRUCTURED-LOCATION;VALUE=URI;X-ADDRESS=Angelus Theatre 165 N Main Spanish Fork UT 84660 United States;X-APPLE-RADIUS=500;X-TITLE=165 N Main:geo:-111.6552508,40.1119867
END:VEVENT
BEGIN:VEVENT
DTSTART;TZID=America/Denver:20240226T160000
DTEND;TZID=America/Denver:20240226T180000
DTSTAMP:20260422T185307
CREATED:20240206T004519Z
LAST-MODIFIED:20240206T004519Z
UID:10006579-1708963200-1708970400@angelustheatre.com
SUMMARY:Great Hall Youth Theatre
DESCRIPTION:Go to https://greathall.live/youth/ for more information about youth theatre classes.
URL:https://angelustheatre.com/event/great-hall-youth-theatre-5/2024-02-26/
LOCATION:Angelus Theatre\, 165 N Main\, Spanish Fork\, UT\, 84660\, United States
CATEGORIES:Classes
ORGANIZER;CN="Great Hall Theatrical":MAILTO:greathalltheatrical@gmail.com
GEO:40.1119867;-111.6552508
X-APPLE-STRUCTURED-LOCATION;VALUE=URI;X-ADDRESS=Angelus Theatre 165 N Main Spanish Fork UT 84660 United States;X-APPLE-RADIUS=500;X-TITLE=165 N Main:geo:-111.6552508,40.1119867
END:VEVENT
BEGIN:VEVENT
DTSTART;TZID=America/Denver:20240226T140000
DTEND;TZID=America/Denver:20240226T153000
DTSTAMP:20260422T185307
CREATED:20240223T032403Z
LAST-MODIFIED:20240223T032403Z
UID:10006731-1708956000-1708961400@angelustheatre.com
SUMMARY:Great Hall Youth Theatre
DESCRIPTION:Go to https://greathall.live/youth/ for more information about youth theatre classes.
URL:https://angelustheatre.com/event/great-hall-youth-theatre-8/2024-02-26/
LOCATION:Angelus Theatre\, 165 N Main\, Spanish Fork\, UT\, 84660\, United States
CATEGORIES:Classes
ORGANIZER;CN="Great Hall Theatrical":MAILTO:greathalltheatrical@gmail.com
GEO:40.1119867;-111.6552508
X-APPLE-STRUCTURED-LOCATION;VALUE=URI;X-ADDRESS=Angelus Theatre 165 N Main Spanish Fork UT 84660 United States;X-APPLE-RADIUS=500;X-TITLE=165 N Main:geo:-111.6552508,40.1119867
END:VEVENT
BEGIN:VEVENT
DTSTART;TZID=America/Denver:20240224T090000
DTEND;TZID=America/Denver:20240224T160000
DTSTAMP:20260422T185307
CREATED:20240103T034645Z
LAST-MODIFIED:20240103T055313Z
UID:10005006-1708765200-1708790400@angelustheatre.com
SUMMARY:Rehearsal for Bums the Musical
DESCRIPTION:Tickets and more information at https://greathall.live/bums/
URL:https://angelustheatre.com/event/rehearsal-for-bums-the-musical/2024-02-24/
LOCATION:Angelus Theatre\, 165 N Main\, Spanish Fork\, UT\, 84660\, United States
CATEGORIES:Private Rehearsal
ATTACH;FMTTYPE=image/jpeg:https://angelustheatre.com/wp-content/uploads/2024/01/bums.c195264.jpg
ORGANIZER;CN="Great Hall Theatrical":MAILTO:greathalltheatrical@gmail.com
GEO:40.1119867;-111.6552508
X-APPLE-STRUCTURED-LOCATION;VALUE=URI;X-ADDRESS=Angelus Theatre 165 N Main Spanish Fork UT 84660 United States;X-APPLE-RADIUS=500;X-TITLE=165 N Main:geo:-111.6552508,40.1119867
END:VEVENT
BEGIN:VEVENT
DTSTART;TZID=America/Denver:20240223T160000
DTEND;TZID=America/Denver:20240223T180000
DTSTAMP:20260422T185307
CREATED:20240206T005155Z
LAST-MODIFIED:20240206T005353Z
UID:10006620-1708704000-1708711200@angelustheatre.com
SUMMARY:Great Hall Youth Theatre
DESCRIPTION:Go to https://greathall.live/youth/ for more information about youth theatre classes.
URL:https://angelustheatre.com/event/great-hall-youth-theatre-3-3/2024-02-23/
LOCATION:Angelus Theatre\, 165 N Main\, Spanish Fork\, UT\, 84660\, United States
CATEGORIES:Classes
ORGANIZER;CN="Great Hall Theatrical":MAILTO:greathalltheatrical@gmail.com
GEO:40.1119867;-111.6552508
X-APPLE-STRUCTURED-LOCATION;VALUE=URI;X-ADDRESS=Angelus Theatre 165 N Main Spanish Fork UT 84660 United States;X-APPLE-RADIUS=500;X-TITLE=165 N Main:geo:-111.6552508,40.1119867
END:VEVENT
END:VCALENDAR